BEGIN:VCALENDAR
VERSION:2.0
PRODID:-//Gmender Fasnet e.V. - ECPv6.15.20//NONSGML v1.0//EN
CALSCALE:GREGORIAN
METHOD:PUBLISH
X-ORIGINAL-URL:https://www.gmender-fasnet.de
X-WR-CALDESC:Veranstaltungen für Gmender Fasnet e.V.
REFRESH-INTERVAL;VALUE=DURATION:PT1H
X-Robots-Tag:noindex
X-PUBLISHED-TTL:PT1H
BEGIN:VTIMEZONE
TZID:Europe/Berlin
BEGIN:DAYLIGHT
TZOFFSETFROM:+0100
TZOFFSETTO:+0200
TZNAME:CEST
DTSTART:20230326T010000
END:DAYLIGHT
BEGIN:STANDARD
TZOFFSETFROM:+0200
TZOFFSETTO:+0100
TZNAME:CET
DTSTART:20231029T010000
END:STANDARD
BEGIN:DAYLIGHT
TZOFFSETFROM:+0100
TZOFFSETTO:+0200
TZNAME:CEST
DTSTART:20240331T010000
END:DAYLIGHT
BEGIN:STANDARD
TZOFFSETFROM:+0200
TZOFFSETTO:+0100
TZNAME:CET
DTSTART:20241027T010000
END:STANDARD
BEGIN:DAYLIGHT
TZOFFSETFROM:+0100
TZOFFSETTO:+0200
TZNAME:CEST
DTSTART:20250330T010000
END:DAYLIGHT
BEGIN:STANDARD
TZOFFSETFROM:+0200
TZOFFSETTO:+0100
TZNAME:CET
DTSTART:20251026T010000
END:STANDARD
END:VTIMEZONE
BEGIN:VEVENT
DTSTART;TZID=Europe/Berlin:20240210T143000
DTEND;TZID=Europe/Berlin:20240210T170000
DTSTAMP:20260422T120103
CREATED:20231224T145241Z
LAST-MODIFIED:20240103T084104Z
UID:10000034-1707575400-1707584400@www.gmender-fasnet.de
SUMMARY:Umzug - Waiblingen
DESCRIPTION:Laufnummer 15b. \nÄnderungen vorbehalten.
URL:https://www.gmender-fasnet.de/event/umzug-waiblingen/
LOCATION:Innenstadt Waiblingen\, Waiblingen\, Baden-Württemberg\, 71332\, Deutschland
CATEGORIES:Gmünder Hüpfer,Hofstaat,Orga-Team,Prinzengarde,Stöpselgarde,Tanzteufel,Vorstandschaft
ATTACH;FMTTYPE=image/jpeg:https://www.gmender-fasnet.de/wp-content/uploads/2023/12/361934148_234727782812070_8494707660661071784_n.jpg
ORGANIZER;CN="1. Waiblinger Faschingsgesellschaft e.V.":MAILTO:praesident@1-wfg.de
END:VEVENT
END:VCALENDAR