BEGIN:VCALENDAR
VERSION:2.0
PRODID:-//Gmender Fasnet e.V. - ECPv6.15.20//NONSGML v1.0//EN
CALSCALE:GREGORIAN
METHOD:PUBLISH
X-WR-CALNAME:Gmender Fasnet e.V.
X-ORIGINAL-URL:https://www.gmender-fasnet.de
X-WR-CALDESC:Veranstaltungen für Gmender Fasnet e.V.
REFRESH-INTERVAL;VALUE=DURATION:PT1H
X-Robots-Tag:noindex
X-PUBLISHED-TTL:PT1H
BEGIN:VTIMEZONE
TZID:Europe/Berlin
BEGIN:DAYLIGHT
TZOFFSETFROM:+0100
TZOFFSETTO:+0200
TZNAME:CEST
DTSTART:20230326T010000
END:DAYLIGHT
BEGIN:STANDARD
TZOFFSETFROM:+0200
TZOFFSETTO:+0100
TZNAME:CET
DTSTART:20231029T010000
END:STANDARD
BEGIN:DAYLIGHT
TZOFFSETFROM:+0100
TZOFFSETTO:+0200
TZNAME:CEST
DTSTART:20240331T010000
END:DAYLIGHT
BEGIN:STANDARD
TZOFFSETFROM:+0200
TZOFFSETTO:+0100
TZNAME:CET
DTSTART:20241027T010000
END:STANDARD
BEGIN:DAYLIGHT
TZOFFSETFROM:+0100
TZOFFSETTO:+0200
TZNAME:CEST
DTSTART:20250330T010000
END:DAYLIGHT
BEGIN:STANDARD
TZOFFSETFROM:+0200
TZOFFSETTO:+0100
TZNAME:CET
DTSTART:20251026T010000
END:STANDARD
END:VTIMEZONE
BEGIN:VEVENT
DTSTART;TZID=Europe/Berlin:20240114T133100
DTEND;TZID=Europe/Berlin:20240114T180000
DTSTAMP:20260423T002517
CREATED:20231223T180306Z
LAST-MODIFIED:20240110T093505Z
UID:10000023-1705239060-1705255200@www.gmender-fasnet.de
SUMMARY:Großer Faschingsumzug CVG - Herlikofen
DESCRIPTION:Laufnummer 9. \nÄnderungen vorbehalten.
URL:https://www.gmender-fasnet.de/event/grosser-faschingsumzug-cvg-herlikofen/
LOCATION:Herlikofen\, Kerkerstraße 26\, Schwäbisch Gmünd\, Baden-Württemberg\, 73527\, Deutschland
CATEGORIES:Glitzerla,Gmünder Hüpfer,Hofstaat,Orga-Team,Prinzengarde,Stöpselgarde,Tanzteufel,Vorstandschaft
ATTACH;FMTTYPE=image/jpeg:https://www.gmender-fasnet.de/wp-content/uploads/2023/12/Flyer-Umzug-scaled.jpg
ORGANIZER;CN="Carnevalsverein Grabbenhausen - Musikverein Herlikofen 1930 Herlikofen e.V.":MAILTO:1.vorstand@mv-herlikofen.de
END:VEVENT
END:VCALENDAR