BEGIN:VCALENDAR
VERSION:2.0
PRODID:-//Gmender Fasnet e.V. - ECPv6.15.20//NONSGML v1.0//EN
CALSCALE:GREGORIAN
METHOD:PUBLISH
X-ORIGINAL-URL:https://www.gmender-fasnet.de
X-WR-CALDESC:Veranstaltungen für Gmender Fasnet e.V.
REFRESH-INTERVAL;VALUE=DURATION:PT1H
X-Robots-Tag:noindex
X-PUBLISHED-TTL:PT1H
BEGIN:VTIMEZONE
TZID:Europe/Berlin
BEGIN:DAYLIGHT
TZOFFSETFROM:+0100
TZOFFSETTO:+0200
TZNAME:CEST
DTSTART:20240331T010000
END:DAYLIGHT
BEGIN:STANDARD
TZOFFSETFROM:+0200
TZOFFSETTO:+0100
TZNAME:CET
DTSTART:20241027T010000
END:STANDARD
BEGIN:DAYLIGHT
TZOFFSETFROM:+0100
TZOFFSETTO:+0200
TZNAME:CEST
DTSTART:20250330T010000
END:DAYLIGHT
BEGIN:STANDARD
TZOFFSETFROM:+0200
TZOFFSETTO:+0100
TZNAME:CET
DTSTART:20251026T010000
END:STANDARD
BEGIN:DAYLIGHT
TZOFFSETFROM:+0100
TZOFFSETTO:+0200
TZNAME:CEST
DTSTART:20260329T010000
END:DAYLIGHT
BEGIN:STANDARD
TZOFFSETFROM:+0200
TZOFFSETTO:+0100
TZNAME:CET
DTSTART:20261025T010000
END:STANDARD
BEGIN:DAYLIGHT
TZOFFSETFROM:+0100
TZOFFSETTO:+0200
TZNAME:CEST
DTSTART:20270328T010000
END:DAYLIGHT
BEGIN:STANDARD
TZOFFSETFROM:+0200
TZOFFSETTO:+0100
TZNAME:CET
DTSTART:20271031T010000
END:STANDARD
END:VTIMEZONE
BEGIN:VEVENT
DTSTART;TZID=Europe/Berlin:20260216T193000
DTEND;TZID=Europe/Berlin:20260217T020000
DTSTAMP:20260422T101544
CREATED:20251124T202021Z
LAST-MODIFIED:20260121T173310Z
UID:10000890-1771270200-1771293600@www.gmender-fasnet.de
SUMMARY:Hausball im Hirsch - Gastraum Hirsch
DESCRIPTION:Auftritt der Prinzengarde und Ranzengarde um ca. 23:00 Uhr \nÄnderungen vorbehalten.
URL:https://www.gmender-fasnet.de/event/hausball-im-hirsch-gastraum-hirsch/
LOCATION:Gasthaus Hirsch\, Wetzgauer Straße 4\, Schwäbsich Gmünd - Großdeinbach\, Baden-Württemberg\, 73527\, Germany
CATEGORIES:Hofstaat,Orga-Team,Prinzengarde,Ranzengarde,Vorstandschaft
ATTACH;FMTTYPE=image/jpeg:https://www.gmender-fasnet.de/wp-content/uploads/2025/11/WhatsApp-Image-2026-01-20-at-07.23.21.jpeg
END:VEVENT
BEGIN:VEVENT
DTSTART;TZID=Europe/Berlin:20250303T200000
DTEND;TZID=Europe/Berlin:20250303T235900
DTSTAMP:20260422T101544
CREATED:20250118T223958Z
LAST-MODIFIED:20250219T203823Z
UID:10000856-1741032000-1741046340@www.gmender-fasnet.de
SUMMARY:Hausball im Hirsch
DESCRIPTION:Auftritt der Prinzengarde und der Ranzengarde. \nÄnderungen vorbehalten!
URL:https://www.gmender-fasnet.de/event/rosenmontagsball-gasthaus-hirsch/
LOCATION:Gasthaus Hirsch\, Wetzgauer Straße 4\, Schwäbsich Gmünd - Großdeinbach\, Baden-Württemberg\, 73527\, Germany
CATEGORIES:Hofstaat,Orga-Team,Prinzengarde,Ranzengarde,Vorstandschaft
ATTACH;FMTTYPE=image/jpeg:https://www.gmender-fasnet.de/wp-content/uploads/2025/01/WhatsApp-Image-2025-01-30-at-19.14.28.jpeg
END:VEVENT
END:VCALENDAR