BEGIN:VCALENDAR
VERSION:2.0
PRODID:-//Gmender Fasnet e.V. - ECPv6.15.20//NONSGML v1.0//EN
CALSCALE:GREGORIAN
METHOD:PUBLISH
X-ORIGINAL-URL:https://www.gmender-fasnet.de
X-WR-CALDESC:Veranstaltungen für Gmender Fasnet e.V.
REFRESH-INTERVAL;VALUE=DURATION:PT1H
X-Robots-Tag:noindex
X-PUBLISHED-TTL:PT1H
BEGIN:VTIMEZONE
TZID:Europe/Berlin
BEGIN:DAYLIGHT
TZOFFSETFROM:+0100
TZOFFSETTO:+0200
TZNAME:CEST
DTSTART:20230326T010000
END:DAYLIGHT
BEGIN:STANDARD
TZOFFSETFROM:+0200
TZOFFSETTO:+0100
TZNAME:CET
DTSTART:20231029T010000
END:STANDARD
BEGIN:DAYLIGHT
TZOFFSETFROM:+0100
TZOFFSETTO:+0200
TZNAME:CEST
DTSTART:20240331T010000
END:DAYLIGHT
BEGIN:STANDARD
TZOFFSETFROM:+0200
TZOFFSETTO:+0100
TZNAME:CET
DTSTART:20241027T010000
END:STANDARD
BEGIN:DAYLIGHT
TZOFFSETFROM:+0100
TZOFFSETTO:+0200
TZNAME:CEST
DTSTART:20250330T010000
END:DAYLIGHT
BEGIN:STANDARD
TZOFFSETFROM:+0200
TZOFFSETTO:+0100
TZNAME:CET
DTSTART:20251026T010000
END:STANDARD
END:VTIMEZONE
BEGIN:VEVENT
DTSTART;TZID=Europe/Berlin:20240911T170000
DTEND;TZID=Europe/Berlin:20240911T183000
DTSTAMP:20260425T045114
CREATED:20240423T201557Z
LAST-MODIFIED:20240423T201557Z
UID:10000747-1726074000-1726079400@www.gmender-fasnet.de
SUMMARY:Training Stöpselgarde
DESCRIPTION:Änderungen werden von den Trainerinnen bekanntgegeben.
URL:https://www.gmender-fasnet.de/event/training-stoepselgarde/2024-09-11/
LOCATION:Tanzsportzentrum Disam\, An der Stauferklinik 3\, Mutlangen\, Baden-Württemberg\, 73557\, Deutschland
CATEGORIES:Stöpselgarde
ATTACH;FMTTYPE=image/png:https://www.gmender-fasnet.de/wp-content/uploads/2024/04/Taenzerin_gezeichnet_Stoega_grau-2.png
END:VEVENT
BEGIN:VEVENT
DTSTART;TZID=Europe/Berlin:20240911T153000
DTEND;TZID=Europe/Berlin:20240911T164500
DTSTAMP:20260425T045114
CREATED:20240423T201737Z
LAST-MODIFIED:20240423T201737Z
UID:10000792-1726068600-1726073100@www.gmender-fasnet.de
SUMMARY:Training Glitzerla
DESCRIPTION:Änderungen werden durch die Trainerinnen bekanntgegeben.
URL:https://www.gmender-fasnet.de/event/training-glitzerla/2024-09-11/
LOCATION:Tanzsportzentrum Disam\, An der Stauferklinik 3\, Mutlangen\, Baden-Württemberg\, 73557\, Deutschland
CATEGORIES:Glitzerla
ATTACH;FMTTYPE=image/png:https://www.gmender-fasnet.de/wp-content/uploads/2024/04/Glitzerla_gezeichnet-1.png
END:VEVENT
BEGIN:VEVENT
DTSTART;TZID=Europe/Berlin:20240910T190000
DTEND;TZID=Europe/Berlin:20240910T203000
DTSTAMP:20260425T045114
CREATED:20240423T195926Z
LAST-MODIFIED:20240423T201107Z
UID:10000105-1725994800-1726000200@www.gmender-fasnet.de
SUMMARY:Training Prinzengarde
DESCRIPTION:Abweichungen werden von den Trainerinnen bekanntgegeben.
URL:https://www.gmender-fasnet.de/event/training-prinzengarde/2024-09-10/
LOCATION:Schulzentrum Strümpfelbach – Emil-Molt-Saal\, Scheffoldstraße 136\, Schwäbisch Gmünd\, Baden-Württemberg\, 73529\, Deutschland
CATEGORIES:Prinzengarde
ATTACH;FMTTYPE=image/png:https://www.gmender-fasnet.de/wp-content/uploads/2023/08/Trainingswochenende-Prinzengarde.png
END:VEVENT
BEGIN:VEVENT
DTSTART;TZID=Europe/Berlin:20240910T173000
DTEND;TZID=Europe/Berlin:20240910T190000
DTSTAMP:20260425T045114
CREATED:20240423T200949Z
LAST-MODIFIED:20240423T200949Z
UID:10000653-1725989400-1725994800@www.gmender-fasnet.de
SUMMARY:Training Gmünder Hüpfer
DESCRIPTION:Änderungen werden von den Trainerinnen bekanntgegeben.
URL:https://www.gmender-fasnet.de/event/training-gmuender-huepfer/2024-09-10/
LOCATION:Schulzentrum Strümpfelbach – Emil-Molt-Saal\, Scheffoldstraße 136\, Schwäbisch Gmünd\, Baden-Württemberg\, 73529\, Deutschland
CATEGORIES:Gmünder Hüpfer
ATTACH;FMTTYPE=image/png:https://www.gmender-fasnet.de/wp-content/uploads/2024/04/Huepfer20232024_gezeichnet_grau.png
END:VEVENT
BEGIN:VEVENT
DTSTART;TZID=Europe/Berlin:20240909T183000
DTEND;TZID=Europe/Berlin:20240909T200000
DTSTAMP:20260425T045114
CREATED:20240423T201237Z
LAST-MODIFIED:20240423T201237Z
UID:10000698-1725906600-1725912000@www.gmender-fasnet.de
SUMMARY:Training Tanzteufel
DESCRIPTION:Änderungen werden von den Trainerinnen bekanntgegeben.
URL:https://www.gmender-fasnet.de/event/training-tanzteufel/2024-09-09/
LOCATION:Haus Riedäcker\, In den Riedäckern 29\, Schwäbisch Gmünd\, Baden-Württemberg\, 72529\, Deutschland
CATEGORIES:Tanzteufel
ATTACH;FMTTYPE=image/jpeg:https://www.gmender-fasnet.de/wp-content/uploads/2024/04/Tanzteufel.jpeg
END:VEVENT
BEGIN:VEVENT
DTSTART;TZID=Europe/Berlin:20240905T190000
DTEND;TZID=Europe/Berlin:20240905T203000
DTSTAMP:20260425T045114
CREATED:20240423T195926Z
LAST-MODIFIED:20240423T201107Z
UID:10000104-1725562800-1725568200@www.gmender-fasnet.de
SUMMARY:Training Prinzengarde
DESCRIPTION:Abweichungen werden von den Trainerinnen bekanntgegeben.
URL:https://www.gmender-fasnet.de/event/training-prinzengarde/2024-09-05/
LOCATION:Schulzentrum Strümpfelbach – Emil-Molt-Saal\, Scheffoldstraße 136\, Schwäbisch Gmünd\, Baden-Württemberg\, 73529\, Deutschland
CATEGORIES:Prinzengarde
ATTACH;FMTTYPE=image/png:https://www.gmender-fasnet.de/wp-content/uploads/2023/08/Trainingswochenende-Prinzengarde.png
END:VEVENT
BEGIN:VEVENT
DTSTART;TZID=Europe/Berlin:20240904T190000
DTEND;TZID=Europe/Berlin:20240904T210000
DTSTAMP:20260425T045114
CREATED:20240423T200407Z
LAST-MODIFIED:20240423T200407Z
UID:10000608-1725476400-1725483600@www.gmender-fasnet.de
SUMMARY:Training Ranzengarde
DESCRIPTION:Änderungen werden von den Trainerinnen bekanntgegeben.
URL:https://www.gmender-fasnet.de/event/training-ranzengarde/2024-09-04/
LOCATION:Schulzentrum Strümpfelbach – Emil-Molt-Saal\, Scheffoldstraße 136\, Schwäbisch Gmünd\, Baden-Württemberg\, 73529\, Deutschland
CATEGORIES:Ranzengarde
ATTACH;FMTTYPE=image/jpeg:https://www.gmender-fasnet.de/wp-content/uploads/2024/04/427939676_704514288526840_8034190604257309771_n.jpg
END:VEVENT
BEGIN:VEVENT
DTSTART;TZID=Europe/Berlin:20240904T170000
DTEND;TZID=Europe/Berlin:20240904T183000
DTSTAMP:20260425T045114
CREATED:20240423T201557Z
LAST-MODIFIED:20240423T201557Z
UID:10000746-1725469200-1725474600@www.gmender-fasnet.de
SUMMARY:Training Stöpselgarde
DESCRIPTION:Änderungen werden von den Trainerinnen bekanntgegeben.
URL:https://www.gmender-fasnet.de/event/training-stoepselgarde/2024-09-04/
LOCATION:Tanzsportzentrum Disam\, An der Stauferklinik 3\, Mutlangen\, Baden-Württemberg\, 73557\, Deutschland
CATEGORIES:Stöpselgarde
ATTACH;FMTTYPE=image/png:https://www.gmender-fasnet.de/wp-content/uploads/2024/04/Taenzerin_gezeichnet_Stoega_grau-2.png
END:VEVENT
BEGIN:VEVENT
DTSTART;TZID=Europe/Berlin:20240904T153000
DTEND;TZID=Europe/Berlin:20240904T164500
DTSTAMP:20260425T045114
CREATED:20240423T201737Z
LAST-MODIFIED:20240423T201737Z
UID:10000791-1725463800-1725468300@www.gmender-fasnet.de
SUMMARY:Training Glitzerla
DESCRIPTION:Änderungen werden durch die Trainerinnen bekanntgegeben.
URL:https://www.gmender-fasnet.de/event/training-glitzerla/2024-09-04/
LOCATION:Tanzsportzentrum Disam\, An der Stauferklinik 3\, Mutlangen\, Baden-Württemberg\, 73557\, Deutschland
CATEGORIES:Glitzerla
ATTACH;FMTTYPE=image/png:https://www.gmender-fasnet.de/wp-content/uploads/2024/04/Glitzerla_gezeichnet-1.png
END:VEVENT
BEGIN:VEVENT
DTSTART;TZID=Europe/Berlin:20240903T190000
DTEND;TZID=Europe/Berlin:20240903T203000
DTSTAMP:20260425T045114
CREATED:20240423T195926Z
LAST-MODIFIED:20240423T201107Z
UID:10000103-1725390000-1725395400@www.gmender-fasnet.de
SUMMARY:Training Prinzengarde
DESCRIPTION:Abweichungen werden von den Trainerinnen bekanntgegeben.
URL:https://www.gmender-fasnet.de/event/training-prinzengarde/2024-09-03/
LOCATION:Schulzentrum Strümpfelbach – Emil-Molt-Saal\, Scheffoldstraße 136\, Schwäbisch Gmünd\, Baden-Württemberg\, 73529\, Deutschland
CATEGORIES:Prinzengarde
ATTACH;FMTTYPE=image/png:https://www.gmender-fasnet.de/wp-content/uploads/2023/08/Trainingswochenende-Prinzengarde.png
END:VEVENT
BEGIN:VEVENT
DTSTART;TZID=Europe/Berlin:20240903T173000
DTEND;TZID=Europe/Berlin:20240903T190000
DTSTAMP:20260425T045114
CREATED:20240423T200949Z
LAST-MODIFIED:20240423T200949Z
UID:10000652-1725384600-1725390000@www.gmender-fasnet.de
SUMMARY:Training Gmünder Hüpfer
DESCRIPTION:Änderungen werden von den Trainerinnen bekanntgegeben.
URL:https://www.gmender-fasnet.de/event/training-gmuender-huepfer/2024-09-03/
LOCATION:Schulzentrum Strümpfelbach – Emil-Molt-Saal\, Scheffoldstraße 136\, Schwäbisch Gmünd\, Baden-Württemberg\, 73529\, Deutschland
CATEGORIES:Gmünder Hüpfer
ATTACH;FMTTYPE=image/png:https://www.gmender-fasnet.de/wp-content/uploads/2024/04/Huepfer20232024_gezeichnet_grau.png
END:VEVENT
BEGIN:VEVENT
DTSTART;TZID=Europe/Berlin:20240902T183000
DTEND;TZID=Europe/Berlin:20240902T200000
DTSTAMP:20260425T045114
CREATED:20240423T201237Z
LAST-MODIFIED:20240423T201237Z
UID:10000697-1725301800-1725307200@www.gmender-fasnet.de
SUMMARY:Training Tanzteufel
DESCRIPTION:Änderungen werden von den Trainerinnen bekanntgegeben.
URL:https://www.gmender-fasnet.de/event/training-tanzteufel/2024-09-02/
LOCATION:Haus Riedäcker\, In den Riedäckern 29\, Schwäbisch Gmünd\, Baden-Württemberg\, 72529\, Deutschland
CATEGORIES:Tanzteufel
ATTACH;FMTTYPE=image/jpeg:https://www.gmender-fasnet.de/wp-content/uploads/2024/04/Tanzteufel.jpeg
END:VEVENT
BEGIN:VEVENT
DTSTART;TZID=Europe/Berlin:20240829T190000
DTEND;TZID=Europe/Berlin:20240829T203000
DTSTAMP:20260425T045114
CREATED:20240423T195926Z
LAST-MODIFIED:20240423T201107Z
UID:10000102-1724958000-1724963400@www.gmender-fasnet.de
SUMMARY:Training Prinzengarde
DESCRIPTION:Abweichungen werden von den Trainerinnen bekanntgegeben.
URL:https://www.gmender-fasnet.de/event/training-prinzengarde/2024-08-29/
LOCATION:Schulzentrum Strümpfelbach – Emil-Molt-Saal\, Scheffoldstraße 136\, Schwäbisch Gmünd\, Baden-Württemberg\, 73529\, Deutschland
CATEGORIES:Prinzengarde
ATTACH;FMTTYPE=image/png:https://www.gmender-fasnet.de/wp-content/uploads/2023/08/Trainingswochenende-Prinzengarde.png
END:VEVENT
BEGIN:VEVENT
DTSTART;TZID=Europe/Berlin:20240828T190000
DTEND;TZID=Europe/Berlin:20240828T210000
DTSTAMP:20260425T045114
CREATED:20240423T200407Z
LAST-MODIFIED:20240423T200407Z
UID:10000607-1724871600-1724878800@www.gmender-fasnet.de
SUMMARY:Training Ranzengarde
DESCRIPTION:Änderungen werden von den Trainerinnen bekanntgegeben.
URL:https://www.gmender-fasnet.de/event/training-ranzengarde/2024-08-28/
LOCATION:Schulzentrum Strümpfelbach – Emil-Molt-Saal\, Scheffoldstraße 136\, Schwäbisch Gmünd\, Baden-Württemberg\, 73529\, Deutschland
CATEGORIES:Ranzengarde
ATTACH;FMTTYPE=image/jpeg:https://www.gmender-fasnet.de/wp-content/uploads/2024/04/427939676_704514288526840_8034190604257309771_n.jpg
END:VEVENT
BEGIN:VEVENT
DTSTART;TZID=Europe/Berlin:20240828T170000
DTEND;TZID=Europe/Berlin:20240828T183000
DTSTAMP:20260425T045114
CREATED:20240423T201557Z
LAST-MODIFIED:20240423T201557Z
UID:10000745-1724864400-1724869800@www.gmender-fasnet.de
SUMMARY:Training Stöpselgarde
DESCRIPTION:Änderungen werden von den Trainerinnen bekanntgegeben.
URL:https://www.gmender-fasnet.de/event/training-stoepselgarde/2024-08-28/
LOCATION:Tanzsportzentrum Disam\, An der Stauferklinik 3\, Mutlangen\, Baden-Württemberg\, 73557\, Deutschland
CATEGORIES:Stöpselgarde
ATTACH;FMTTYPE=image/png:https://www.gmender-fasnet.de/wp-content/uploads/2024/04/Taenzerin_gezeichnet_Stoega_grau-2.png
END:VEVENT
BEGIN:VEVENT
DTSTART;TZID=Europe/Berlin:20240828T153000
DTEND;TZID=Europe/Berlin:20240828T164500
DTSTAMP:20260425T045114
CREATED:20240423T201737Z
LAST-MODIFIED:20240423T201737Z
UID:10000790-1724859000-1724863500@www.gmender-fasnet.de
SUMMARY:Training Glitzerla
DESCRIPTION:Änderungen werden durch die Trainerinnen bekanntgegeben.
URL:https://www.gmender-fasnet.de/event/training-glitzerla/2024-08-28/
LOCATION:Tanzsportzentrum Disam\, An der Stauferklinik 3\, Mutlangen\, Baden-Württemberg\, 73557\, Deutschland
CATEGORIES:Glitzerla
ATTACH;FMTTYPE=image/png:https://www.gmender-fasnet.de/wp-content/uploads/2024/04/Glitzerla_gezeichnet-1.png
END:VEVENT
BEGIN:VEVENT
DTSTART;TZID=Europe/Berlin:20240827T190000
DTEND;TZID=Europe/Berlin:20240827T203000
DTSTAMP:20260425T045114
CREATED:20240423T195926Z
LAST-MODIFIED:20240423T201107Z
UID:10000101-1724785200-1724790600@www.gmender-fasnet.de
SUMMARY:Training Prinzengarde
DESCRIPTION:Abweichungen werden von den Trainerinnen bekanntgegeben.
URL:https://www.gmender-fasnet.de/event/training-prinzengarde/2024-08-27/
LOCATION:Schulzentrum Strümpfelbach – Emil-Molt-Saal\, Scheffoldstraße 136\, Schwäbisch Gmünd\, Baden-Württemberg\, 73529\, Deutschland
CATEGORIES:Prinzengarde
ATTACH;FMTTYPE=image/png:https://www.gmender-fasnet.de/wp-content/uploads/2023/08/Trainingswochenende-Prinzengarde.png
END:VEVENT
BEGIN:VEVENT
DTSTART;TZID=Europe/Berlin:20240827T173000
DTEND;TZID=Europe/Berlin:20240827T190000
DTSTAMP:20260425T045114
CREATED:20240423T200949Z
LAST-MODIFIED:20240423T200949Z
UID:10000651-1724779800-1724785200@www.gmender-fasnet.de
SUMMARY:Training Gmünder Hüpfer
DESCRIPTION:Änderungen werden von den Trainerinnen bekanntgegeben.
URL:https://www.gmender-fasnet.de/event/training-gmuender-huepfer/2024-08-27/
LOCATION:Schulzentrum Strümpfelbach – Emil-Molt-Saal\, Scheffoldstraße 136\, Schwäbisch Gmünd\, Baden-Württemberg\, 73529\, Deutschland
CATEGORIES:Gmünder Hüpfer
ATTACH;FMTTYPE=image/png:https://www.gmender-fasnet.de/wp-content/uploads/2024/04/Huepfer20232024_gezeichnet_grau.png
END:VEVENT
BEGIN:VEVENT
DTSTART;TZID=Europe/Berlin:20240826T183000
DTEND;TZID=Europe/Berlin:20240826T200000
DTSTAMP:20260425T045114
CREATED:20240423T201237Z
LAST-MODIFIED:20240423T201237Z
UID:10000696-1724697000-1724702400@www.gmender-fasnet.de
SUMMARY:Training Tanzteufel
DESCRIPTION:Änderungen werden von den Trainerinnen bekanntgegeben.
URL:https://www.gmender-fasnet.de/event/training-tanzteufel/2024-08-26/
LOCATION:Haus Riedäcker\, In den Riedäckern 29\, Schwäbisch Gmünd\, Baden-Württemberg\, 72529\, Deutschland
CATEGORIES:Tanzteufel
ATTACH;FMTTYPE=image/jpeg:https://www.gmender-fasnet.de/wp-content/uploads/2024/04/Tanzteufel.jpeg
END:VEVENT
BEGIN:VEVENT
DTSTART;TZID=Europe/Berlin:20240822T190000
DTEND;TZID=Europe/Berlin:20240822T203000
DTSTAMP:20260425T045114
CREATED:20240423T195926Z
LAST-MODIFIED:20240423T201107Z
UID:10000100-1724353200-1724358600@www.gmender-fasnet.de
SUMMARY:Training Prinzengarde
DESCRIPTION:Abweichungen werden von den Trainerinnen bekanntgegeben.
URL:https://www.gmender-fasnet.de/event/training-prinzengarde/2024-08-22/
LOCATION:Schulzentrum Strümpfelbach – Emil-Molt-Saal\, Scheffoldstraße 136\, Schwäbisch Gmünd\, Baden-Württemberg\, 73529\, Deutschland
CATEGORIES:Prinzengarde
ATTACH;FMTTYPE=image/png:https://www.gmender-fasnet.de/wp-content/uploads/2023/08/Trainingswochenende-Prinzengarde.png
END:VEVENT
BEGIN:VEVENT
DTSTART;TZID=Europe/Berlin:20240821T190000
DTEND;TZID=Europe/Berlin:20240821T210000
DTSTAMP:20260425T045114
CREATED:20240423T200407Z
LAST-MODIFIED:20240423T200407Z
UID:10000606-1724266800-1724274000@www.gmender-fasnet.de
SUMMARY:Training Ranzengarde
DESCRIPTION:Änderungen werden von den Trainerinnen bekanntgegeben.
URL:https://www.gmender-fasnet.de/event/training-ranzengarde/2024-08-21/
LOCATION:Schulzentrum Strümpfelbach – Emil-Molt-Saal\, Scheffoldstraße 136\, Schwäbisch Gmünd\, Baden-Württemberg\, 73529\, Deutschland
CATEGORIES:Ranzengarde
ATTACH;FMTTYPE=image/jpeg:https://www.gmender-fasnet.de/wp-content/uploads/2024/04/427939676_704514288526840_8034190604257309771_n.jpg
END:VEVENT
BEGIN:VEVENT
DTSTART;TZID=Europe/Berlin:20240821T170000
DTEND;TZID=Europe/Berlin:20240821T183000
DTSTAMP:20260425T045114
CREATED:20240423T201557Z
LAST-MODIFIED:20240423T201557Z
UID:10000744-1724259600-1724265000@www.gmender-fasnet.de
SUMMARY:Training Stöpselgarde
DESCRIPTION:Änderungen werden von den Trainerinnen bekanntgegeben.
URL:https://www.gmender-fasnet.de/event/training-stoepselgarde/2024-08-21/
LOCATION:Tanzsportzentrum Disam\, An der Stauferklinik 3\, Mutlangen\, Baden-Württemberg\, 73557\, Deutschland
CATEGORIES:Stöpselgarde
ATTACH;FMTTYPE=image/png:https://www.gmender-fasnet.de/wp-content/uploads/2024/04/Taenzerin_gezeichnet_Stoega_grau-2.png
END:VEVENT
BEGIN:VEVENT
DTSTART;TZID=Europe/Berlin:20240821T153000
DTEND;TZID=Europe/Berlin:20240821T164500
DTSTAMP:20260425T045114
CREATED:20240423T201737Z
LAST-MODIFIED:20240423T201737Z
UID:10000789-1724254200-1724258700@www.gmender-fasnet.de
SUMMARY:Training Glitzerla
DESCRIPTION:Änderungen werden durch die Trainerinnen bekanntgegeben.
URL:https://www.gmender-fasnet.de/event/training-glitzerla/2024-08-21/
LOCATION:Tanzsportzentrum Disam\, An der Stauferklinik 3\, Mutlangen\, Baden-Württemberg\, 73557\, Deutschland
CATEGORIES:Glitzerla
ATTACH;FMTTYPE=image/png:https://www.gmender-fasnet.de/wp-content/uploads/2024/04/Glitzerla_gezeichnet-1.png
END:VEVENT
BEGIN:VEVENT
DTSTART;TZID=Europe/Berlin:20240820T190000
DTEND;TZID=Europe/Berlin:20240820T203000
DTSTAMP:20260425T045114
CREATED:20240423T195926Z
LAST-MODIFIED:20240423T201107Z
UID:10000099-1724180400-1724185800@www.gmender-fasnet.de
SUMMARY:Training Prinzengarde
DESCRIPTION:Abweichungen werden von den Trainerinnen bekanntgegeben.
URL:https://www.gmender-fasnet.de/event/training-prinzengarde/2024-08-20/
LOCATION:Schulzentrum Strümpfelbach – Emil-Molt-Saal\, Scheffoldstraße 136\, Schwäbisch Gmünd\, Baden-Württemberg\, 73529\, Deutschland
CATEGORIES:Prinzengarde
ATTACH;FMTTYPE=image/png:https://www.gmender-fasnet.de/wp-content/uploads/2023/08/Trainingswochenende-Prinzengarde.png
END:VEVENT
BEGIN:VEVENT
DTSTART;TZID=Europe/Berlin:20240820T173000
DTEND;TZID=Europe/Berlin:20240820T190000
DTSTAMP:20260425T045114
CREATED:20240423T200949Z
LAST-MODIFIED:20240423T200949Z
UID:10000650-1724175000-1724180400@www.gmender-fasnet.de
SUMMARY:Training Gmünder Hüpfer
DESCRIPTION:Änderungen werden von den Trainerinnen bekanntgegeben.
URL:https://www.gmender-fasnet.de/event/training-gmuender-huepfer/2024-08-20/
LOCATION:Schulzentrum Strümpfelbach – Emil-Molt-Saal\, Scheffoldstraße 136\, Schwäbisch Gmünd\, Baden-Württemberg\, 73529\, Deutschland
CATEGORIES:Gmünder Hüpfer
ATTACH;FMTTYPE=image/png:https://www.gmender-fasnet.de/wp-content/uploads/2024/04/Huepfer20232024_gezeichnet_grau.png
END:VEVENT
BEGIN:VEVENT
DTSTART;TZID=Europe/Berlin:20240819T183000
DTEND;TZID=Europe/Berlin:20240819T200000
DTSTAMP:20260425T045114
CREATED:20240423T201237Z
LAST-MODIFIED:20240423T201237Z
UID:10000695-1724092200-1724097600@www.gmender-fasnet.de
SUMMARY:Training Tanzteufel
DESCRIPTION:Änderungen werden von den Trainerinnen bekanntgegeben.
URL:https://www.gmender-fasnet.de/event/training-tanzteufel/2024-08-19/
LOCATION:Haus Riedäcker\, In den Riedäckern 29\, Schwäbisch Gmünd\, Baden-Württemberg\, 72529\, Deutschland
CATEGORIES:Tanzteufel
ATTACH;FMTTYPE=image/jpeg:https://www.gmender-fasnet.de/wp-content/uploads/2024/04/Tanzteufel.jpeg
END:VEVENT
BEGIN:VEVENT
DTSTART;TZID=Europe/Berlin:20240815T190000
DTEND;TZID=Europe/Berlin:20240815T203000
DTSTAMP:20260425T045114
CREATED:20240423T195926Z
LAST-MODIFIED:20240423T201107Z
UID:10000098-1723748400-1723753800@www.gmender-fasnet.de
SUMMARY:Training Prinzengarde
DESCRIPTION:Abweichungen werden von den Trainerinnen bekanntgegeben.
URL:https://www.gmender-fasnet.de/event/training-prinzengarde/2024-08-15/
LOCATION:Schulzentrum Strümpfelbach – Emil-Molt-Saal\, Scheffoldstraße 136\, Schwäbisch Gmünd\, Baden-Württemberg\, 73529\, Deutschland
CATEGORIES:Prinzengarde
ATTACH;FMTTYPE=image/png:https://www.gmender-fasnet.de/wp-content/uploads/2023/08/Trainingswochenende-Prinzengarde.png
END:VEVENT
BEGIN:VEVENT
DTSTART;TZID=Europe/Berlin:20240814T190000
DTEND;TZID=Europe/Berlin:20240814T210000
DTSTAMP:20260425T045114
CREATED:20240423T200407Z
LAST-MODIFIED:20240423T200407Z
UID:10000605-1723662000-1723669200@www.gmender-fasnet.de
SUMMARY:Training Ranzengarde
DESCRIPTION:Änderungen werden von den Trainerinnen bekanntgegeben.
URL:https://www.gmender-fasnet.de/event/training-ranzengarde/2024-08-14/
LOCATION:Schulzentrum Strümpfelbach – Emil-Molt-Saal\, Scheffoldstraße 136\, Schwäbisch Gmünd\, Baden-Württemberg\, 73529\, Deutschland
CATEGORIES:Ranzengarde
ATTACH;FMTTYPE=image/jpeg:https://www.gmender-fasnet.de/wp-content/uploads/2024/04/427939676_704514288526840_8034190604257309771_n.jpg
END:VEVENT
BEGIN:VEVENT
DTSTART;TZID=Europe/Berlin:20240814T170000
DTEND;TZID=Europe/Berlin:20240814T183000
DTSTAMP:20260425T045114
CREATED:20240423T201557Z
LAST-MODIFIED:20240423T201557Z
UID:10000743-1723654800-1723660200@www.gmender-fasnet.de
SUMMARY:Training Stöpselgarde
DESCRIPTION:Änderungen werden von den Trainerinnen bekanntgegeben.
URL:https://www.gmender-fasnet.de/event/training-stoepselgarde/2024-08-14/
LOCATION:Tanzsportzentrum Disam\, An der Stauferklinik 3\, Mutlangen\, Baden-Württemberg\, 73557\, Deutschland
CATEGORIES:Stöpselgarde
ATTACH;FMTTYPE=image/png:https://www.gmender-fasnet.de/wp-content/uploads/2024/04/Taenzerin_gezeichnet_Stoega_grau-2.png
END:VEVENT
BEGIN:VEVENT
DTSTART;TZID=Europe/Berlin:20240814T153000
DTEND;TZID=Europe/Berlin:20240814T164500
DTSTAMP:20260425T045114
CREATED:20240423T201737Z
LAST-MODIFIED:20240423T201737Z
UID:10000788-1723649400-1723653900@www.gmender-fasnet.de
SUMMARY:Training Glitzerla
DESCRIPTION:Änderungen werden durch die Trainerinnen bekanntgegeben.
URL:https://www.gmender-fasnet.de/event/training-glitzerla/2024-08-14/
LOCATION:Tanzsportzentrum Disam\, An der Stauferklinik 3\, Mutlangen\, Baden-Württemberg\, 73557\, Deutschland
CATEGORIES:Glitzerla
ATTACH;FMTTYPE=image/png:https://www.gmender-fasnet.de/wp-content/uploads/2024/04/Glitzerla_gezeichnet-1.png
END:VEVENT
END:VCALENDAR