BEGIN:VCALENDAR
VERSION:2.0
PRODID:-//Gmender Fasnet e.V. - ECPv6.15.20//NONSGML v1.0//EN
CALSCALE:GREGORIAN
METHOD:PUBLISH
X-ORIGINAL-URL:https://www.gmender-fasnet.de
X-WR-CALDESC:Veranstaltungen für Gmender Fasnet e.V.
REFRESH-INTERVAL;VALUE=DURATION:PT1H
X-Robots-Tag:noindex
X-PUBLISHED-TTL:PT1H
BEGIN:VTIMEZONE
TZID:Europe/Berlin
BEGIN:DAYLIGHT
TZOFFSETFROM:+0100
TZOFFSETTO:+0200
TZNAME:CEST
DTSTART:20230326T010000
END:DAYLIGHT
BEGIN:STANDARD
TZOFFSETFROM:+0200
TZOFFSETTO:+0100
TZNAME:CET
DTSTART:20231029T010000
END:STANDARD
BEGIN:DAYLIGHT
TZOFFSETFROM:+0100
TZOFFSETTO:+0200
TZNAME:CEST
DTSTART:20240331T010000
END:DAYLIGHT
BEGIN:STANDARD
TZOFFSETFROM:+0200
TZOFFSETTO:+0100
TZNAME:CET
DTSTART:20241027T010000
END:STANDARD
BEGIN:DAYLIGHT
TZOFFSETFROM:+0100
TZOFFSETTO:+0200
TZNAME:CEST
DTSTART:20250330T010000
END:DAYLIGHT
BEGIN:STANDARD
TZOFFSETFROM:+0200
TZOFFSETTO:+0100
TZNAME:CET
DTSTART:20251026T010000
END:STANDARD
BEGIN:DAYLIGHT
TZOFFSETFROM:+0100
TZOFFSETTO:+0200
TZNAME:CEST
DTSTART:20260329T010000
END:DAYLIGHT
BEGIN:STANDARD
TZOFFSETFROM:+0200
TZOFFSETTO:+0100
TZNAME:CET
DTSTART:20261025T010000
END:STANDARD
END:VTIMEZONE
BEGIN:VEVENT
DTSTART;TZID=Europe/Berlin:20250128T190000
DTEND;TZID=Europe/Berlin:20250128T203000
DTSTAMP:20260422T133633
CREATED:20240423T195926Z
LAST-MODIFIED:20240423T201107Z
UID:10000145-1738090800-1738096200@www.gmender-fasnet.de
SUMMARY:Training Prinzengarde
DESCRIPTION:Abweichungen werden von den Trainerinnen bekanntgegeben.
URL:https://www.gmender-fasnet.de/event/training-prinzengarde/2025-01-28/
LOCATION:Schulzentrum Strümpfelbach – Emil-Molt-Saal\, Scheffoldstraße 136\, Schwäbisch Gmünd\, Baden-Württemberg\, 73529\, Deutschland
CATEGORIES:Prinzengarde
ATTACH;FMTTYPE=image/png:https://www.gmender-fasnet.de/wp-content/uploads/2023/08/Trainingswochenende-Prinzengarde.png
END:VEVENT
BEGIN:VEVENT
DTSTART;TZID=Europe/Berlin:20250128T173000
DTEND;TZID=Europe/Berlin:20250128T190000
DTSTAMP:20260422T133633
CREATED:20240423T200949Z
LAST-MODIFIED:20240423T200949Z
UID:10000673-1738085400-1738090800@www.gmender-fasnet.de
SUMMARY:Training Gmünder Hüpfer
DESCRIPTION:Änderungen werden von den Trainerinnen bekanntgegeben.
URL:https://www.gmender-fasnet.de/event/training-gmuender-huepfer/2025-01-28/
LOCATION:Schulzentrum Strümpfelbach – Emil-Molt-Saal\, Scheffoldstraße 136\, Schwäbisch Gmünd\, Baden-Württemberg\, 73529\, Deutschland
CATEGORIES:Gmünder Hüpfer
ATTACH;FMTTYPE=image/png:https://www.gmender-fasnet.de/wp-content/uploads/2024/04/Huepfer20232024_gezeichnet_grau.png
END:VEVENT
BEGIN:VEVENT
DTSTART;TZID=Europe/Berlin:20250127T183000
DTEND;TZID=Europe/Berlin:20250127T200000
DTSTAMP:20260422T133633
CREATED:20240423T201237Z
LAST-MODIFIED:20240423T201237Z
UID:10000718-1738002600-1738008000@www.gmender-fasnet.de
SUMMARY:Training Tanzteufel
DESCRIPTION:Änderungen werden von den Trainerinnen bekanntgegeben.
URL:https://www.gmender-fasnet.de/event/training-tanzteufel/2025-01-27/
LOCATION:Haus Riedäcker\, In den Riedäckern 29\, Schwäbisch Gmünd\, Baden-Württemberg\, 72529\, Deutschland
CATEGORIES:Tanzteufel
ATTACH;FMTTYPE=image/jpeg:https://www.gmender-fasnet.de/wp-content/uploads/2024/04/Tanzteufel.jpeg
END:VEVENT
BEGIN:VEVENT
DTSTART;TZID=Europe/Berlin:20250123T190000
DTEND;TZID=Europe/Berlin:20250123T203000
DTSTAMP:20260422T133633
CREATED:20240423T195926Z
LAST-MODIFIED:20240423T201107Z
UID:10000144-1737658800-1737664200@www.gmender-fasnet.de
SUMMARY:Training Prinzengarde
DESCRIPTION:Abweichungen werden von den Trainerinnen bekanntgegeben.
URL:https://www.gmender-fasnet.de/event/training-prinzengarde/2025-01-23/
LOCATION:Schulzentrum Strümpfelbach – Emil-Molt-Saal\, Scheffoldstraße 136\, Schwäbisch Gmünd\, Baden-Württemberg\, 73529\, Deutschland
CATEGORIES:Prinzengarde
ATTACH;FMTTYPE=image/png:https://www.gmender-fasnet.de/wp-content/uploads/2023/08/Trainingswochenende-Prinzengarde.png
END:VEVENT
BEGIN:VEVENT
DTSTART;TZID=Europe/Berlin:20250122T190000
DTEND;TZID=Europe/Berlin:20250122T210000
DTSTAMP:20260422T133633
CREATED:20240423T200407Z
LAST-MODIFIED:20240423T200407Z
UID:10000628-1737572400-1737579600@www.gmender-fasnet.de
SUMMARY:Training Ranzengarde
DESCRIPTION:Änderungen werden von den Trainerinnen bekanntgegeben.
URL:https://www.gmender-fasnet.de/event/training-ranzengarde/2025-01-22/
LOCATION:Schulzentrum Strümpfelbach – Emil-Molt-Saal\, Scheffoldstraße 136\, Schwäbisch Gmünd\, Baden-Württemberg\, 73529\, Deutschland
CATEGORIES:Ranzengarde
ATTACH;FMTTYPE=image/jpeg:https://www.gmender-fasnet.de/wp-content/uploads/2024/04/427939676_704514288526840_8034190604257309771_n.jpg
END:VEVENT
BEGIN:VEVENT
DTSTART;TZID=Europe/Berlin:20250122T170000
DTEND;TZID=Europe/Berlin:20250122T183000
DTSTAMP:20260422T133633
CREATED:20240423T201557Z
LAST-MODIFIED:20240423T201557Z
UID:10000766-1737565200-1737570600@www.gmender-fasnet.de
SUMMARY:Training Stöpselgarde
DESCRIPTION:Änderungen werden von den Trainerinnen bekanntgegeben.
URL:https://www.gmender-fasnet.de/event/training-stoepselgarde/2025-01-22/
LOCATION:Tanzsportzentrum Disam\, An der Stauferklinik 3\, Mutlangen\, Baden-Württemberg\, 73557\, Deutschland
CATEGORIES:Stöpselgarde
ATTACH;FMTTYPE=image/png:https://www.gmender-fasnet.de/wp-content/uploads/2024/04/Taenzerin_gezeichnet_Stoega_grau-2.png
END:VEVENT
BEGIN:VEVENT
DTSTART;TZID=Europe/Berlin:20250122T153000
DTEND;TZID=Europe/Berlin:20250122T164500
DTSTAMP:20260422T133633
CREATED:20240423T201737Z
LAST-MODIFIED:20240423T201737Z
UID:10000811-1737559800-1737564300@www.gmender-fasnet.de
SUMMARY:Training Glitzerla
DESCRIPTION:Änderungen werden durch die Trainerinnen bekanntgegeben.
URL:https://www.gmender-fasnet.de/event/training-glitzerla/2025-01-22/
LOCATION:Tanzsportzentrum Disam\, An der Stauferklinik 3\, Mutlangen\, Baden-Württemberg\, 73557\, Deutschland
CATEGORIES:Glitzerla
ATTACH;FMTTYPE=image/png:https://www.gmender-fasnet.de/wp-content/uploads/2024/04/Glitzerla_gezeichnet-1.png
END:VEVENT
BEGIN:VEVENT
DTSTART;TZID=Europe/Berlin:20250121T190000
DTEND;TZID=Europe/Berlin:20250121T203000
DTSTAMP:20260422T133633
CREATED:20240423T195926Z
LAST-MODIFIED:20240423T201107Z
UID:10000143-1737486000-1737491400@www.gmender-fasnet.de
SUMMARY:Training Prinzengarde
DESCRIPTION:Abweichungen werden von den Trainerinnen bekanntgegeben.
URL:https://www.gmender-fasnet.de/event/training-prinzengarde/2025-01-21/
LOCATION:Schulzentrum Strümpfelbach – Emil-Molt-Saal\, Scheffoldstraße 136\, Schwäbisch Gmünd\, Baden-Württemberg\, 73529\, Deutschland
CATEGORIES:Prinzengarde
ATTACH;FMTTYPE=image/png:https://www.gmender-fasnet.de/wp-content/uploads/2023/08/Trainingswochenende-Prinzengarde.png
END:VEVENT
BEGIN:VEVENT
DTSTART;TZID=Europe/Berlin:20250121T173000
DTEND;TZID=Europe/Berlin:20250121T190000
DTSTAMP:20260422T133633
CREATED:20240423T200949Z
LAST-MODIFIED:20240423T200949Z
UID:10000672-1737480600-1737486000@www.gmender-fasnet.de
SUMMARY:Training Gmünder Hüpfer
DESCRIPTION:Änderungen werden von den Trainerinnen bekanntgegeben.
URL:https://www.gmender-fasnet.de/event/training-gmuender-huepfer/2025-01-21/
LOCATION:Schulzentrum Strümpfelbach – Emil-Molt-Saal\, Scheffoldstraße 136\, Schwäbisch Gmünd\, Baden-Württemberg\, 73529\, Deutschland
CATEGORIES:Gmünder Hüpfer
ATTACH;FMTTYPE=image/png:https://www.gmender-fasnet.de/wp-content/uploads/2024/04/Huepfer20232024_gezeichnet_grau.png
END:VEVENT
BEGIN:VEVENT
DTSTART;TZID=Europe/Berlin:20250120T183000
DTEND;TZID=Europe/Berlin:20250120T200000
DTSTAMP:20260422T133633
CREATED:20240423T201237Z
LAST-MODIFIED:20240423T201237Z
UID:10000717-1737397800-1737403200@www.gmender-fasnet.de
SUMMARY:Training Tanzteufel
DESCRIPTION:Änderungen werden von den Trainerinnen bekanntgegeben.
URL:https://www.gmender-fasnet.de/event/training-tanzteufel/2025-01-20/
LOCATION:Haus Riedäcker\, In den Riedäckern 29\, Schwäbisch Gmünd\, Baden-Württemberg\, 72529\, Deutschland
CATEGORIES:Tanzteufel
ATTACH;FMTTYPE=image/jpeg:https://www.gmender-fasnet.de/wp-content/uploads/2024/04/Tanzteufel.jpeg
END:VEVENT
BEGIN:VEVENT
DTSTART;TZID=Europe/Berlin:20250116T190000
DTEND;TZID=Europe/Berlin:20250116T203000
DTSTAMP:20260422T133633
CREATED:20240423T195926Z
LAST-MODIFIED:20240423T201107Z
UID:10000142-1737054000-1737059400@www.gmender-fasnet.de
SUMMARY:Training Prinzengarde
DESCRIPTION:Abweichungen werden von den Trainerinnen bekanntgegeben.
URL:https://www.gmender-fasnet.de/event/training-prinzengarde/2025-01-16/
LOCATION:Schulzentrum Strümpfelbach – Emil-Molt-Saal\, Scheffoldstraße 136\, Schwäbisch Gmünd\, Baden-Württemberg\, 73529\, Deutschland
CATEGORIES:Prinzengarde
ATTACH;FMTTYPE=image/png:https://www.gmender-fasnet.de/wp-content/uploads/2023/08/Trainingswochenende-Prinzengarde.png
END:VEVENT
BEGIN:VEVENT
DTSTART;TZID=Europe/Berlin:20250115T190000
DTEND;TZID=Europe/Berlin:20250115T210000
DTSTAMP:20260422T133633
CREATED:20240423T200407Z
LAST-MODIFIED:20240423T200407Z
UID:10000627-1736967600-1736974800@www.gmender-fasnet.de
SUMMARY:Training Ranzengarde
DESCRIPTION:Änderungen werden von den Trainerinnen bekanntgegeben.
URL:https://www.gmender-fasnet.de/event/training-ranzengarde/2025-01-15/
LOCATION:Schulzentrum Strümpfelbach – Emil-Molt-Saal\, Scheffoldstraße 136\, Schwäbisch Gmünd\, Baden-Württemberg\, 73529\, Deutschland
CATEGORIES:Ranzengarde
ATTACH;FMTTYPE=image/jpeg:https://www.gmender-fasnet.de/wp-content/uploads/2024/04/427939676_704514288526840_8034190604257309771_n.jpg
END:VEVENT
BEGIN:VEVENT
DTSTART;TZID=Europe/Berlin:20250115T170000
DTEND;TZID=Europe/Berlin:20250115T183000
DTSTAMP:20260422T133633
CREATED:20240423T201557Z
LAST-MODIFIED:20240423T201557Z
UID:10000765-1736960400-1736965800@www.gmender-fasnet.de
SUMMARY:Training Stöpselgarde
DESCRIPTION:Änderungen werden von den Trainerinnen bekanntgegeben.
URL:https://www.gmender-fasnet.de/event/training-stoepselgarde/2025-01-15/
LOCATION:Tanzsportzentrum Disam\, An der Stauferklinik 3\, Mutlangen\, Baden-Württemberg\, 73557\, Deutschland
CATEGORIES:Stöpselgarde
ATTACH;FMTTYPE=image/png:https://www.gmender-fasnet.de/wp-content/uploads/2024/04/Taenzerin_gezeichnet_Stoega_grau-2.png
END:VEVENT
BEGIN:VEVENT
DTSTART;TZID=Europe/Berlin:20250115T153000
DTEND;TZID=Europe/Berlin:20250115T164500
DTSTAMP:20260422T133633
CREATED:20240423T201737Z
LAST-MODIFIED:20240423T201737Z
UID:10000810-1736955000-1736959500@www.gmender-fasnet.de
SUMMARY:Training Glitzerla
DESCRIPTION:Änderungen werden durch die Trainerinnen bekanntgegeben.
URL:https://www.gmender-fasnet.de/event/training-glitzerla/2025-01-15/
LOCATION:Tanzsportzentrum Disam\, An der Stauferklinik 3\, Mutlangen\, Baden-Württemberg\, 73557\, Deutschland
CATEGORIES:Glitzerla
ATTACH;FMTTYPE=image/png:https://www.gmender-fasnet.de/wp-content/uploads/2024/04/Glitzerla_gezeichnet-1.png
END:VEVENT
BEGIN:VEVENT
DTSTART;TZID=Europe/Berlin:20250114T190000
DTEND;TZID=Europe/Berlin:20250114T203000
DTSTAMP:20260422T133633
CREATED:20240423T195926Z
LAST-MODIFIED:20240423T201107Z
UID:10000141-1736881200-1736886600@www.gmender-fasnet.de
SUMMARY:Training Prinzengarde
DESCRIPTION:Abweichungen werden von den Trainerinnen bekanntgegeben.
URL:https://www.gmender-fasnet.de/event/training-prinzengarde/2025-01-14/
LOCATION:Schulzentrum Strümpfelbach – Emil-Molt-Saal\, Scheffoldstraße 136\, Schwäbisch Gmünd\, Baden-Württemberg\, 73529\, Deutschland
CATEGORIES:Prinzengarde
ATTACH;FMTTYPE=image/png:https://www.gmender-fasnet.de/wp-content/uploads/2023/08/Trainingswochenende-Prinzengarde.png
END:VEVENT
BEGIN:VEVENT
DTSTART;TZID=Europe/Berlin:20250114T173000
DTEND;TZID=Europe/Berlin:20250114T190000
DTSTAMP:20260422T133633
CREATED:20240423T200949Z
LAST-MODIFIED:20240423T200949Z
UID:10000671-1736875800-1736881200@www.gmender-fasnet.de
SUMMARY:Training Gmünder Hüpfer
DESCRIPTION:Änderungen werden von den Trainerinnen bekanntgegeben.
URL:https://www.gmender-fasnet.de/event/training-gmuender-huepfer/2025-01-14/
LOCATION:Schulzentrum Strümpfelbach – Emil-Molt-Saal\, Scheffoldstraße 136\, Schwäbisch Gmünd\, Baden-Württemberg\, 73529\, Deutschland
CATEGORIES:Gmünder Hüpfer
ATTACH;FMTTYPE=image/png:https://www.gmender-fasnet.de/wp-content/uploads/2024/04/Huepfer20232024_gezeichnet_grau.png
END:VEVENT
BEGIN:VEVENT
DTSTART;TZID=Europe/Berlin:20250113T183000
DTEND;TZID=Europe/Berlin:20250113T200000
DTSTAMP:20260422T133633
CREATED:20240423T201237Z
LAST-MODIFIED:20240423T201237Z
UID:10000716-1736793000-1736798400@www.gmender-fasnet.de
SUMMARY:Training Tanzteufel
DESCRIPTION:Änderungen werden von den Trainerinnen bekanntgegeben.
URL:https://www.gmender-fasnet.de/event/training-tanzteufel/2025-01-13/
LOCATION:Haus Riedäcker\, In den Riedäckern 29\, Schwäbisch Gmünd\, Baden-Württemberg\, 72529\, Deutschland
CATEGORIES:Tanzteufel
ATTACH;FMTTYPE=image/jpeg:https://www.gmender-fasnet.de/wp-content/uploads/2024/04/Tanzteufel.jpeg
END:VEVENT
BEGIN:VEVENT
DTSTART;TZID=Europe/Berlin:20250111T111100
DTEND;TZID=Europe/Berlin:20250112T020000
DTSTAMP:20260422T133633
CREATED:20240221T085728Z
LAST-MODIFIED:20241115T205730Z
UID:10000051-1736593860-1736647200@www.gmender-fasnet.de
SUMMARY:50 Jahre Gmender Fasnet - Gardetreffen und Jubiläumsparty
DESCRIPTION:Das 50-jährige Bestehen der Gmender Fasnet wollen wir gemeinsam mit euch feiern! 🎉 \nPünktlich um 11:11 Uhr starten wir mit einem Gardetreffen. Ob Garde\, Tanzpaar oder Mariechen. Von Klein bis Groß bekommt bei uns jede*r die Möglichkeit sein Können zu zeigen und auf unserer Bühne zu glänzen. ✨\nGemeinsam wollen wir den karnevalistischen Tanzsport feiern und in allen seinen Facetten präsentieren.👯‍♀️ Bringt gerne euren Verein\, eure Freunde und Familie als Unterstützung mit! \nAm Abend feiern wir unsere große  Jubiläumsparty. 🎉 Die legendäre Partyband „PLAYNE“ und verschiedene Live-Performances werden für Stimmung sorgen. 🕺💃 Einlass ist ab 19:33 Uhr.\nUnd für die perfekte Erfrischung sorgt unsere bestens ausgestattete Bar\, die euch mit leckeren Drinks versorgt. 🍹🍸\n🎟️ Tickets gibt es am Saison Opening am 16.11.2024 im Prediger\, ab sofort per Mail unter ticketsgmenderfasnet@gmx.de und ab dem 18.11.2024 in der Bäckerei Bläse in Lindach für je 12€. \n🎫 Gruppenspecial: Ab 10 Karten jede Karte nur 11€. Gilt nur im Vorverkauf! \n 
URL:https://www.gmender-fasnet.de/event/50-jahre-gmender-fasnet-save-the-date/
CATEGORIES:Alle Mitglieder,Glitzerla,Gmünder Hüpfer,Hofstaat,Orga-Team,Prinzengarde,Ranzengarde,Silberglöckle,Stöpselgarde,Tanzteufel,Vorstandschaft
ATTACH;FMTTYPE=image/png:https://www.gmender-fasnet.de/wp-content/uploads/2024/01/Jubilaeum.png
END:VEVENT
BEGIN:VEVENT
DTSTART;TZID=Europe/Berlin:20250109T190000
DTEND;TZID=Europe/Berlin:20250109T203000
DTSTAMP:20260422T133633
CREATED:20240423T195926Z
LAST-MODIFIED:20240423T201107Z
UID:10000140-1736449200-1736454600@www.gmender-fasnet.de
SUMMARY:Training Prinzengarde
DESCRIPTION:Abweichungen werden von den Trainerinnen bekanntgegeben.
URL:https://www.gmender-fasnet.de/event/training-prinzengarde/2025-01-09/
LOCATION:Schulzentrum Strümpfelbach – Emil-Molt-Saal\, Scheffoldstraße 136\, Schwäbisch Gmünd\, Baden-Württemberg\, 73529\, Deutschland
CATEGORIES:Prinzengarde
ATTACH;FMTTYPE=image/png:https://www.gmender-fasnet.de/wp-content/uploads/2023/08/Trainingswochenende-Prinzengarde.png
END:VEVENT
BEGIN:VEVENT
DTSTART;TZID=Europe/Berlin:20250108T190000
DTEND;TZID=Europe/Berlin:20250108T210000
DTSTAMP:20260422T133633
CREATED:20240423T200407Z
LAST-MODIFIED:20240423T200407Z
UID:10000626-1736362800-1736370000@www.gmender-fasnet.de
SUMMARY:Training Ranzengarde
DESCRIPTION:Änderungen werden von den Trainerinnen bekanntgegeben.
URL:https://www.gmender-fasnet.de/event/training-ranzengarde/2025-01-08/
LOCATION:Schulzentrum Strümpfelbach – Emil-Molt-Saal\, Scheffoldstraße 136\, Schwäbisch Gmünd\, Baden-Württemberg\, 73529\, Deutschland
CATEGORIES:Ranzengarde
ATTACH;FMTTYPE=image/jpeg:https://www.gmender-fasnet.de/wp-content/uploads/2024/04/427939676_704514288526840_8034190604257309771_n.jpg
END:VEVENT
BEGIN:VEVENT
DTSTART;TZID=Europe/Berlin:20250108T170000
DTEND;TZID=Europe/Berlin:20250108T183000
DTSTAMP:20260422T133633
CREATED:20240423T201557Z
LAST-MODIFIED:20240423T201557Z
UID:10000764-1736355600-1736361000@www.gmender-fasnet.de
SUMMARY:Training Stöpselgarde
DESCRIPTION:Änderungen werden von den Trainerinnen bekanntgegeben.
URL:https://www.gmender-fasnet.de/event/training-stoepselgarde/2025-01-08/
LOCATION:Tanzsportzentrum Disam\, An der Stauferklinik 3\, Mutlangen\, Baden-Württemberg\, 73557\, Deutschland
CATEGORIES:Stöpselgarde
ATTACH;FMTTYPE=image/png:https://www.gmender-fasnet.de/wp-content/uploads/2024/04/Taenzerin_gezeichnet_Stoega_grau-2.png
END:VEVENT
BEGIN:VEVENT
DTSTART;TZID=Europe/Berlin:20250108T153000
DTEND;TZID=Europe/Berlin:20250108T164500
DTSTAMP:20260422T133633
CREATED:20240423T201737Z
LAST-MODIFIED:20240423T201737Z
UID:10000809-1736350200-1736354700@www.gmender-fasnet.de
SUMMARY:Training Glitzerla
DESCRIPTION:Änderungen werden durch die Trainerinnen bekanntgegeben.
URL:https://www.gmender-fasnet.de/event/training-glitzerla/2025-01-08/
LOCATION:Tanzsportzentrum Disam\, An der Stauferklinik 3\, Mutlangen\, Baden-Württemberg\, 73557\, Deutschland
CATEGORIES:Glitzerla
ATTACH;FMTTYPE=image/png:https://www.gmender-fasnet.de/wp-content/uploads/2024/04/Glitzerla_gezeichnet-1.png
END:VEVENT
BEGIN:VEVENT
DTSTART;TZID=Europe/Berlin:20250107T190000
DTEND;TZID=Europe/Berlin:20250107T203000
DTSTAMP:20260422T133633
CREATED:20240423T195926Z
LAST-MODIFIED:20240423T201107Z
UID:10000139-1736276400-1736281800@www.gmender-fasnet.de
SUMMARY:Training Prinzengarde
DESCRIPTION:Abweichungen werden von den Trainerinnen bekanntgegeben.
URL:https://www.gmender-fasnet.de/event/training-prinzengarde/2025-01-07/
LOCATION:Schulzentrum Strümpfelbach – Emil-Molt-Saal\, Scheffoldstraße 136\, Schwäbisch Gmünd\, Baden-Württemberg\, 73529\, Deutschland
CATEGORIES:Prinzengarde
ATTACH;FMTTYPE=image/png:https://www.gmender-fasnet.de/wp-content/uploads/2023/08/Trainingswochenende-Prinzengarde.png
END:VEVENT
BEGIN:VEVENT
DTSTART;TZID=Europe/Berlin:20250107T173000
DTEND;TZID=Europe/Berlin:20250107T190000
DTSTAMP:20260422T133633
CREATED:20240423T200949Z
LAST-MODIFIED:20240423T200949Z
UID:10000670-1736271000-1736276400@www.gmender-fasnet.de
SUMMARY:Training Gmünder Hüpfer
DESCRIPTION:Änderungen werden von den Trainerinnen bekanntgegeben.
URL:https://www.gmender-fasnet.de/event/training-gmuender-huepfer/2025-01-07/
LOCATION:Schulzentrum Strümpfelbach – Emil-Molt-Saal\, Scheffoldstraße 136\, Schwäbisch Gmünd\, Baden-Württemberg\, 73529\, Deutschland
CATEGORIES:Gmünder Hüpfer
ATTACH;FMTTYPE=image/png:https://www.gmender-fasnet.de/wp-content/uploads/2024/04/Huepfer20232024_gezeichnet_grau.png
END:VEVENT
BEGIN:VEVENT
DTSTART;TZID=Europe/Berlin:20250106T183000
DTEND;TZID=Europe/Berlin:20250106T200000
DTSTAMP:20260422T133633
CREATED:20240423T201237Z
LAST-MODIFIED:20240423T201237Z
UID:10000715-1736188200-1736193600@www.gmender-fasnet.de
SUMMARY:Training Tanzteufel
DESCRIPTION:Änderungen werden von den Trainerinnen bekanntgegeben.
URL:https://www.gmender-fasnet.de/event/training-tanzteufel/2025-01-06/
LOCATION:Haus Riedäcker\, In den Riedäckern 29\, Schwäbisch Gmünd\, Baden-Württemberg\, 72529\, Deutschland
CATEGORIES:Tanzteufel
ATTACH;FMTTYPE=image/jpeg:https://www.gmender-fasnet.de/wp-content/uploads/2024/04/Tanzteufel.jpeg
END:VEVENT
BEGIN:VEVENT
DTSTART;TZID=Europe/Berlin:20250102T190000
DTEND;TZID=Europe/Berlin:20250102T203000
DTSTAMP:20260422T133633
CREATED:20240423T195926Z
LAST-MODIFIED:20240423T201107Z
UID:10000138-1735844400-1735849800@www.gmender-fasnet.de
SUMMARY:Training Prinzengarde
DESCRIPTION:Abweichungen werden von den Trainerinnen bekanntgegeben.
URL:https://www.gmender-fasnet.de/event/training-prinzengarde/2025-01-02/
LOCATION:Schulzentrum Strümpfelbach – Emil-Molt-Saal\, Scheffoldstraße 136\, Schwäbisch Gmünd\, Baden-Württemberg\, 73529\, Deutschland
CATEGORIES:Prinzengarde
ATTACH;FMTTYPE=image/png:https://www.gmender-fasnet.de/wp-content/uploads/2023/08/Trainingswochenende-Prinzengarde.png
END:VEVENT
BEGIN:VEVENT
DTSTART;TZID=Europe/Berlin:20250101T190000
DTEND;TZID=Europe/Berlin:20250101T210000
DTSTAMP:20260422T133633
CREATED:20240423T200407Z
LAST-MODIFIED:20240423T200407Z
UID:10000625-1735758000-1735765200@www.gmender-fasnet.de
SUMMARY:Training Ranzengarde
DESCRIPTION:Änderungen werden von den Trainerinnen bekanntgegeben.
URL:https://www.gmender-fasnet.de/event/training-ranzengarde/2025-01-01/
LOCATION:Schulzentrum Strümpfelbach – Emil-Molt-Saal\, Scheffoldstraße 136\, Schwäbisch Gmünd\, Baden-Württemberg\, 73529\, Deutschland
CATEGORIES:Ranzengarde
ATTACH;FMTTYPE=image/jpeg:https://www.gmender-fasnet.de/wp-content/uploads/2024/04/427939676_704514288526840_8034190604257309771_n.jpg
END:VEVENT
BEGIN:VEVENT
DTSTART;TZID=Europe/Berlin:20250101T170000
DTEND;TZID=Europe/Berlin:20250101T183000
DTSTAMP:20260422T133633
CREATED:20240423T201557Z
LAST-MODIFIED:20240423T201557Z
UID:10000763-1735750800-1735756200@www.gmender-fasnet.de
SUMMARY:Training Stöpselgarde
DESCRIPTION:Änderungen werden von den Trainerinnen bekanntgegeben.
URL:https://www.gmender-fasnet.de/event/training-stoepselgarde/2025-01-01/
LOCATION:Tanzsportzentrum Disam\, An der Stauferklinik 3\, Mutlangen\, Baden-Württemberg\, 73557\, Deutschland
CATEGORIES:Stöpselgarde
ATTACH;FMTTYPE=image/png:https://www.gmender-fasnet.de/wp-content/uploads/2024/04/Taenzerin_gezeichnet_Stoega_grau-2.png
END:VEVENT
BEGIN:VEVENT
DTSTART;TZID=Europe/Berlin:20250101T153000
DTEND;TZID=Europe/Berlin:20250101T164500
DTSTAMP:20260422T133633
CREATED:20240423T201737Z
LAST-MODIFIED:20240423T201737Z
UID:10000808-1735745400-1735749900@www.gmender-fasnet.de
SUMMARY:Training Glitzerla
DESCRIPTION:Änderungen werden durch die Trainerinnen bekanntgegeben.
URL:https://www.gmender-fasnet.de/event/training-glitzerla/2025-01-01/
LOCATION:Tanzsportzentrum Disam\, An der Stauferklinik 3\, Mutlangen\, Baden-Württemberg\, 73557\, Deutschland
CATEGORIES:Glitzerla
ATTACH;FMTTYPE=image/png:https://www.gmender-fasnet.de/wp-content/uploads/2024/04/Glitzerla_gezeichnet-1.png
END:VEVENT
BEGIN:VEVENT
DTSTART;TZID=Europe/Berlin:20241231T190000
DTEND;TZID=Europe/Berlin:20241231T203000
DTSTAMP:20260422T133633
CREATED:20240423T195926Z
LAST-MODIFIED:20240423T201107Z
UID:10000137-1735671600-1735677000@www.gmender-fasnet.de
SUMMARY:Training Prinzengarde
DESCRIPTION:Abweichungen werden von den Trainerinnen bekanntgegeben.
URL:https://www.gmender-fasnet.de/event/training-prinzengarde/2024-12-31/
LOCATION:Schulzentrum Strümpfelbach – Emil-Molt-Saal\, Scheffoldstraße 136\, Schwäbisch Gmünd\, Baden-Württemberg\, 73529\, Deutschland
CATEGORIES:Prinzengarde
ATTACH;FMTTYPE=image/png:https://www.gmender-fasnet.de/wp-content/uploads/2023/08/Trainingswochenende-Prinzengarde.png
END:VEVENT
END:VCALENDAR