BEGIN:VCALENDAR
VERSION:2.0
PRODID:-//Gmender Fasnet e.V. - ECPv6.15.20//NONSGML v1.0//EN
CALSCALE:GREGORIAN
METHOD:PUBLISH
X-WR-CALNAME:Gmender Fasnet e.V.
X-ORIGINAL-URL:https://www.gmender-fasnet.de
X-WR-CALDESC:Veranstaltungen für Gmender Fasnet e.V.
REFRESH-INTERVAL;VALUE=DURATION:PT1H
X-Robots-Tag:noindex
X-PUBLISHED-TTL:PT1H
BEGIN:VTIMEZONE
TZID:Europe/Berlin
BEGIN:DAYLIGHT
TZOFFSETFROM:+0100
TZOFFSETTO:+0200
TZNAME:CEST
DTSTART:20230326T010000
END:DAYLIGHT
BEGIN:STANDARD
TZOFFSETFROM:+0200
TZOFFSETTO:+0100
TZNAME:CET
DTSTART:20231029T010000
END:STANDARD
BEGIN:DAYLIGHT
TZOFFSETFROM:+0100
TZOFFSETTO:+0200
TZNAME:CEST
DTSTART:20240331T010000
END:DAYLIGHT
BEGIN:STANDARD
TZOFFSETFROM:+0200
TZOFFSETTO:+0100
TZNAME:CET
DTSTART:20241027T010000
END:STANDARD
BEGIN:DAYLIGHT
TZOFFSETFROM:+0100
TZOFFSETTO:+0200
TZNAME:CEST
DTSTART:20250330T010000
END:DAYLIGHT
BEGIN:STANDARD
TZOFFSETFROM:+0200
TZOFFSETTO:+0100
TZNAME:CET
DTSTART:20251026T010000
END:STANDARD
END:VTIMEZONE
BEGIN:VEVENT
DTSTART;TZID=Europe/Berlin:20241224T190000
DTEND;TZID=Europe/Berlin:20241224T203000
DTSTAMP:20260424T150002
CREATED:20240423T195926Z
LAST-MODIFIED:20240423T201107Z
UID:10000135-1735066800-1735072200@www.gmender-fasnet.de
SUMMARY:Training Prinzengarde
DESCRIPTION:Abweichungen werden von den Trainerinnen bekanntgegeben.
URL:https://www.gmender-fasnet.de/event/training-prinzengarde/2024-12-24/
LOCATION:Schulzentrum Strümpfelbach – Emil-Molt-Saal\, Scheffoldstraße 136\, Schwäbisch Gmünd\, Baden-Württemberg\, 73529\, Deutschland
CATEGORIES:Prinzengarde
ATTACH;FMTTYPE=image/png:https://www.gmender-fasnet.de/wp-content/uploads/2023/08/Trainingswochenende-Prinzengarde.png
END:VEVENT
BEGIN:VEVENT
DTSTART;TZID=Europe/Berlin:20241224T173000
DTEND;TZID=Europe/Berlin:20241224T190000
DTSTAMP:20260424T150002
CREATED:20240423T200949Z
LAST-MODIFIED:20240423T200949Z
UID:10000668-1735061400-1735066800@www.gmender-fasnet.de
SUMMARY:Training Gmünder Hüpfer
DESCRIPTION:Änderungen werden von den Trainerinnen bekanntgegeben.
URL:https://www.gmender-fasnet.de/event/training-gmuender-huepfer/2024-12-24/
LOCATION:Schulzentrum Strümpfelbach – Emil-Molt-Saal\, Scheffoldstraße 136\, Schwäbisch Gmünd\, Baden-Württemberg\, 73529\, Deutschland
CATEGORIES:Gmünder Hüpfer
ATTACH;FMTTYPE=image/png:https://www.gmender-fasnet.de/wp-content/uploads/2024/04/Huepfer20232024_gezeichnet_grau.png
END:VEVENT
BEGIN:VEVENT
DTSTART;TZID=Europe/Berlin:20241223T183000
DTEND;TZID=Europe/Berlin:20241223T200000
DTSTAMP:20260424T150002
CREATED:20240423T201237Z
LAST-MODIFIED:20240423T201237Z
UID:10000713-1734978600-1734984000@www.gmender-fasnet.de
SUMMARY:Training Tanzteufel
DESCRIPTION:Änderungen werden von den Trainerinnen bekanntgegeben.
URL:https://www.gmender-fasnet.de/event/training-tanzteufel/2024-12-23/
LOCATION:Haus Riedäcker\, In den Riedäckern 29\, Schwäbisch Gmünd\, Baden-Württemberg\, 72529\, Deutschland
CATEGORIES:Tanzteufel
ATTACH;FMTTYPE=image/jpeg:https://www.gmender-fasnet.de/wp-content/uploads/2024/04/Tanzteufel.jpeg
END:VEVENT
BEGIN:VEVENT
DTSTART;TZID=Europe/Berlin:20241219T190000
DTEND;TZID=Europe/Berlin:20241219T203000
DTSTAMP:20260424T150002
CREATED:20240423T195926Z
LAST-MODIFIED:20240423T201107Z
UID:10000134-1734634800-1734640200@www.gmender-fasnet.de
SUMMARY:Training Prinzengarde
DESCRIPTION:Abweichungen werden von den Trainerinnen bekanntgegeben.
URL:https://www.gmender-fasnet.de/event/training-prinzengarde/2024-12-19/
LOCATION:Schulzentrum Strümpfelbach – Emil-Molt-Saal\, Scheffoldstraße 136\, Schwäbisch Gmünd\, Baden-Württemberg\, 73529\, Deutschland
CATEGORIES:Prinzengarde
ATTACH;FMTTYPE=image/png:https://www.gmender-fasnet.de/wp-content/uploads/2023/08/Trainingswochenende-Prinzengarde.png
END:VEVENT
BEGIN:VEVENT
DTSTART;TZID=Europe/Berlin:20241218T190000
DTEND;TZID=Europe/Berlin:20241218T210000
DTSTAMP:20260424T150002
CREATED:20240423T200407Z
LAST-MODIFIED:20240423T200407Z
UID:10000623-1734548400-1734555600@www.gmender-fasnet.de
SUMMARY:Training Ranzengarde
DESCRIPTION:Änderungen werden von den Trainerinnen bekanntgegeben.
URL:https://www.gmender-fasnet.de/event/training-ranzengarde/2024-12-18/
LOCATION:Schulzentrum Strümpfelbach – Emil-Molt-Saal\, Scheffoldstraße 136\, Schwäbisch Gmünd\, Baden-Württemberg\, 73529\, Deutschland
CATEGORIES:Ranzengarde
ATTACH;FMTTYPE=image/jpeg:https://www.gmender-fasnet.de/wp-content/uploads/2024/04/427939676_704514288526840_8034190604257309771_n.jpg
END:VEVENT
BEGIN:VEVENT
DTSTART;TZID=Europe/Berlin:20241218T170000
DTEND;TZID=Europe/Berlin:20241218T183000
DTSTAMP:20260424T150002
CREATED:20240423T201557Z
LAST-MODIFIED:20240423T201557Z
UID:10000761-1734541200-1734546600@www.gmender-fasnet.de
SUMMARY:Training Stöpselgarde
DESCRIPTION:Änderungen werden von den Trainerinnen bekanntgegeben.
URL:https://www.gmender-fasnet.de/event/training-stoepselgarde/2024-12-18/
LOCATION:Tanzsportzentrum Disam\, An der Stauferklinik 3\, Mutlangen\, Baden-Württemberg\, 73557\, Deutschland
CATEGORIES:Stöpselgarde
ATTACH;FMTTYPE=image/png:https://www.gmender-fasnet.de/wp-content/uploads/2024/04/Taenzerin_gezeichnet_Stoega_grau-2.png
END:VEVENT
BEGIN:VEVENT
DTSTART;TZID=Europe/Berlin:20241218T153000
DTEND;TZID=Europe/Berlin:20241218T164500
DTSTAMP:20260424T150002
CREATED:20240423T201737Z
LAST-MODIFIED:20240423T201737Z
UID:10000806-1734535800-1734540300@www.gmender-fasnet.de
SUMMARY:Training Glitzerla
DESCRIPTION:Änderungen werden durch die Trainerinnen bekanntgegeben.
URL:https://www.gmender-fasnet.de/event/training-glitzerla/2024-12-18/
LOCATION:Tanzsportzentrum Disam\, An der Stauferklinik 3\, Mutlangen\, Baden-Württemberg\, 73557\, Deutschland
CATEGORIES:Glitzerla
ATTACH;FMTTYPE=image/png:https://www.gmender-fasnet.de/wp-content/uploads/2024/04/Glitzerla_gezeichnet-1.png
END:VEVENT
BEGIN:VEVENT
DTSTART;TZID=Europe/Berlin:20241217T190000
DTEND;TZID=Europe/Berlin:20241217T203000
DTSTAMP:20260424T150002
CREATED:20240423T195926Z
LAST-MODIFIED:20240423T201107Z
UID:10000133-1734462000-1734467400@www.gmender-fasnet.de
SUMMARY:Training Prinzengarde
DESCRIPTION:Abweichungen werden von den Trainerinnen bekanntgegeben.
URL:https://www.gmender-fasnet.de/event/training-prinzengarde/2024-12-17/
LOCATION:Schulzentrum Strümpfelbach – Emil-Molt-Saal\, Scheffoldstraße 136\, Schwäbisch Gmünd\, Baden-Württemberg\, 73529\, Deutschland
CATEGORIES:Prinzengarde
ATTACH;FMTTYPE=image/png:https://www.gmender-fasnet.de/wp-content/uploads/2023/08/Trainingswochenende-Prinzengarde.png
END:VEVENT
BEGIN:VEVENT
DTSTART;TZID=Europe/Berlin:20241217T173000
DTEND;TZID=Europe/Berlin:20241217T190000
DTSTAMP:20260424T150002
CREATED:20240423T200949Z
LAST-MODIFIED:20240423T200949Z
UID:10000667-1734456600-1734462000@www.gmender-fasnet.de
SUMMARY:Training Gmünder Hüpfer
DESCRIPTION:Änderungen werden von den Trainerinnen bekanntgegeben.
URL:https://www.gmender-fasnet.de/event/training-gmuender-huepfer/2024-12-17/
LOCATION:Schulzentrum Strümpfelbach – Emil-Molt-Saal\, Scheffoldstraße 136\, Schwäbisch Gmünd\, Baden-Württemberg\, 73529\, Deutschland
CATEGORIES:Gmünder Hüpfer
ATTACH;FMTTYPE=image/png:https://www.gmender-fasnet.de/wp-content/uploads/2024/04/Huepfer20232024_gezeichnet_grau.png
END:VEVENT
BEGIN:VEVENT
DTSTART;TZID=Europe/Berlin:20241216T183000
DTEND;TZID=Europe/Berlin:20241216T200000
DTSTAMP:20260424T150002
CREATED:20240423T201237Z
LAST-MODIFIED:20240423T201237Z
UID:10000712-1734373800-1734379200@www.gmender-fasnet.de
SUMMARY:Training Tanzteufel
DESCRIPTION:Änderungen werden von den Trainerinnen bekanntgegeben.
URL:https://www.gmender-fasnet.de/event/training-tanzteufel/2024-12-16/
LOCATION:Haus Riedäcker\, In den Riedäckern 29\, Schwäbisch Gmünd\, Baden-Württemberg\, 72529\, Deutschland
CATEGORIES:Tanzteufel
ATTACH;FMTTYPE=image/jpeg:https://www.gmender-fasnet.de/wp-content/uploads/2024/04/Tanzteufel.jpeg
END:VEVENT
BEGIN:VEVENT
DTSTART;TZID=Europe/Berlin:20241212T190000
DTEND;TZID=Europe/Berlin:20241212T203000
DTSTAMP:20260424T150002
CREATED:20240423T195926Z
LAST-MODIFIED:20240423T201107Z
UID:10000132-1734030000-1734035400@www.gmender-fasnet.de
SUMMARY:Training Prinzengarde
DESCRIPTION:Abweichungen werden von den Trainerinnen bekanntgegeben.
URL:https://www.gmender-fasnet.de/event/training-prinzengarde/2024-12-12/
LOCATION:Schulzentrum Strümpfelbach – Emil-Molt-Saal\, Scheffoldstraße 136\, Schwäbisch Gmünd\, Baden-Württemberg\, 73529\, Deutschland
CATEGORIES:Prinzengarde
ATTACH;FMTTYPE=image/png:https://www.gmender-fasnet.de/wp-content/uploads/2023/08/Trainingswochenende-Prinzengarde.png
END:VEVENT
BEGIN:VEVENT
DTSTART;TZID=Europe/Berlin:20241211T190000
DTEND;TZID=Europe/Berlin:20241211T210000
DTSTAMP:20260424T150002
CREATED:20240423T200407Z
LAST-MODIFIED:20240423T200407Z
UID:10000622-1733943600-1733950800@www.gmender-fasnet.de
SUMMARY:Training Ranzengarde
DESCRIPTION:Änderungen werden von den Trainerinnen bekanntgegeben.
URL:https://www.gmender-fasnet.de/event/training-ranzengarde/2024-12-11/
LOCATION:Schulzentrum Strümpfelbach – Emil-Molt-Saal\, Scheffoldstraße 136\, Schwäbisch Gmünd\, Baden-Württemberg\, 73529\, Deutschland
CATEGORIES:Ranzengarde
ATTACH;FMTTYPE=image/jpeg:https://www.gmender-fasnet.de/wp-content/uploads/2024/04/427939676_704514288526840_8034190604257309771_n.jpg
END:VEVENT
BEGIN:VEVENT
DTSTART;TZID=Europe/Berlin:20241211T170000
DTEND;TZID=Europe/Berlin:20241211T183000
DTSTAMP:20260424T150002
CREATED:20240423T201557Z
LAST-MODIFIED:20240423T201557Z
UID:10000760-1733936400-1733941800@www.gmender-fasnet.de
SUMMARY:Training Stöpselgarde
DESCRIPTION:Änderungen werden von den Trainerinnen bekanntgegeben.
URL:https://www.gmender-fasnet.de/event/training-stoepselgarde/2024-12-11/
LOCATION:Tanzsportzentrum Disam\, An der Stauferklinik 3\, Mutlangen\, Baden-Württemberg\, 73557\, Deutschland
CATEGORIES:Stöpselgarde
ATTACH;FMTTYPE=image/png:https://www.gmender-fasnet.de/wp-content/uploads/2024/04/Taenzerin_gezeichnet_Stoega_grau-2.png
END:VEVENT
BEGIN:VEVENT
DTSTART;TZID=Europe/Berlin:20241211T153000
DTEND;TZID=Europe/Berlin:20241211T164500
DTSTAMP:20260424T150002
CREATED:20240423T201737Z
LAST-MODIFIED:20240423T201737Z
UID:10000805-1733931000-1733935500@www.gmender-fasnet.de
SUMMARY:Training Glitzerla
DESCRIPTION:Änderungen werden durch die Trainerinnen bekanntgegeben.
URL:https://www.gmender-fasnet.de/event/training-glitzerla/2024-12-11/
LOCATION:Tanzsportzentrum Disam\, An der Stauferklinik 3\, Mutlangen\, Baden-Württemberg\, 73557\, Deutschland
CATEGORIES:Glitzerla
ATTACH;FMTTYPE=image/png:https://www.gmender-fasnet.de/wp-content/uploads/2024/04/Glitzerla_gezeichnet-1.png
END:VEVENT
BEGIN:VEVENT
DTSTART;TZID=Europe/Berlin:20241210T190000
DTEND;TZID=Europe/Berlin:20241210T203000
DTSTAMP:20260424T150002
CREATED:20240423T195926Z
LAST-MODIFIED:20240423T201107Z
UID:10000131-1733857200-1733862600@www.gmender-fasnet.de
SUMMARY:Training Prinzengarde
DESCRIPTION:Abweichungen werden von den Trainerinnen bekanntgegeben.
URL:https://www.gmender-fasnet.de/event/training-prinzengarde/2024-12-10/
LOCATION:Schulzentrum Strümpfelbach – Emil-Molt-Saal\, Scheffoldstraße 136\, Schwäbisch Gmünd\, Baden-Württemberg\, 73529\, Deutschland
CATEGORIES:Prinzengarde
ATTACH;FMTTYPE=image/png:https://www.gmender-fasnet.de/wp-content/uploads/2023/08/Trainingswochenende-Prinzengarde.png
END:VEVENT
BEGIN:VEVENT
DTSTART;TZID=Europe/Berlin:20241210T173000
DTEND;TZID=Europe/Berlin:20241210T190000
DTSTAMP:20260424T150002
CREATED:20240423T200949Z
LAST-MODIFIED:20240423T200949Z
UID:10000666-1733851800-1733857200@www.gmender-fasnet.de
SUMMARY:Training Gmünder Hüpfer
DESCRIPTION:Änderungen werden von den Trainerinnen bekanntgegeben.
URL:https://www.gmender-fasnet.de/event/training-gmuender-huepfer/2024-12-10/
LOCATION:Schulzentrum Strümpfelbach – Emil-Molt-Saal\, Scheffoldstraße 136\, Schwäbisch Gmünd\, Baden-Württemberg\, 73529\, Deutschland
CATEGORIES:Gmünder Hüpfer
ATTACH;FMTTYPE=image/png:https://www.gmender-fasnet.de/wp-content/uploads/2024/04/Huepfer20232024_gezeichnet_grau.png
END:VEVENT
BEGIN:VEVENT
DTSTART;TZID=Europe/Berlin:20241209T183000
DTEND;TZID=Europe/Berlin:20241209T200000
DTSTAMP:20260424T150002
CREATED:20240423T201237Z
LAST-MODIFIED:20240423T201237Z
UID:10000711-1733769000-1733774400@www.gmender-fasnet.de
SUMMARY:Training Tanzteufel
DESCRIPTION:Änderungen werden von den Trainerinnen bekanntgegeben.
URL:https://www.gmender-fasnet.de/event/training-tanzteufel/2024-12-09/
LOCATION:Haus Riedäcker\, In den Riedäckern 29\, Schwäbisch Gmünd\, Baden-Württemberg\, 72529\, Deutschland
CATEGORIES:Tanzteufel
ATTACH;FMTTYPE=image/jpeg:https://www.gmender-fasnet.de/wp-content/uploads/2024/04/Tanzteufel.jpeg
END:VEVENT
BEGIN:VEVENT
DTSTART;TZID=Europe/Berlin:20241205T190000
DTEND;TZID=Europe/Berlin:20241205T203000
DTSTAMP:20260424T150002
CREATED:20240423T195926Z
LAST-MODIFIED:20240423T201107Z
UID:10000130-1733425200-1733430600@www.gmender-fasnet.de
SUMMARY:Training Prinzengarde
DESCRIPTION:Abweichungen werden von den Trainerinnen bekanntgegeben.
URL:https://www.gmender-fasnet.de/event/training-prinzengarde/2024-12-05/
LOCATION:Schulzentrum Strümpfelbach – Emil-Molt-Saal\, Scheffoldstraße 136\, Schwäbisch Gmünd\, Baden-Württemberg\, 73529\, Deutschland
CATEGORIES:Prinzengarde
ATTACH;FMTTYPE=image/png:https://www.gmender-fasnet.de/wp-content/uploads/2023/08/Trainingswochenende-Prinzengarde.png
END:VEVENT
BEGIN:VEVENT
DTSTART;TZID=Europe/Berlin:20241204T190000
DTEND;TZID=Europe/Berlin:20241204T210000
DTSTAMP:20260424T150002
CREATED:20240423T200407Z
LAST-MODIFIED:20240423T200407Z
UID:10000621-1733338800-1733346000@www.gmender-fasnet.de
SUMMARY:Training Ranzengarde
DESCRIPTION:Änderungen werden von den Trainerinnen bekanntgegeben.
URL:https://www.gmender-fasnet.de/event/training-ranzengarde/2024-12-04/
LOCATION:Schulzentrum Strümpfelbach – Emil-Molt-Saal\, Scheffoldstraße 136\, Schwäbisch Gmünd\, Baden-Württemberg\, 73529\, Deutschland
CATEGORIES:Ranzengarde
ATTACH;FMTTYPE=image/jpeg:https://www.gmender-fasnet.de/wp-content/uploads/2024/04/427939676_704514288526840_8034190604257309771_n.jpg
END:VEVENT
BEGIN:VEVENT
DTSTART;TZID=Europe/Berlin:20241204T170000
DTEND;TZID=Europe/Berlin:20241204T183000
DTSTAMP:20260424T150002
CREATED:20240423T201557Z
LAST-MODIFIED:20240423T201557Z
UID:10000759-1733331600-1733337000@www.gmender-fasnet.de
SUMMARY:Training Stöpselgarde
DESCRIPTION:Änderungen werden von den Trainerinnen bekanntgegeben.
URL:https://www.gmender-fasnet.de/event/training-stoepselgarde/2024-12-04/
LOCATION:Tanzsportzentrum Disam\, An der Stauferklinik 3\, Mutlangen\, Baden-Württemberg\, 73557\, Deutschland
CATEGORIES:Stöpselgarde
ATTACH;FMTTYPE=image/png:https://www.gmender-fasnet.de/wp-content/uploads/2024/04/Taenzerin_gezeichnet_Stoega_grau-2.png
END:VEVENT
BEGIN:VEVENT
DTSTART;TZID=Europe/Berlin:20241204T153000
DTEND;TZID=Europe/Berlin:20241204T164500
DTSTAMP:20260424T150002
CREATED:20240423T201737Z
LAST-MODIFIED:20240423T201737Z
UID:10000804-1733326200-1733330700@www.gmender-fasnet.de
SUMMARY:Training Glitzerla
DESCRIPTION:Änderungen werden durch die Trainerinnen bekanntgegeben.
URL:https://www.gmender-fasnet.de/event/training-glitzerla/2024-12-04/
LOCATION:Tanzsportzentrum Disam\, An der Stauferklinik 3\, Mutlangen\, Baden-Württemberg\, 73557\, Deutschland
CATEGORIES:Glitzerla
ATTACH;FMTTYPE=image/png:https://www.gmender-fasnet.de/wp-content/uploads/2024/04/Glitzerla_gezeichnet-1.png
END:VEVENT
BEGIN:VEVENT
DTSTART;TZID=Europe/Berlin:20241203T190000
DTEND;TZID=Europe/Berlin:20241203T203000
DTSTAMP:20260424T150002
CREATED:20240423T195926Z
LAST-MODIFIED:20240423T201107Z
UID:10000129-1733252400-1733257800@www.gmender-fasnet.de
SUMMARY:Training Prinzengarde
DESCRIPTION:Abweichungen werden von den Trainerinnen bekanntgegeben.
URL:https://www.gmender-fasnet.de/event/training-prinzengarde/2024-12-03/
LOCATION:Schulzentrum Strümpfelbach – Emil-Molt-Saal\, Scheffoldstraße 136\, Schwäbisch Gmünd\, Baden-Württemberg\, 73529\, Deutschland
CATEGORIES:Prinzengarde
ATTACH;FMTTYPE=image/png:https://www.gmender-fasnet.de/wp-content/uploads/2023/08/Trainingswochenende-Prinzengarde.png
END:VEVENT
BEGIN:VEVENT
DTSTART;TZID=Europe/Berlin:20241203T173000
DTEND;TZID=Europe/Berlin:20241203T190000
DTSTAMP:20260424T150002
CREATED:20240423T200949Z
LAST-MODIFIED:20240423T200949Z
UID:10000665-1733247000-1733252400@www.gmender-fasnet.de
SUMMARY:Training Gmünder Hüpfer
DESCRIPTION:Änderungen werden von den Trainerinnen bekanntgegeben.
URL:https://www.gmender-fasnet.de/event/training-gmuender-huepfer/2024-12-03/
LOCATION:Schulzentrum Strümpfelbach – Emil-Molt-Saal\, Scheffoldstraße 136\, Schwäbisch Gmünd\, Baden-Württemberg\, 73529\, Deutschland
CATEGORIES:Gmünder Hüpfer
ATTACH;FMTTYPE=image/png:https://www.gmender-fasnet.de/wp-content/uploads/2024/04/Huepfer20232024_gezeichnet_grau.png
END:VEVENT
BEGIN:VEVENT
DTSTART;TZID=Europe/Berlin:20241202T183000
DTEND;TZID=Europe/Berlin:20241202T200000
DTSTAMP:20260424T150002
CREATED:20240423T201237Z
LAST-MODIFIED:20240423T201237Z
UID:10000710-1733164200-1733169600@www.gmender-fasnet.de
SUMMARY:Training Tanzteufel
DESCRIPTION:Änderungen werden von den Trainerinnen bekanntgegeben.
URL:https://www.gmender-fasnet.de/event/training-tanzteufel/2024-12-02/
LOCATION:Haus Riedäcker\, In den Riedäckern 29\, Schwäbisch Gmünd\, Baden-Württemberg\, 72529\, Deutschland
CATEGORIES:Tanzteufel
ATTACH;FMTTYPE=image/jpeg:https://www.gmender-fasnet.de/wp-content/uploads/2024/04/Tanzteufel.jpeg
END:VEVENT
BEGIN:VEVENT
DTSTART;TZID=Europe/Berlin:20241128T190000
DTEND;TZID=Europe/Berlin:20241128T203000
DTSTAMP:20260424T150002
CREATED:20240423T195926Z
LAST-MODIFIED:20240423T201107Z
UID:10000128-1732820400-1732825800@www.gmender-fasnet.de
SUMMARY:Training Prinzengarde
DESCRIPTION:Abweichungen werden von den Trainerinnen bekanntgegeben.
URL:https://www.gmender-fasnet.de/event/training-prinzengarde/2024-11-28/
LOCATION:Schulzentrum Strümpfelbach – Emil-Molt-Saal\, Scheffoldstraße 136\, Schwäbisch Gmünd\, Baden-Württemberg\, 73529\, Deutschland
CATEGORIES:Prinzengarde
ATTACH;FMTTYPE=image/png:https://www.gmender-fasnet.de/wp-content/uploads/2023/08/Trainingswochenende-Prinzengarde.png
END:VEVENT
BEGIN:VEVENT
DTSTART;TZID=Europe/Berlin:20241127T190000
DTEND;TZID=Europe/Berlin:20241127T210000
DTSTAMP:20260424T150002
CREATED:20240423T200407Z
LAST-MODIFIED:20240423T200407Z
UID:10000620-1732734000-1732741200@www.gmender-fasnet.de
SUMMARY:Training Ranzengarde
DESCRIPTION:Änderungen werden von den Trainerinnen bekanntgegeben.
URL:https://www.gmender-fasnet.de/event/training-ranzengarde/2024-11-27/
LOCATION:Schulzentrum Strümpfelbach – Emil-Molt-Saal\, Scheffoldstraße 136\, Schwäbisch Gmünd\, Baden-Württemberg\, 73529\, Deutschland
CATEGORIES:Ranzengarde
ATTACH;FMTTYPE=image/jpeg:https://www.gmender-fasnet.de/wp-content/uploads/2024/04/427939676_704514288526840_8034190604257309771_n.jpg
END:VEVENT
BEGIN:VEVENT
DTSTART;TZID=Europe/Berlin:20241127T170000
DTEND;TZID=Europe/Berlin:20241127T183000
DTSTAMP:20260424T150002
CREATED:20240423T201557Z
LAST-MODIFIED:20240423T201557Z
UID:10000758-1732726800-1732732200@www.gmender-fasnet.de
SUMMARY:Training Stöpselgarde
DESCRIPTION:Änderungen werden von den Trainerinnen bekanntgegeben.
URL:https://www.gmender-fasnet.de/event/training-stoepselgarde/2024-11-27/
LOCATION:Tanzsportzentrum Disam\, An der Stauferklinik 3\, Mutlangen\, Baden-Württemberg\, 73557\, Deutschland
CATEGORIES:Stöpselgarde
ATTACH;FMTTYPE=image/png:https://www.gmender-fasnet.de/wp-content/uploads/2024/04/Taenzerin_gezeichnet_Stoega_grau-2.png
END:VEVENT
BEGIN:VEVENT
DTSTART;TZID=Europe/Berlin:20241127T153000
DTEND;TZID=Europe/Berlin:20241127T164500
DTSTAMP:20260424T150002
CREATED:20240423T201737Z
LAST-MODIFIED:20240423T201737Z
UID:10000803-1732721400-1732725900@www.gmender-fasnet.de
SUMMARY:Training Glitzerla
DESCRIPTION:Änderungen werden durch die Trainerinnen bekanntgegeben.
URL:https://www.gmender-fasnet.de/event/training-glitzerla/2024-11-27/
LOCATION:Tanzsportzentrum Disam\, An der Stauferklinik 3\, Mutlangen\, Baden-Württemberg\, 73557\, Deutschland
CATEGORIES:Glitzerla
ATTACH;FMTTYPE=image/png:https://www.gmender-fasnet.de/wp-content/uploads/2024/04/Glitzerla_gezeichnet-1.png
END:VEVENT
BEGIN:VEVENT
DTSTART;TZID=Europe/Berlin:20241126T190000
DTEND;TZID=Europe/Berlin:20241126T203000
DTSTAMP:20260424T150002
CREATED:20240423T195926Z
LAST-MODIFIED:20240423T201107Z
UID:10000127-1732647600-1732653000@www.gmender-fasnet.de
SUMMARY:Training Prinzengarde
DESCRIPTION:Abweichungen werden von den Trainerinnen bekanntgegeben.
URL:https://www.gmender-fasnet.de/event/training-prinzengarde/2024-11-26/
LOCATION:Schulzentrum Strümpfelbach – Emil-Molt-Saal\, Scheffoldstraße 136\, Schwäbisch Gmünd\, Baden-Württemberg\, 73529\, Deutschland
CATEGORIES:Prinzengarde
ATTACH;FMTTYPE=image/png:https://www.gmender-fasnet.de/wp-content/uploads/2023/08/Trainingswochenende-Prinzengarde.png
END:VEVENT
BEGIN:VEVENT
DTSTART;TZID=Europe/Berlin:20241126T173000
DTEND;TZID=Europe/Berlin:20241126T190000
DTSTAMP:20260424T150002
CREATED:20240423T200949Z
LAST-MODIFIED:20240423T200949Z
UID:10000664-1732642200-1732647600@www.gmender-fasnet.de
SUMMARY:Training Gmünder Hüpfer
DESCRIPTION:Änderungen werden von den Trainerinnen bekanntgegeben.
URL:https://www.gmender-fasnet.de/event/training-gmuender-huepfer/2024-11-26/
LOCATION:Schulzentrum Strümpfelbach – Emil-Molt-Saal\, Scheffoldstraße 136\, Schwäbisch Gmünd\, Baden-Württemberg\, 73529\, Deutschland
CATEGORIES:Gmünder Hüpfer
ATTACH;FMTTYPE=image/png:https://www.gmender-fasnet.de/wp-content/uploads/2024/04/Huepfer20232024_gezeichnet_grau.png
END:VEVENT
END:VCALENDAR