BEGIN:VCALENDAR
VERSION:2.0
PRODID:-//Gmender Fasnet e.V. - ECPv6.15.20//NONSGML v1.0//EN
CALSCALE:GREGORIAN
METHOD:PUBLISH
X-WR-CALNAME:Gmender Fasnet e.V.
X-ORIGINAL-URL:https://www.gmender-fasnet.de
X-WR-CALDESC:Veranstaltungen für Gmender Fasnet e.V.
REFRESH-INTERVAL;VALUE=DURATION:PT1H
X-Robots-Tag:noindex
X-PUBLISHED-TTL:PT1H
BEGIN:VTIMEZONE
TZID:Europe/Berlin
BEGIN:DAYLIGHT
TZOFFSETFROM:+0100
TZOFFSETTO:+0200
TZNAME:CEST
DTSTART:20230326T010000
END:DAYLIGHT
BEGIN:STANDARD
TZOFFSETFROM:+0200
TZOFFSETTO:+0100
TZNAME:CET
DTSTART:20231029T010000
END:STANDARD
BEGIN:DAYLIGHT
TZOFFSETFROM:+0100
TZOFFSETTO:+0200
TZNAME:CEST
DTSTART:20240331T010000
END:DAYLIGHT
BEGIN:STANDARD
TZOFFSETFROM:+0200
TZOFFSETTO:+0100
TZNAME:CET
DTSTART:20241027T010000
END:STANDARD
BEGIN:DAYLIGHT
TZOFFSETFROM:+0100
TZOFFSETTO:+0200
TZNAME:CEST
DTSTART:20250330T010000
END:DAYLIGHT
BEGIN:STANDARD
TZOFFSETFROM:+0200
TZOFFSETTO:+0100
TZNAME:CET
DTSTART:20251026T010000
END:STANDARD
BEGIN:DAYLIGHT
TZOFFSETFROM:+0100
TZOFFSETTO:+0200
TZNAME:CEST
DTSTART:20260329T010000
END:DAYLIGHT
BEGIN:STANDARD
TZOFFSETFROM:+0200
TZOFFSETTO:+0100
TZNAME:CET
DTSTART:20261025T010000
END:STANDARD
BEGIN:DAYLIGHT
TZOFFSETFROM:+0100
TZOFFSETTO:+0200
TZNAME:CEST
DTSTART:20270328T010000
END:DAYLIGHT
BEGIN:STANDARD
TZOFFSETFROM:+0200
TZOFFSETTO:+0100
TZNAME:CET
DTSTART:20271031T010000
END:STANDARD
END:VTIMEZONE
BEGIN:VEVENT
DTSTART;TZID=Europe/Berlin:20260207T110000
DTEND;TZID=Europe/Berlin:20260208T170000
DTSTAMP:20260422T032031
CREATED:20250605T154943Z
LAST-MODIFIED:20260202T193212Z
UID:10000863-1770462000-1770570000@www.gmender-fasnet.de
SUMMARY:41. Internationales Guggenmusiktreffen Schwäbsich Gmünd
DESCRIPTION:🎺 Schwäbisch Gmünd wird wieder zum Mekka der Guggenmusik! 🎺 \n  \n\nStartet mit uns in DAS Wochenende der Saison!🎉 Vom 07. – 08. Februar 2026 findet das 41. Internationale Guggenmusiktreffen in der Gmünder Innenstadt statt. Das Publikum darf sich auf 18 Gruppen mit knapp 700 Musiker*innen aus Deutschland\, Österreich\, der Schweiz und dem Fürstentum Lichtenstein freuen.➡️ Die teilnehmenden Gruppen werden rechtzeitig bekanntgegeben. \n  \n\n\n\nAm Freitag\, den 06.02.2026 findet mit dem Guggaball der Gmendr Gassafetza im Prediger die inoffizielle Eröffnung des Internationalen Guggenmusiktreffens statt. Weitere Informationen dazu sind auf den Social Media Kanälen und der Website der Gmendr Gassafetza zu finden. \n  \n\n\n\nAm Samstag\, den 07.02.2026 findet ab 11:00 Uhr der Kinderumzug über die Bocksgasse zum Oberen Marktplatz statt. Dort wird um 11:30 Uhr der Narrenbaum gesetzt. Ab 12:15 Uhr werden die einzelnen Guggenmusikkapellen auf der Bühne am Oberen Marktplatz durch die Stadt Schwäbisch Gmünd empfangen und vorgestellt. Im Laufe des Tages werden die Guggenmusikkapellen auf den weiteren Bühnen auf dem Johannisplatz und dem Gerberplatz (Ledergasse) spielen. Ab 18:00 Uhr finden die Monster-Konzerte auf den Bühnen statt. Am Abend und in der Nacht werden die Guggen durch die Kneipen der Gmünder Innenstadt bummeln. \nFür Bewirtung wird durch die örtlichen Vereine gesorgt. Unseren Verpflegungsstand am Samstag findet ihr erneut auf dem Johannisplatz zwischen dem Prediger und der Johanniskirche. Bei uns bekommt ihr wahlweise Rote Wurst\, Rostbratwurst\, Pommes\, Steak oder warmen Leberkäse im Brötchen. Verdursten müsst ihr natürlich auch nicht. Neben Bier\, Sekt\, Hugo und Schorle haben wir auch antialkoholische Getränke im Angebot. 🍻🍾 \n  \nAm Sonntag\, den 08.02.2026 findet ab 11:00 Uhr das Guggenmuiskfrühschoppen in der Großsporthalle in der Katharinenstraße statt. Dort werden nochmals alle Guggenmusikgruppen bis in den späten Nachmittag auftreten. Außerdem wird unsere Prinzengarde um ca. 11:15 Uhr ihr Können unter Beweis stellen. Auch hier ist für das leibliche Wohl gesorgt. \n  \nDas Fasnetabzeichen\, welches als Eintritt für das 41. Internationale Guggenmusiktreffen und den Fasnetumzug gilt\, kann vorab bei allen Mitgliedern der Gmender Fasnet oder am Veranstaltungstag vor Ort gekauft werden.Weitere Informationen zum 41. Internationalen Guggenmusiktreffen gibt es hier.📸 Mario Klaiber
URL:https://www.gmender-fasnet.de/event/41-internationales-guggenmusiktreffen-schwaebsich-gmuend/
LOCATION:Innenstadt Schwäbisch Gmünd
CATEGORIES:Alle Mitglieder,Glitzerla,Gmünder Hüpfer,Hofstaat,Orga-Team,Prinzengarde,Ranzengarde,Silberfunken und Silberschmiede,Silberglöckle,Stöpselgarde,Tanzteufel,Vorstandschaft
ATTACH;FMTTYPE=image/png:https://www.gmender-fasnet.de/wp-content/uploads/2024/04/Internationales-Guggenmusiktreffen.png
ORGANIZER;CN="Touristik und Marketing GmbH":MAILTO:tourist-info@schwaebisch-gmuend.de
END:VEVENT
BEGIN:VEVENT
DTSTART;TZID=Europe/Berlin:20250222T110000
DTEND;TZID=Europe/Berlin:20250223T170000
DTSTAMP:20260422T032031
CREATED:20240423T172940Z
LAST-MODIFIED:20250223T184416Z
UID:10000054-1740222000-1740330000@www.gmender-fasnet.de
SUMMARY:40. Internationales Guggenmusiktreffen Schwäbsich Gmünd
DESCRIPTION:🎺 Schwäbisch Gmünd wird wieder zum Mekka der Guggenmusik! 🎺 \n🦄 JUBILÄUM – 40 JAHRE INTERNATIONALES GUGGENMUSIKTREFFEN SCHWÄBISCH GMÜND! 🦄 \n  \n\nStartet mit uns in DAS Wochenende der Saison!🎉 Vom 22. – 23. Februar 2025 findet das 40. Internationale Guggenmusiktreffen in der Gmünder Innenstadt statt. Das Publikum darf sich auf 20 Gruppen mit rund 800 Musiker*innen aus Deutschland\, Österreich\, der Schweiz und dem Fürstentum Lichtenstein freuen.➡️ Hier sind alle teilnehmenden Gruppen: Teilnehmer 40. Internationales Guggenmusiktreffen \n  \n\n\n\nAm Freitag\, den 21.02.2025 findet mit dem Guggaball der Gmendr Gassafetza im Prediger die inoffizielle Eröffnung des Internationalen Guggenmusiktreffens statt. Weitere Informationen dazu sind auf den Social Media Kanälen und der Website der Gmendr Gassafetza zu finden. \n  \n\n\n\nAm Samstag\, den 22.02.2025 findet ab 11:00 Uhr der Kinderumzug über die Bocksgasse zum Oberen Marktplatz statt. Dort wird um 11:30 Uhr der Narrenbaum gesetzt. Ab 12:15 Uhr werden die einzelnen Guggenmusikkapellen auf der Bühne am Oberen Marktplatz durch die Stadt Schwäbisch Gmünd empfangen und vorgestellt. Im Laufe des Tages werden die Guggenmusikkapellen auf den weiteren Bühnen auf dem Johannisplatz und dem Gerberplatz (Ledergasse) spielen. Ab 18:00 Uhr finden die Monster-Konzerte auf den Bühnen statt. Am Abend und in der Nacht werden die Guggen durch die Kneipen der Gmünder Innenstadt bummeln.➡️ Zeitplan Samstag \nFür Bewirtung wird durch die örtlichen Vereine gesorgt. Unseren Verpflegungsstand am Samstag findet ihr erneut auf dem Johannisplatz zwischen dem Prediger und der Johanniskirche. Bei uns bekommt ihr wahlweise Rote Wurst\, Rostbratwurst\, Pommes oder warmen Leberkäse im Brötchen. Verdursten müsst ihr natürlich auch nicht. Neben Bier\, Sekt\, Hugo und Schorle haben wir auch antialkoholische Getränke im Angebot. 🍻🍾 \n  \nAm Sonntag\, den 23.02.2025 findet ab 11:00 Uhr das Guggenmuiskfrühschoppen in der Großsporthalle in der Katharinenstraße statt. Dort werden nochmals alle Guggenmusikgruppen bis in den späten Nachmittag auftreten. Außerdem wird unsere Prinzengarde um ca. 11:15 Uhr ihr Können unter Beweis stellen. Auch hier ist für das leibliche Wohl gesorgt.➡️ Zeitplan Sonntag \n  \nDas Fasnetabzeichen\, welches als Eintritt für das 40. Internationale Guggenmusiktreffen und den Fasnetumzug gilt\, kann vorab bei allen Mitgliedern der Gmender Fasnet oder am Veranstaltungstag vor Ort gekauft werden.📸 Mario Klaiber
URL:https://www.gmender-fasnet.de/event/39-internationales-guggenmusiktreffen-schwaebsich-gmuend-2/
LOCATION:Innenstadt Schwäbisch Gmünd
CATEGORIES:Alle Mitglieder,Glitzerla,Gmünder Hüpfer,Hofstaat,Orga-Team,Prinzengarde,Silberglöckle,Stöpselgarde,Tanzteufel,Vorstandschaft
ATTACH;FMTTYPE=image/png:https://www.gmender-fasnet.de/wp-content/uploads/2024/04/Internationales-Guggenmusiktreffen.png
ORGANIZER;CN="Touristik und Marketing GmbH":MAILTO:tourist-info@schwaebisch-gmuend.de
END:VEVENT
BEGIN:VEVENT
DTSTART;TZID=Europe/Berlin:20240607T190000
DTEND;TZID=Europe/Berlin:20240609T003000
DTSTAMP:20260422T032031
CREATED:20240504T114147Z
LAST-MODIFIED:20240605T142152Z
UID:10000817-1717786800-1717893000@www.gmender-fasnet.de
SUMMARY:Stadtfest Schwäbisch Gmünd
DESCRIPTION:Am Freitag\, den 07. Juni und am Samstag\, den 08. Juni feiert Schwäbisch Gmünd sein traditionelles Stadtfest. An beiden Tagen versorgt euch die Gmender Fasnet e.V. am Johannisplatz (vor dem Hussel) mit eisgekühlten\, leckeren Getränken.  🍻 \nWir sind am Freitag pünktlich zum Fassanstich von 19:00 – 00:30 Uhr und am Samstag von 10:00 bis 00:30 Uhr für euch da. \nKommt vorbei\, wir freuen uns auf euch! 🎉 \n  \n📸 Für die Bildrechte: Amt für Medien und Kommunikation Schwäbisch Gmünd
URL:https://www.gmender-fasnet.de/event/stadtfest-schwaebisch-gmuend/
LOCATION:Johannisplatz Schwäbisch Gmünd\, Bocksgasse 13\, Schwäbisch Gmünd\, Baden-Württemberg\, 73525\, Deutschland
CATEGORIES:Alle Mitglieder,Glitzerla,Gmünder Hüpfer,Hofstaat,Orga-Team,Prinzengarde,Ranzengarde,Silberglöckle,Stöpselgarde,Tanzteufel,Vorstandschaft
ATTACH;FMTTYPE=image/png:https://www.gmender-fasnet.de/wp-content/uploads/2024/05/Bildschirmfoto-2024-05-04-um-13.30.34.png
ORGANIZER;CN="Touristik und Marketing GmbH":MAILTO:tourist-info@schwaebisch-gmuend.de
END:VEVENT
END:VCALENDAR