BEGIN:VCALENDAR
VERSION:2.0
PRODID:-//Gmender Fasnet e.V. - ECPv6.15.20//NONSGML v1.0//EN
CALSCALE:GREGORIAN
METHOD:PUBLISH
X-ORIGINAL-URL:https://www.gmender-fasnet.de
X-WR-CALDESC:Veranstaltungen für Gmender Fasnet e.V.
REFRESH-INTERVAL;VALUE=DURATION:PT1H
X-Robots-Tag:noindex
X-PUBLISHED-TTL:PT1H
BEGIN:VTIMEZONE
TZID:Europe/Berlin
BEGIN:DAYLIGHT
TZOFFSETFROM:+0100
TZOFFSETTO:+0200
TZNAME:CEST
DTSTART:20250330T010000
END:DAYLIGHT
BEGIN:STANDARD
TZOFFSETFROM:+0200
TZOFFSETTO:+0100
TZNAME:CET
DTSTART:20251026T010000
END:STANDARD
BEGIN:DAYLIGHT
TZOFFSETFROM:+0100
TZOFFSETTO:+0200
TZNAME:CEST
DTSTART:20260329T010000
END:DAYLIGHT
BEGIN:STANDARD
TZOFFSETFROM:+0200
TZOFFSETTO:+0100
TZNAME:CET
DTSTART:20261025T010000
END:STANDARD
BEGIN:DAYLIGHT
TZOFFSETFROM:+0100
TZOFFSETTO:+0200
TZNAME:CEST
DTSTART:20270328T010000
END:DAYLIGHT
BEGIN:STANDARD
TZOFFSETFROM:+0200
TZOFFSETTO:+0100
TZNAME:CET
DTSTART:20271031T010000
END:STANDARD
END:VTIMEZONE
BEGIN:VEVENT
DTSTART;TZID=Europe/Berlin:20260118T133100
DTEND;TZID=Europe/Berlin:20260118T170000
DTSTAMP:20260423T004550
CREATED:20251124T185217Z
LAST-MODIFIED:20260111T153826Z
UID:10000876-1768743060-1768755600@www.gmender-fasnet.de
SUMMARY:Kinderfasching - TSV Leinzell 1900 e.V.
DESCRIPTION:Auftritt der Glitzerla und Tanzteufel um ca. 16 Uhr \nÄnderungen vorbehalten.
URL:https://www.gmender-fasnet.de/event/kinderfasching-tsv-leinzell-1900-e-v/
LOCATION:Kulturhalle Leinzell\, Kirchgasse 2\, Leinzell\, Baden-Württemberg\, 73575\, Deutschland
CATEGORIES:Glitzerla,Hofstaat,Orga-Team,Tanzteufel,Vorstandschaft
ATTACH;FMTTYPE=image/png:https://www.gmender-fasnet.de/wp-content/uploads/2025/11/Bildschirmfoto-2025-11-24-um-19.47.35.png
ORGANIZER;CN="TSV Leinzell 1900 e.V.":MAILTO:info@tsv-leinzell.de
END:VEVENT
END:VCALENDAR