BEGIN:VCALENDAR
VERSION:2.0
PRODID:-//Gmender Fasnet e.V. - ECPv6.15.20//NONSGML v1.0//EN
CALSCALE:GREGORIAN
METHOD:PUBLISH
X-ORIGINAL-URL:https://www.gmender-fasnet.de
X-WR-CALDESC:Veranstaltungen für Gmender Fasnet e.V.
REFRESH-INTERVAL;VALUE=DURATION:PT1H
X-Robots-Tag:noindex
X-PUBLISHED-TTL:PT1H
BEGIN:VTIMEZONE
TZID:Europe/Berlin
BEGIN:DAYLIGHT
TZOFFSETFROM:+0100
TZOFFSETTO:+0200
TZNAME:CEST
DTSTART:20250330T010000
END:DAYLIGHT
BEGIN:STANDARD
TZOFFSETFROM:+0200
TZOFFSETTO:+0100
TZNAME:CET
DTSTART:20251026T010000
END:STANDARD
BEGIN:DAYLIGHT
TZOFFSETFROM:+0100
TZOFFSETTO:+0200
TZNAME:CEST
DTSTART:20260329T010000
END:DAYLIGHT
BEGIN:STANDARD
TZOFFSETFROM:+0200
TZOFFSETTO:+0100
TZNAME:CET
DTSTART:20261025T010000
END:STANDARD
BEGIN:DAYLIGHT
TZOFFSETFROM:+0100
TZOFFSETTO:+0200
TZNAME:CEST
DTSTART:20270328T010000
END:DAYLIGHT
BEGIN:STANDARD
TZOFFSETFROM:+0200
TZOFFSETTO:+0100
TZNAME:CET
DTSTART:20271031T010000
END:STANDARD
END:VTIMEZONE
BEGIN:VEVENT
DTSTART;TZID=Europe/Berlin:20260117T170100
DTEND;TZID=Europe/Berlin:20260118T020000
DTSTAMP:20260423T002422
CREATED:20251123T201951Z
LAST-MODIFIED:20260114T213622Z
UID:10000870-1768669260-1768701600@www.gmender-fasnet.de
SUMMARY:4. Auenwälder Narrentreiben - 1. Narrenzunft Auenwald e.V.
DESCRIPTION:Nachtumzug\, anschließend Auftritt der Prinzengarde um ca. 20:20 Uhr. \nÄnderungen vorbehalten.
URL:https://www.gmender-fasnet.de/event/4-auenwaelder-narrentreiben-1-narrenzunft-auenwald-e-v/
LOCATION:Auenwaldhalle\, Beaurepairestraße 3\, Auenwald\, Baden-Württemberg\, 71549\, Germany
CATEGORIES:Hofstaat,Orga-Team,Prinzengarde,Silberfunken und Silberschmiede,Vorstandschaft
ATTACH;FMTTYPE=image/png:https://www.gmender-fasnet.de/wp-content/uploads/2025/11/Bildschirmfoto-2025-11-23-um-21.16.04.png
END:VEVENT
END:VCALENDAR