BEGIN:VCALENDAR
VERSION:2.0
PRODID:-//Gmender Fasnet e.V. - ECPv6.15.20//NONSGML v1.0//EN
CALSCALE:GREGORIAN
METHOD:PUBLISH
X-ORIGINAL-URL:https://www.gmender-fasnet.de
X-WR-CALDESC:Veranstaltungen für Gmender Fasnet e.V.
REFRESH-INTERVAL;VALUE=DURATION:PT1H
X-Robots-Tag:noindex
X-PUBLISHED-TTL:PT1H
BEGIN:VTIMEZONE
TZID:Europe/Berlin
BEGIN:DAYLIGHT
TZOFFSETFROM:+0100
TZOFFSETTO:+0200
TZNAME:CEST
DTSTART:20240331T010000
END:DAYLIGHT
BEGIN:STANDARD
TZOFFSETFROM:+0200
TZOFFSETTO:+0100
TZNAME:CET
DTSTART:20241027T010000
END:STANDARD
BEGIN:DAYLIGHT
TZOFFSETFROM:+0100
TZOFFSETTO:+0200
TZNAME:CEST
DTSTART:20250330T010000
END:DAYLIGHT
BEGIN:STANDARD
TZOFFSETFROM:+0200
TZOFFSETTO:+0100
TZNAME:CET
DTSTART:20251026T010000
END:STANDARD
BEGIN:DAYLIGHT
TZOFFSETFROM:+0100
TZOFFSETTO:+0200
TZNAME:CEST
DTSTART:20260329T010000
END:DAYLIGHT
BEGIN:STANDARD
TZOFFSETFROM:+0200
TZOFFSETTO:+0100
TZNAME:CET
DTSTART:20261025T010000
END:STANDARD
END:VTIMEZONE
BEGIN:VEVENT
DTSTART;TZID=Europe/Berlin:20250228T143000
DTEND;TZID=Europe/Berlin:20250228T150000
DTSTAMP:20260423T000545
CREATED:20250107T204721Z
LAST-MODIFIED:20250112T150649Z
UID:10000844-1740753000-1740754800@www.gmender-fasnet.de
SUMMARY:Fasching - Begegnungsstätte Riedäcker
DESCRIPTION:Auftritt der Tanzteufel und der Gmünder Hüpfer \nÄnderungen vorbehalten!
URL:https://www.gmender-fasnet.de/event/fasching-begegningsstaette-riedaecker/
LOCATION:Begegnungszentrum Riedäcker\, In den Riedäckern 31\, Schwäbisch Gmünd - Bettringen\, Baden-Württemberg\, 73529\, Germany
CATEGORIES:Gmünder Hüpfer,Hofstaat,Orga-Team,Tanzteufel,Vorstandschaft
ATTACH;FMTTYPE=image/png:https://www.gmender-fasnet.de/wp-content/uploads/2023/12/Riedaecker.png
ORGANIZER;CN="Begegnungszentrum Ried%C3%A4cker":MAILTO:riedaecker@gmail.com
END:VEVENT
END:VCALENDAR