BEGIN:VCALENDAR
VERSION:2.0
PRODID:-//Gmender Fasnet e.V. - ECPv6.15.20//NONSGML v1.0//EN
CALSCALE:GREGORIAN
METHOD:PUBLISH
X-ORIGINAL-URL:https://www.gmender-fasnet.de
X-WR-CALDESC:Veranstaltungen für Gmender Fasnet e.V.
REFRESH-INTERVAL;VALUE=DURATION:PT1H
X-Robots-Tag:noindex
X-PUBLISHED-TTL:PT1H
BEGIN:VTIMEZONE
TZID:Europe/Berlin
BEGIN:DAYLIGHT
TZOFFSETFROM:+0100
TZOFFSETTO:+0200
TZNAME:CEST
DTSTART:20240331T010000
END:DAYLIGHT
BEGIN:STANDARD
TZOFFSETFROM:+0200
TZOFFSETTO:+0100
TZNAME:CET
DTSTART:20241027T010000
END:STANDARD
BEGIN:DAYLIGHT
TZOFFSETFROM:+0100
TZOFFSETTO:+0200
TZNAME:CEST
DTSTART:20250330T010000
END:DAYLIGHT
BEGIN:STANDARD
TZOFFSETFROM:+0200
TZOFFSETTO:+0100
TZNAME:CET
DTSTART:20251026T010000
END:STANDARD
BEGIN:DAYLIGHT
TZOFFSETFROM:+0100
TZOFFSETTO:+0200
TZNAME:CEST
DTSTART:20260329T010000
END:DAYLIGHT
BEGIN:STANDARD
TZOFFSETFROM:+0200
TZOFFSETTO:+0100
TZNAME:CET
DTSTART:20261025T010000
END:STANDARD
END:VTIMEZONE
BEGIN:VEVENT
DTSTART;TZID=Europe/Berlin:20250125T183000
DTEND;TZID=Europe/Berlin:20250125T235900
DTSTAMP:20260422T170246
CREATED:20241123T144706Z
LAST-MODIFIED:20250112T143443Z
UID:10000825-1737829800-1737849540@www.gmender-fasnet.de
SUMMARY:Kappenabend - Campingplatz CCWW Göggingen
DESCRIPTION:Auftritt der Prinzengarde & der Ranzengarde.\nÄnderungen vorbehalten!
URL:https://www.gmender-fasnet.de/event/kappenabend-campingplatz-ccww-goeggingen/
LOCATION:Campingplatz CCWW Göggingen\, Am Götzenbachsee 2\, Göggingen\, Baden-Württemberg\, 73571\, Germany
CATEGORIES:Hofstaat,Orga-Team,Prinzengarde,Ranzengarde,Vorstandschaft
ORGANIZER;CN="Camping Club Welzheimer Wald e.V.":MAILTO:info@ccwelzheimerwald.de
END:VEVENT
END:VCALENDAR