BEGIN:VCALENDAR
VERSION:2.0
PRODID:-//Gmender Fasnet e.V. - ECPv6.15.20//NONSGML v1.0//EN
CALSCALE:GREGORIAN
METHOD:PUBLISH
X-WR-CALNAME:Gmender Fasnet e.V.
X-ORIGINAL-URL:https://www.gmender-fasnet.de
X-WR-CALDESC:Veranstaltungen für Gmender Fasnet e.V.
REFRESH-INTERVAL;VALUE=DURATION:PT1H
X-Robots-Tag:noindex
X-PUBLISHED-TTL:PT1H
BEGIN:VTIMEZONE
TZID:Europe/Berlin
BEGIN:DAYLIGHT
TZOFFSETFROM:+0100
TZOFFSETTO:+0200
TZNAME:CEST
DTSTART:20230326T010000
END:DAYLIGHT
BEGIN:STANDARD
TZOFFSETFROM:+0200
TZOFFSETTO:+0100
TZNAME:CET
DTSTART:20231029T010000
END:STANDARD
BEGIN:DAYLIGHT
TZOFFSETFROM:+0100
TZOFFSETTO:+0200
TZNAME:CEST
DTSTART:20240331T010000
END:DAYLIGHT
BEGIN:STANDARD
TZOFFSETFROM:+0200
TZOFFSETTO:+0100
TZNAME:CET
DTSTART:20241027T010000
END:STANDARD
BEGIN:DAYLIGHT
TZOFFSETFROM:+0100
TZOFFSETTO:+0200
TZNAME:CEST
DTSTART:20250330T010000
END:DAYLIGHT
BEGIN:STANDARD
TZOFFSETFROM:+0200
TZOFFSETTO:+0100
TZNAME:CET
DTSTART:20251026T010000
END:STANDARD
BEGIN:DAYLIGHT
TZOFFSETFROM:+0100
TZOFFSETTO:+0200
TZNAME:CEST
DTSTART:20260329T010000
END:DAYLIGHT
BEGIN:STANDARD
TZOFFSETFROM:+0200
TZOFFSETTO:+0100
TZNAME:CET
DTSTART:20261025T010000
END:STANDARD
BEGIN:DAYLIGHT
TZOFFSETFROM:+0100
TZOFFSETTO:+0200
TZNAME:CEST
DTSTART:20270328T010000
END:DAYLIGHT
BEGIN:STANDARD
TZOFFSETFROM:+0200
TZOFFSETTO:+0100
TZNAME:CET
DTSTART:20271031T010000
END:STANDARD
END:VTIMEZONE
BEGIN:VEVENT
DTSTART;TZID=Europe/Berlin:20260212T200000
DTEND;TZID=Europe/Berlin:20260213T020000
DTSTAMP:20260422T164325
CREATED:20251124T192603Z
LAST-MODIFIED:20251124T202118Z
UID:10000881-1770926400-1770948000@www.gmender-fasnet.de
SUMMARY:Weiberfasching - Center Court Schwäbisch Gmünd
DESCRIPTION:Auftritt der Prinzengarde um ca. 21:00 Uhr und der Ranzengarde um ca. 22:00 Uhr \nÄnderungen vorbehalten.
URL:https://www.gmender-fasnet.de/event/weiberfasching-center-court-schwaebisch-gmuend/
LOCATION:Center Court Schwäbisch Gmünd\, Richard-Bullinger-Straße 68\, Schwäbisch Gmünd\, Baden-Württemberg\, 73527\, Deutschland
CATEGORIES:Hofstaat,Orga-Team,Prinzengarde,Ranzengarde,Vorstandschaft
ATTACH;FMTTYPE=image/png:https://www.gmender-fasnet.de/wp-content/uploads/2023/12/Center-Court.png
END:VEVENT
BEGIN:VEVENT
DTSTART;TZID=Europe/Berlin:20250227T200000
DTEND;TZID=Europe/Berlin:20250227T233000
DTSTAMP:20260422T164326
CREATED:20250107T202248Z
LAST-MODIFIED:20250112T150159Z
UID:10000838-1740686400-1740699000@www.gmender-fasnet.de
SUMMARY:Faschingsball - Center Court / Tennisheim Schwäbisch Gmünd
DESCRIPTION:Auftritt der Prinzengarde & der Ranzengarde. \nÄnderungen vorbehalten!
URL:https://www.gmender-fasnet.de/event/faschingsball-center-court-tennisheim-schwaebisch-gmuend/
LOCATION:Center Court Schwäbisch Gmünd\, Richard-Bullinger-Straße 68\, Schwäbisch Gmünd\, Baden-Württemberg\, 73527\, Deutschland
CATEGORIES:Hofstaat,Orga-Team,Prinzengarde,Ranzengarde,Vorstandschaft
ATTACH;FMTTYPE=image/png:https://www.gmender-fasnet.de/wp-content/uploads/2025/01/Center-Court-.png
END:VEVENT
BEGIN:VEVENT
DTSTART;TZID=Europe/Berlin:20240208T193000
DTEND;TZID=Europe/Berlin:20240209T010000
DTSTAMP:20260422T164326
CREATED:20231223T190848Z
LAST-MODIFIED:20240120T123355Z
UID:10000030-1707420600-1707440400@www.gmender-fasnet.de
SUMMARY:Fasching - Center Court
DESCRIPTION:Auftritt der Prinzengarde um ca. 21:oo Uhr. \nÄnderungen vorbehalten.
URL:https://www.gmender-fasnet.de/event/fasching-center-court/
LOCATION:Center Court Schwäbisch Gmünd\, Richard-Bullinger-Straße 68\, Schwäbisch Gmünd\, Baden-Württemberg\, 73527\, Deutschland
CATEGORIES:Hofstaat,Orga-Team,Prinzengarde,Vorstandschaft
ATTACH;FMTTYPE=image/png:https://www.gmender-fasnet.de/wp-content/uploads/2023/12/Center-Court.png
END:VEVENT
END:VCALENDAR