BEGIN:VCALENDAR
VERSION:2.0
PRODID:-//Gmender Fasnet e.V. - ECPv6.15.20//NONSGML v1.0//EN
CALSCALE:GREGORIAN
METHOD:PUBLISH
X-ORIGINAL-URL:https://www.gmender-fasnet.de
X-WR-CALDESC:Veranstaltungen für Gmender Fasnet e.V.
REFRESH-INTERVAL;VALUE=DURATION:PT1H
X-Robots-Tag:noindex
X-PUBLISHED-TTL:PT1H
BEGIN:VTIMEZONE
TZID:Europe/Berlin
BEGIN:DAYLIGHT
TZOFFSETFROM:+0100
TZOFFSETTO:+0200
TZNAME:CEST
DTSTART:20260329T010000
END:DAYLIGHT
BEGIN:STANDARD
TZOFFSETFROM:+0200
TZOFFSETTO:+0100
TZNAME:CET
DTSTART:20261025T010000
END:STANDARD
BEGIN:DAYLIGHT
TZOFFSETFROM:+0100
TZOFFSETTO:+0200
TZNAME:CEST
DTSTART:20270328T010000
END:DAYLIGHT
BEGIN:STANDARD
TZOFFSETFROM:+0200
TZOFFSETTO:+0100
TZNAME:CET
DTSTART:20271031T010000
END:STANDARD
BEGIN:DAYLIGHT
TZOFFSETFROM:+0100
TZOFFSETTO:+0200
TZNAME:CEST
DTSTART:20280326T010000
END:DAYLIGHT
BEGIN:STANDARD
TZOFFSETFROM:+0200
TZOFFSETTO:+0100
TZNAME:CET
DTSTART:20281029T010000
END:STANDARD
END:VTIMEZONE
BEGIN:VEVENT
DTSTART;TZID=Europe/Berlin:20270122T193000
DTEND;TZID=Europe/Berlin:20270122T193000
DTSTAMP:20260422T114906
CREATED:20260325T211811Z
LAST-MODIFIED:20260325T212612Z
UID:10000900-1800646200-1800646200@www.gmender-fasnet.de
SUMMARY:40. Prunksitzung der Gmender Fasnet
DESCRIPTION:Die 40. Prunksitzung der Gmender Fasnet e.V. findet am 22. Januar 2027 im Peter-Parler-Saal des Congress-Centrum Stadtgarten Schwäbisch Gmünd statt. Wir nehmen euch mit auf eine Reise durch die Zeit! ⌛️ \nWie jedes Jahr dürfen sich die Besucher auf mehrere Tanzeinlagen unserer Garden\, Guggenmusik\, scharfe Kritik an der Gmünder Obrigkeit und viel Humor freuen. Natürlich werden auch überregional bekannte Künstler auftreten\, sowie völlig neue Programmpunkte zu bestaunen sein. Saaleinlass ist ab 18:00 Uhr\, das Programm beginnt um 19:30 Uhr. Programmende ist ca. um Mitternacht.🎉 \nDas Motto der Prunksitzung wird im Spätsommer bekannt gegeben. \nTickets für die Prunksitzung gibt es ab November an folgenden VVK-Stellen: \n\nEberhard Kucher (Mobil: 0176 / 456 696 10; Mail: eberhardkucher@web.de)\nGasthof zum Stadtwirt\, Straßdorf (Tel. 07171 / 43 627; Mi-So ab 11:00 Uhr)\ni-Punkt Schwäbisch Gmünd (Tel. 07171 / 6034250)\nonline im Ticketpotal des i-Punkts\n\nSchnell sein lohnt sich! 🎫
URL:https://www.gmender-fasnet.de/event/40-prunksitzung-der-gmender-fasnet/
LOCATION:Congress-Centrum Stadtgarten Schwäbisch Gmünd\, Rektor-Klaus-Straße 9\, Schwäbisch Gmünd\, Baden-Württemberg\, 73525\, Deutschland
CATEGORIES:Alle Mitglieder,Glitzerla,Gmünder Hüpfer,Hofstaat,Orga-Team,Prinzengarde,Ranzengarde,Silberfunken und Silberschmiede,Silberglöckle,Stöpselgarde,Tanzteufel,Vorstandschaft
END:VEVENT
END:VCALENDAR