BEGIN:VCALENDAR
VERSION:2.0
PRODID:-//Gmender Fasnet e.V. - ECPv6.15.20//NONSGML v1.0//EN
CALSCALE:GREGORIAN
METHOD:PUBLISH
X-ORIGINAL-URL:https://www.gmender-fasnet.de
X-WR-CALDESC:Veranstaltungen für Gmender Fasnet e.V.
REFRESH-INTERVAL;VALUE=DURATION:PT1H
X-Robots-Tag:noindex
X-PUBLISHED-TTL:PT1H
BEGIN:VTIMEZONE
TZID:Europe/Berlin
BEGIN:DAYLIGHT
TZOFFSETFROM:+0100
TZOFFSETTO:+0200
TZNAME:CEST
DTSTART:20230326T010000
END:DAYLIGHT
BEGIN:STANDARD
TZOFFSETFROM:+0200
TZOFFSETTO:+0100
TZNAME:CET
DTSTART:20231029T010000
END:STANDARD
BEGIN:DAYLIGHT
TZOFFSETFROM:+0100
TZOFFSETTO:+0200
TZNAME:CEST
DTSTART:20240331T010000
END:DAYLIGHT
BEGIN:STANDARD
TZOFFSETFROM:+0200
TZOFFSETTO:+0100
TZNAME:CET
DTSTART:20241027T010000
END:STANDARD
BEGIN:DAYLIGHT
TZOFFSETFROM:+0100
TZOFFSETTO:+0200
TZNAME:CEST
DTSTART:20250330T010000
END:DAYLIGHT
BEGIN:STANDARD
TZOFFSETFROM:+0200
TZOFFSETTO:+0100
TZNAME:CET
DTSTART:20251026T010000
END:STANDARD
BEGIN:DAYLIGHT
TZOFFSETFROM:+0100
TZOFFSETTO:+0200
TZNAME:CEST
DTSTART:20260329T010000
END:DAYLIGHT
BEGIN:STANDARD
TZOFFSETFROM:+0200
TZOFFSETTO:+0100
TZNAME:CET
DTSTART:20261025T010000
END:STANDARD
BEGIN:DAYLIGHT
TZOFFSETFROM:+0100
TZOFFSETTO:+0200
TZNAME:CEST
DTSTART:20270328T010000
END:DAYLIGHT
BEGIN:STANDARD
TZOFFSETFROM:+0200
TZOFFSETTO:+0100
TZNAME:CET
DTSTART:20271031T010000
END:STANDARD
END:VTIMEZONE
BEGIN:VEVENT
DTSTART;TZID=Europe/Berlin:20260216T193000
DTEND;TZID=Europe/Berlin:20260217T020000
DTSTAMP:20260422T133732
CREATED:20251124T201810Z
LAST-MODIFIED:20251124T201810Z
UID:10000889-1771270200-1771293600@www.gmender-fasnet.de
SUMMARY:Rosenmontagsball - Dorfgemeinschaft Hönig
DESCRIPTION:Auftritt der Prinzengarde und Ranzengarde um ca. 21:00 Uhr \nÄnderungen vorbehalten.
URL:https://www.gmender-fasnet.de/event/rosenmontagsball-dorfgemeinschaft-hoenig/
LOCATION:Dorfgemeinschaftshaus Hönig\, Birkenloher Str. 19\, Ruppertshofen\, Baden-Württemberg\, 73577\, Deutschland
CATEGORIES:Hofstaat,Orga-Team,Prinzengarde,Ranzengarde,Vorstandschaft
ATTACH;FMTTYPE=image/jpeg:https://www.gmender-fasnet.de/wp-content/uploads/2025/11/019e9503-c5c0-45a0-a2ca-6d8fc6ec6f84.jpeg
END:VEVENT
BEGIN:VEVENT
DTSTART;TZID=Europe/Berlin:20250303T200000
DTEND;TZID=Europe/Berlin:20250303T235900
DTSTAMP:20260422T133732
CREATED:20250118T223523Z
LAST-MODIFIED:20250118T223523Z
UID:10000855-1741032000-1741046340@www.gmender-fasnet.de
SUMMARY:Rosenmontagsball Hönig
DESCRIPTION:Auftritt der Prinzengarde und der Ranzengarde. \nÄnderungen vorbehalten!
URL:https://www.gmender-fasnet.de/event/rosenmontagsball-hoenig-2/
LOCATION:Dorfgemeinschaftshaus Hönig\, Birkenloher Str. 19\, Ruppertshofen\, Baden-Württemberg\, 73577\, Deutschland
CATEGORIES:Hofstaat,Orga-Team,Prinzengarde,Ranzengarde,Vorstandschaft
ATTACH;FMTTYPE=image/png:https://www.gmender-fasnet.de/wp-content/uploads/2023/12/Hoenig.png
END:VEVENT
BEGIN:VEVENT
DTSTART;TZID=Europe/Berlin:20240212T190000
DTEND;TZID=Europe/Berlin:20240212T210000
DTSTAMP:20260422T133732
CREATED:20231224T155621Z
LAST-MODIFIED:20240120T140929Z
UID:10000042-1707764400-1707771600@www.gmender-fasnet.de
SUMMARY:Rosenmontagsball - Hönig
DESCRIPTION:Auftritt der Prinzengarde um ca. 21:00 Uhr. \nÄnderungen vorbehalten.
URL:https://www.gmender-fasnet.de/event/rosenmontagsball-hoenig/
LOCATION:Dorfgemeinschaftshaus Hönig\, Birkenloher Str. 19\, Ruppertshofen\, Baden-Württemberg\, 73577\, Deutschland
CATEGORIES:Hofstaat,Orga-Team,Prinzengarde,Vorstandschaft
ATTACH;FMTTYPE=image/png:https://www.gmender-fasnet.de/wp-content/uploads/2023/12/Hoenig.png
END:VEVENT
END:VCALENDAR