BEGIN:VCALENDAR
VERSION:2.0
PRODID:-//Gmender Fasnet e.V. - ECPv6.15.20//NONSGML v1.0//EN
CALSCALE:GREGORIAN
METHOD:PUBLISH
X-WR-CALNAME:Gmender Fasnet e.V.
X-ORIGINAL-URL:https://www.gmender-fasnet.de
X-WR-CALDESC:Veranstaltungen für Gmender Fasnet e.V.
REFRESH-INTERVAL;VALUE=DURATION:PT1H
X-Robots-Tag:noindex
X-PUBLISHED-TTL:PT1H
BEGIN:VTIMEZONE
TZID:Europe/Berlin
BEGIN:DAYLIGHT
TZOFFSETFROM:+0100
TZOFFSETTO:+0200
TZNAME:CEST
DTSTART:20230326T010000
END:DAYLIGHT
BEGIN:STANDARD
TZOFFSETFROM:+0200
TZOFFSETTO:+0100
TZNAME:CET
DTSTART:20231029T010000
END:STANDARD
BEGIN:DAYLIGHT
TZOFFSETFROM:+0100
TZOFFSETTO:+0200
TZNAME:CEST
DTSTART:20240331T010000
END:DAYLIGHT
BEGIN:STANDARD
TZOFFSETFROM:+0200
TZOFFSETTO:+0100
TZNAME:CET
DTSTART:20241027T010000
END:STANDARD
BEGIN:DAYLIGHT
TZOFFSETFROM:+0100
TZOFFSETTO:+0200
TZNAME:CEST
DTSTART:20250330T010000
END:DAYLIGHT
BEGIN:STANDARD
TZOFFSETFROM:+0200
TZOFFSETTO:+0100
TZNAME:CET
DTSTART:20251026T010000
END:STANDARD
BEGIN:DAYLIGHT
TZOFFSETFROM:+0100
TZOFFSETTO:+0200
TZNAME:CEST
DTSTART:20260329T010000
END:DAYLIGHT
BEGIN:STANDARD
TZOFFSETFROM:+0200
TZOFFSETTO:+0100
TZNAME:CET
DTSTART:20261025T010000
END:STANDARD
BEGIN:DAYLIGHT
TZOFFSETFROM:+0100
TZOFFSETTO:+0200
TZNAME:CEST
DTSTART:20270328T010000
END:DAYLIGHT
BEGIN:STANDARD
TZOFFSETFROM:+0200
TZOFFSETTO:+0100
TZNAME:CET
DTSTART:20271031T010000
END:STANDARD
END:VTIMEZONE
BEGIN:VEVENT
DTSTART;TZID=Europe/Berlin:20260214T200000
DTEND;TZID=Europe/Berlin:20260215T020000
DTSTAMP:20260422T212440
CREATED:20251124T195348Z
LAST-MODIFIED:20251124T195609Z
UID:10000885-1771099200-1771120800@www.gmender-fasnet.de
SUMMARY:Faschingsball - TV Lindach 1886 e.V.
DESCRIPTION:Auftritt der Prinzengarde und der Ranzengarde \nÄnderungen vorbehalten.
URL:https://www.gmender-fasnet.de/event/faschingsball-tv-lindach-1886-e-v/
LOCATION:Eichenrainhalle Lindach\, Osterlängstraße 32\, Schwäbisch Gmünd\, Baden-Württemberg\, 72527\, Deutschland
CATEGORIES:Hofstaat,Orga-Team,Prinzengarde,Ranzengarde,Vorstandschaft
ATTACH;FMTTYPE=image/jpeg:https://www.gmender-fasnet.de/wp-content/uploads/2025/11/a39cfc4c-b6c0-4cb7-958d-6ae20dc9f763-scaled.jpg
ORGANIZER;CN="TV Lindach 1866 e.V.":MAILTO:webmaster@tv-lindach.de
END:VEVENT
BEGIN:VEVENT
DTSTART;TZID=Europe/Berlin:20250301T190000
DTEND;TZID=Europe/Berlin:20250301T235900
DTSTAMP:20260422T212440
CREATED:20250118T220541Z
LAST-MODIFIED:20250118T220541Z
UID:10000848-1740855600-1740873540@www.gmender-fasnet.de
SUMMARY:Fasching - Lindach
DESCRIPTION:Auftritt der Prinzengarde und der Ranzengarde \nÄnderungen vorbehalten!
URL:https://www.gmender-fasnet.de/event/fasching-lindach/
LOCATION:Eichenrainhalle Lindach\, Osterlängstraße 32\, Schwäbisch Gmünd\, Baden-Württemberg\, 72527\, Deutschland
CATEGORIES:Hofstaat,Orga-Team,Prinzengarde,Ranzengarde,Vorstandschaft
ATTACH;FMTTYPE=image/png:https://www.gmender-fasnet.de/wp-content/uploads/2023/12/Fasching-Lindach.png
ORGANIZER;CN="TV Lindach 1866 e.V.":MAILTO:webmaster@tv-lindach.de
END:VEVENT
BEGIN:VEVENT
DTSTART;TZID=Europe/Berlin:20240210T193000
DTEND;TZID=Europe/Berlin:20240211T010000
DTSTAMP:20260422T212440
CREATED:20231224T150055Z
LAST-MODIFIED:20240202T154108Z
UID:10000035-1707593400-1707613200@www.gmender-fasnet.de
SUMMARY:Faschingsball - Lindach
DESCRIPTION:Auftritt der Prinzengarde um ca. 21:30 Uhr. \nÄnderungen vorbehalten. \n\n\n\n 
URL:https://www.gmender-fasnet.de/event/faschingsball-lindach/
LOCATION:Eichenrainhalle Lindach\, Osterlängstraße 32\, Schwäbisch Gmünd\, Baden-Württemberg\, 72527\, Deutschland
CATEGORIES:Hofstaat,Orga-Team,Prinzengarde,Vorstandschaft
ATTACH;FMTTYPE=image/png:https://www.gmender-fasnet.de/wp-content/uploads/2023/12/Fasching-Lindach.png
ORGANIZER;CN="TV Lindach 1866 e.V.":MAILTO:webmaster@tv-lindach.de
END:VEVENT
END:VCALENDAR