BEGIN:VCALENDAR
VERSION:2.0
PRODID:-//Gmender Fasnet e.V. - ECPv6.15.20//NONSGML v1.0//EN
CALSCALE:GREGORIAN
METHOD:PUBLISH
X-ORIGINAL-URL:https://www.gmender-fasnet.de
X-WR-CALDESC:Veranstaltungen für Gmender Fasnet e.V.
REFRESH-INTERVAL;VALUE=DURATION:PT1H
X-Robots-Tag:noindex
X-PUBLISHED-TTL:PT1H
BEGIN:VTIMEZONE
TZID:Europe/Berlin
BEGIN:DAYLIGHT
TZOFFSETFROM:+0100
TZOFFSETTO:+0200
TZNAME:CEST
DTSTART:20230326T010000
END:DAYLIGHT
BEGIN:STANDARD
TZOFFSETFROM:+0200
TZOFFSETTO:+0100
TZNAME:CET
DTSTART:20231029T010000
END:STANDARD
BEGIN:DAYLIGHT
TZOFFSETFROM:+0100
TZOFFSETTO:+0200
TZNAME:CEST
DTSTART:20240331T010000
END:DAYLIGHT
BEGIN:STANDARD
TZOFFSETFROM:+0200
TZOFFSETTO:+0100
TZNAME:CET
DTSTART:20241027T010000
END:STANDARD
BEGIN:DAYLIGHT
TZOFFSETFROM:+0100
TZOFFSETTO:+0200
TZNAME:CEST
DTSTART:20250330T010000
END:DAYLIGHT
BEGIN:STANDARD
TZOFFSETFROM:+0200
TZOFFSETTO:+0100
TZNAME:CET
DTSTART:20251026T010000
END:STANDARD
BEGIN:DAYLIGHT
TZOFFSETFROM:+0100
TZOFFSETTO:+0200
TZNAME:CEST
DTSTART:20260329T010000
END:DAYLIGHT
BEGIN:STANDARD
TZOFFSETFROM:+0200
TZOFFSETTO:+0100
TZNAME:CET
DTSTART:20261025T010000
END:STANDARD
BEGIN:DAYLIGHT
TZOFFSETFROM:+0100
TZOFFSETTO:+0200
TZNAME:CEST
DTSTART:20270328T010000
END:DAYLIGHT
BEGIN:STANDARD
TZOFFSETFROM:+0200
TZOFFSETTO:+0100
TZNAME:CET
DTSTART:20271031T010000
END:STANDARD
END:VTIMEZONE
BEGIN:VEVENT
DTSTART;TZID=Europe/Berlin:20260131T200000
DTEND;TZID=Europe/Berlin:20260201T020000
DTSTAMP:20260422T064307
CREATED:20251123T204057Z
LAST-MODIFIED:20260127T202226Z
UID:10000873-1769889600-1769911200@www.gmender-fasnet.de
SUMMARY:Weltraumfasching - Freiwillige Feuerwehr Wetzgau-Rehnenhof
DESCRIPTION:Auftritt der Prinzengarde und der Ranzengarde um ca. 21:00 Uhr \nÄnderungen vorbehalten.
URL:https://www.gmender-fasnet.de/event/weltraumfasching-freiwillige-feuerwehr-wetzgau-rehnenhof/
LOCATION:Friedensturnhalle Wetzgau\, Karlsbader Straße 25\, Schwäbisch Gmünd\, Baden-Württemberg\, 73527\, Deutschland
CATEGORIES:Hofstaat,Orga-Team,Prinzengarde,Ranzengarde,Vorstandschaft
ATTACH;FMTTYPE=image/png:https://www.gmender-fasnet.de/wp-content/uploads/2025/11/Bildschirmfoto-2025-12-31-um-14.55.39.png
END:VEVENT
BEGIN:VEVENT
DTSTART;TZID=Europe/Berlin:20250215T190000
DTEND;TZID=Europe/Berlin:20250216T020000
DTSTAMP:20260422T064307
CREATED:20241123T150020Z
LAST-MODIFIED:20250112T144839Z
UID:10000828-1739646000-1739671200@www.gmender-fasnet.de
SUMMARY:Weltraumfasching - Freiwillige Feuerwehr Wetzgau-Rehnenhof
DESCRIPTION:Auftritt der Prinzengarde \nÄnderungen vorbehalten!
URL:https://www.gmender-fasnet.de/event/maerchenfasching-freiwillige-feuerwehr-wetzgau-rehnenhof/
LOCATION:Friedensturnhalle Wetzgau\, Karlsbader Straße 25\, Schwäbisch Gmünd\, Baden-Württemberg\, 73527\, Deutschland
CATEGORIES:Hofstaat,Orga-Team,Prinzengarde,Vorstandschaft
ATTACH;FMTTYPE=image/png:https://www.gmender-fasnet.de/wp-content/uploads/2024/11/Bildschirmfoto-2025-01-12-um-15.46.46.png
END:VEVENT
BEGIN:VEVENT
DTSTART;TZID=Europe/Berlin:20250208T140000
DTEND;TZID=Europe/Berlin:20250208T173000
DTSTAMP:20260422T064307
CREATED:20250112T144106Z
LAST-MODIFIED:20250112T144106Z
UID:10000845-1739023200-1739035800@www.gmender-fasnet.de
SUMMARY:Wexhainer Kinderfasching - Rehnenhof-Wetzgau
DESCRIPTION:Auftritt der Tanzteufel und der Gmünder Hüpfer. \nÄnderungen vorbehalten!
URL:https://www.gmender-fasnet.de/event/wexhainer-kinderfasching-rehnenhof-wetzgau/
LOCATION:Friedensturnhalle Wetzgau\, Karlsbader Straße 25\, Schwäbisch Gmünd\, Baden-Württemberg\, 73527\, Deutschland
CATEGORIES:Gmünder Hüpfer,Hofstaat,Orga-Team,Tanzteufel,Vorstandschaft
END:VEVENT
BEGIN:VEVENT
DTSTART;TZID=Europe/Berlin:20240127T195900
DTEND;TZID=Europe/Berlin:20240128T195900
DTSTAMP:20260422T064307
CREATED:20231223T182743Z
LAST-MODIFIED:20240120T122916Z
UID:10000026-1706385540-1706471940@www.gmender-fasnet.de
SUMMARY:Märchenfasching - Wetzgau
DESCRIPTION:Auftritt der Prinzengarde um ca. 21:45 Uhr \nÄnderungen vorbehalten.
URL:https://www.gmender-fasnet.de/event/maerchenfasching-wetzgau/
LOCATION:Friedensturnhalle Wetzgau\, Karlsbader Straße 25\, Schwäbisch Gmünd\, Baden-Württemberg\, 73527\, Deutschland
CATEGORIES:Hofstaat,Orga-Team,Prinzengarde,Vorstandschaft
ATTACH;FMTTYPE=image/png:https://www.gmender-fasnet.de/wp-content/uploads/2023/12/Bildschirmfoto-2024-01-01-um-14.55.17.png
END:VEVENT
END:VCALENDAR