BEGIN:VCALENDAR
VERSION:2.0
PRODID:-//Gmender Fasnet e.V. - ECPv6.15.20//NONSGML v1.0//EN
CALSCALE:GREGORIAN
METHOD:PUBLISH
X-ORIGINAL-URL:https://www.gmender-fasnet.de
X-WR-CALDESC:Veranstaltungen für Gmender Fasnet e.V.
REFRESH-INTERVAL;VALUE=DURATION:PT1H
X-Robots-Tag:noindex
X-PUBLISHED-TTL:PT1H
BEGIN:VTIMEZONE
TZID:Europe/Berlin
BEGIN:DAYLIGHT
TZOFFSETFROM:+0100
TZOFFSETTO:+0200
TZNAME:CEST
DTSTART:20220327T010000
END:DAYLIGHT
BEGIN:STANDARD
TZOFFSETFROM:+0200
TZOFFSETTO:+0100
TZNAME:CET
DTSTART:20221030T010000
END:STANDARD
BEGIN:DAYLIGHT
TZOFFSETFROM:+0100
TZOFFSETTO:+0200
TZNAME:CEST
DTSTART:20230326T010000
END:DAYLIGHT
BEGIN:STANDARD
TZOFFSETFROM:+0200
TZOFFSETTO:+0100
TZNAME:CET
DTSTART:20231029T010000
END:STANDARD
BEGIN:DAYLIGHT
TZOFFSETFROM:+0100
TZOFFSETTO:+0200
TZNAME:CEST
DTSTART:20240331T010000
END:DAYLIGHT
BEGIN:STANDARD
TZOFFSETFROM:+0200
TZOFFSETTO:+0100
TZNAME:CET
DTSTART:20241027T010000
END:STANDARD
BEGIN:DAYLIGHT
TZOFFSETFROM:+0100
TZOFFSETTO:+0200
TZNAME:CEST
DTSTART:20250330T010000
END:DAYLIGHT
BEGIN:STANDARD
TZOFFSETFROM:+0200
TZOFFSETTO:+0100
TZNAME:CET
DTSTART:20251026T010000
END:STANDARD
END:VTIMEZONE
BEGIN:VEVENT
DTSTART;TZID=Europe/Berlin:20240118T193000
DTEND;TZID=Europe/Berlin:20240118T210000
DTSTAMP:20260422T224616
CREATED:20240107T183546Z
LAST-MODIFIED:20240107T183546Z
UID:10000047-1705606200-1705611600@www.gmender-fasnet.de
SUMMARY:1. Vollversammlung der Gmender Fasnet e.V.
DESCRIPTION:An alle Mitglieder und Freunde der Gmender Fasnet \n1. Vollversammlung am 18.01.2024 \nAm Donnerstag\, den 18.01.2024 findet um 19.30 Uhr im Gasthaus „Zum Stadtwirt“ in Straßdorf die 1. Vollversammlung 2024 der Gmender Fasnet statt. \nTagespunkte: \n\nBegrüßung\nKleiner Bericht des Vorstandes\nStandvergabe 39. Internationales Guggenmusiktreffen\n37. Prunksitzung\nStandvergabe 48. Umzug Schwäbisch Gmünd\nAbzeichen – Ausgabe\nVerschiedenes\n\nMit freundlichen Grüßen \nEberhard Kucher Präsident
URL:https://www.gmender-fasnet.de/event/1-vollversammlung-der-gmender-fasnet-e-v/
LOCATION:Gasthof zum Stadtwirt\, Donzdorfer Straße 35\, Schwäbisch Gmünd - Straßdorf\, Baden-Württemberg\, 73529\, Deutschland
CATEGORIES:Alle Mitglieder,Glitzerla,Gmünder Hüpfer,Hofstaat,Orga-Team,Prinzengarde,Silberglöckle,Stöpselgarde,Tanzteufel,Vorstandschaft
ATTACH;FMTTYPE=image/png:https://www.gmender-fasnet.de/wp-content/uploads/2023/08/Bilder-fuer-Veranstaltungen-Website-43.png
END:VEVENT
BEGIN:VEVENT
DTSTART;TZID=Europe/Berlin:20231020T193000
DTEND;TZID=Europe/Berlin:20231020T213000
DTSTAMP:20260422T224616
CREATED:20230805T135812Z
LAST-MODIFIED:20231010T195120Z
UID:10000011-1697830200-1697837400@www.gmender-fasnet.de
SUMMARY:Jahreshauptversammlung 2022 - 2023
DESCRIPTION:Jahreshauptversammlung mit 1. Sitzung 2022/2023 \n\n\n\nDie Tagesordnung umfasst folgende Punkte: \n\nBegrüßung\nJahresbericht des Vorsitzenden\nKassenbericht\nBericht des Kassenprüfers\nEntlastung\nWahlen\n\nPräsident (2 Jahre)\nVizepräsident (2 Jahre)\nVizepräsident (1 Jahr)\nBeiräte (2 Jahre)\nKassenprüfer 1 (2 Jahre)\nKassenprüfer 2 (2 Jahre)\nErsatzkassenprüfer 1 (2 Jahre)\nErsatzkassenprüfer (2 Jahre)\nStellv. Schriftführer (2 Jahre)\n\n\nInformationen über Veranstaltungen der Gmender Fasnet in der Saison 2023 / 2024\nAnträge\nVerschiedenes\n\n\n\n\nDer Gasthof zum Stadtwirt stellt uns die übliche Speisekarte zur Verfügung. \nAnträge sind spätestens eine Woche vor der Versammlung beim 1. Vorsitzenden Eberhard Kucher\, Klarenbergstraße 223\, 73529 Schwäbisch Gmünd schriftlich einzureichen. \n\n\n\n\n\n\nUm bestmöglich planen zu können bitten wir Euch um Rückmeldung bis spätestens 13.10.2023 an Melanie Grieb.
URL:https://www.gmender-fasnet.de/event/hauptversammlung-2023/
LOCATION:Gasthof zum Stadtwirt\, Donzdorfer Straße 35\, Schwäbisch Gmünd - Straßdorf\, Baden-Württemberg\, 73529\, Deutschland
CATEGORIES:Alle Mitglieder,Glitzerla,Gmünder Hüpfer,Hofstaat,Orga-Team,Prinzengarde,Silberglöckle,Stöpselgarde,Tanzteufel,Vorstandschaft
ATTACH;FMTTYPE=image/png:https://www.gmender-fasnet.de/wp-content/uploads/2023/08/Bilder-fuer-Veranstaltungen-Website-43.png
END:VEVENT
BEGIN:VEVENT
DTSTART;TZID=Europe/Berlin:20230722T110000
DTEND;TZID=Europe/Berlin:20230722T170000
DTSTAMP:20260422T224616
CREATED:20230602T194157Z
LAST-MODIFIED:20230714T121432Z
UID:10000004-1690023600-1690045200@www.gmender-fasnet.de
SUMMARY:Familientag
DESCRIPTION:Interne Veranstaltung / Nur für Vereinsmitglieder \nLiebe Mitglieder der Gmender Fasnet\, \ndie Vorstandschaft der Gmender Fasnet möchte euch mit euren Familien zu unserem diesjährigen Sommerfest recht herzlich einladen. \nDes gemeinsame Mittagessen wird von der Gmender Fasnet übernommen. Getränke können im Gasthof gekauft werden. \nDas Programm endet am frühen Nachmittag. \nAn der Veranstaltung werden Film- und Fotoaufnahmen zu Werbezwecken gemacht. Die Teilnahme beinhaltet automatisch das Einverständnis zur Veröffentlichung dieses Aufnahmen. \nUm eine Anmeldung bis zum 30.06.2023 wird gebeten. \n 
URL:https://www.gmender-fasnet.de/event/sommerfest/
LOCATION:Gasthof zum Stadtwirt\, Donzdorfer Straße 35\, Schwäbisch Gmünd - Straßdorf\, Baden-Württemberg\, 73529\, Deutschland
CATEGORIES:Alle Mitglieder,Glitzerla,Gmünder Hüpfer,Hofstaat,Orga-Team,Prinzengarde,Silberglöckle,Stöpselgarde,Tanzteufel,Vorstandschaft
ATTACH;FMTTYPE=image/png:https://www.gmender-fasnet.de/wp-content/uploads/2023/06/Familientag.png
END:VEVENT
END:VCALENDAR