BEGIN:VCALENDAR
VERSION:2.0
PRODID:-//Gmender Fasnet e.V. - ECPv6.15.20//NONSGML v1.0//EN
CALSCALE:GREGORIAN
METHOD:PUBLISH
X-ORIGINAL-URL:https://www.gmender-fasnet.de
X-WR-CALDESC:Veranstaltungen für Gmender Fasnet e.V.
REFRESH-INTERVAL;VALUE=DURATION:PT1H
X-Robots-Tag:noindex
X-PUBLISHED-TTL:PT1H
BEGIN:VTIMEZONE
TZID:Europe/Berlin
BEGIN:DAYLIGHT
TZOFFSETFROM:+0100
TZOFFSETTO:+0200
TZNAME:CEST
DTSTART:20240331T010000
END:DAYLIGHT
BEGIN:STANDARD
TZOFFSETFROM:+0200
TZOFFSETTO:+0100
TZNAME:CET
DTSTART:20241027T010000
END:STANDARD
BEGIN:DAYLIGHT
TZOFFSETFROM:+0100
TZOFFSETTO:+0200
TZNAME:CEST
DTSTART:20250330T010000
END:DAYLIGHT
BEGIN:STANDARD
TZOFFSETFROM:+0200
TZOFFSETTO:+0100
TZNAME:CET
DTSTART:20251026T010000
END:STANDARD
BEGIN:DAYLIGHT
TZOFFSETFROM:+0100
TZOFFSETTO:+0200
TZNAME:CEST
DTSTART:20260329T010000
END:DAYLIGHT
BEGIN:STANDARD
TZOFFSETFROM:+0200
TZOFFSETTO:+0100
TZNAME:CET
DTSTART:20261025T010000
END:STANDARD
BEGIN:DAYLIGHT
TZOFFSETFROM:+0100
TZOFFSETTO:+0200
TZNAME:CEST
DTSTART:20270328T010000
END:DAYLIGHT
BEGIN:STANDARD
TZOFFSETFROM:+0200
TZOFFSETTO:+0100
TZNAME:CET
DTSTART:20271031T010000
END:STANDARD
END:VTIMEZONE
BEGIN:VEVENT
DTSTART;TZID=Europe/Berlin:20260214T200000
DTEND;TZID=Europe/Berlin:20260215T020000
DTSTAMP:20260425T135552
CREATED:20251124T194932Z
LAST-MODIFIED:20260121T200454Z
UID:10000884-1771099200-1771120800@www.gmender-fasnet.de
SUMMARY:Fasching - Turnverein Straßdorf e.V.
DESCRIPTION:Auftritt der Prinzengarde und der Ranzengarde \nÄnderungen vorbehalten.
URL:https://www.gmender-fasnet.de/event/fasching-turnverein-strassdorf-e-v/
LOCATION:Gemeindehalle Straßdorf\, Jurastraße 9/1\, Schwäbisch Gmünd - Straßdorf\, Baden-Württemberg\, 73529\, Germany
CATEGORIES:Hofstaat,Orga-Team,Prinzengarde,Ranzengarde,Vorstandschaft
ATTACH;FMTTYPE=image/jpeg:https://www.gmender-fasnet.de/wp-content/uploads/2025/11/ce01b2a4-673d-42dc-8160-2ad57913a50e.jpg
ORGANIZER;CN="Turnverein Stra%C3%9Fdorf e.V.":MAILTO:info@tv-strassdorf.de
END:VEVENT
BEGIN:VEVENT
DTSTART;TZID=Europe/Berlin:20260214T140000
DTEND;TZID=Europe/Berlin:20260214T180000
DTSTAMP:20260425T135552
CREATED:20260121T200418Z
LAST-MODIFIED:20260121T200418Z
UID:10000894-1771077600-1771092000@www.gmender-fasnet.de
SUMMARY:Kinderfasching - Turnverein Straßdorf e.V.
DESCRIPTION:Auftritt der Glitzerla \nÄnderungen vorbehalten.
URL:https://www.gmender-fasnet.de/event/kinderfasching-turnverein-strassdorf-e-v/
LOCATION:Gemeindehalle Straßdorf\, Jurastraße 9/1\, Schwäbisch Gmünd - Straßdorf\, Baden-Württemberg\, 73529\, Germany
CATEGORIES:Glitzerla,Hofstaat,Orga-Team,Vorstandschaft
ATTACH;FMTTYPE=image/png:https://www.gmender-fasnet.de/wp-content/uploads/2026/01/Bildschirmfoto-2026-01-21-um-21.03.43.png
ORGANIZER;CN="Turnverein Stra%C3%9Fdorf e.V.":MAILTO:info@tv-strassdorf.de
END:VEVENT
BEGIN:VEVENT
DTSTART;TZID=Europe/Berlin:20250301T190000
DTEND;TZID=Europe/Berlin:20250301T235900
DTSTAMP:20260425T135552
CREATED:20250118T220310Z
LAST-MODIFIED:20250118T220310Z
UID:10000847-1740855600-1740873540@www.gmender-fasnet.de
SUMMARY:Fasching Straßdorf
DESCRIPTION:Auftritt der Ranzengarde \nÄnderungen vorbehalten!
URL:https://www.gmender-fasnet.de/event/fasching-strassdorf/
LOCATION:Gemeindehalle Straßdorf\, Jurastraße 9/1\, Schwäbisch Gmünd - Straßdorf\, Baden-Württemberg\, 73529\, Germany
CATEGORIES:Hofstaat,Orga-Team,Ranzengarde,Vorstandschaft
ATTACH;FMTTYPE=image/png:https://www.gmender-fasnet.de/wp-content/uploads/2024/11/Ranzengarde-2024_2025.png
ORGANIZER;CN="Turnverein Stra%C3%9Fdorf e.V.":MAILTO:info@tv-strassdorf.de
END:VEVENT
BEGIN:VEVENT
DTSTART;TZID=Europe/Berlin:20250301T140000
DTEND;TZID=Europe/Berlin:20250301T180000
DTSTAMP:20260425T135552
CREATED:20250118T215939Z
LAST-MODIFIED:20250118T215939Z
UID:10000846-1740837600-1740852000@www.gmender-fasnet.de
SUMMARY:Kinderfasching Straßdorf
DESCRIPTION:Auftritt der Glitzerla und der Stöpselgarde \nÄnderungen vorbehalten!
URL:https://www.gmender-fasnet.de/event/kinderfasching-strassdorf/
LOCATION:Gemeindehalle Straßdorf\, Jurastraße 9/1\, Schwäbisch Gmünd - Straßdorf\, Baden-Württemberg\, 73529\, Germany
CATEGORIES:Glitzerla,Hofstaat,Orga-Team,Stöpselgarde,Vorstandschaft
ATTACH;FMTTYPE=image/png:https://www.gmender-fasnet.de/wp-content/uploads/2023/12/Kindergaerten.png
ORGANIZER;CN="Turnverein Stra%C3%9Fdorf e.V.":MAILTO:info@tv-strassdorf.de
END:VEVENT
END:VCALENDAR