BEGIN:VCALENDAR
VERSION:2.0
PRODID:-//Gmender Fasnet e.V. - ECPv6.15.20//NONSGML v1.0//EN
CALSCALE:GREGORIAN
METHOD:PUBLISH
X-WR-CALNAME:Gmender Fasnet e.V.
X-ORIGINAL-URL:https://www.gmender-fasnet.de
X-WR-CALDESC:Veranstaltungen für Gmender Fasnet e.V.
REFRESH-INTERVAL;VALUE=DURATION:PT1H
X-Robots-Tag:noindex
X-PUBLISHED-TTL:PT1H
BEGIN:VTIMEZONE
TZID:Europe/Berlin
BEGIN:DAYLIGHT
TZOFFSETFROM:+0100
TZOFFSETTO:+0200
TZNAME:CEST
DTSTART:20230326T010000
END:DAYLIGHT
BEGIN:STANDARD
TZOFFSETFROM:+0200
TZOFFSETTO:+0100
TZNAME:CET
DTSTART:20231029T010000
END:STANDARD
BEGIN:DAYLIGHT
TZOFFSETFROM:+0100
TZOFFSETTO:+0200
TZNAME:CEST
DTSTART:20240331T010000
END:DAYLIGHT
BEGIN:STANDARD
TZOFFSETFROM:+0200
TZOFFSETTO:+0100
TZNAME:CET
DTSTART:20241027T010000
END:STANDARD
BEGIN:DAYLIGHT
TZOFFSETFROM:+0100
TZOFFSETTO:+0200
TZNAME:CEST
DTSTART:20250330T010000
END:DAYLIGHT
BEGIN:STANDARD
TZOFFSETFROM:+0200
TZOFFSETTO:+0100
TZNAME:CET
DTSTART:20251026T010000
END:STANDARD
BEGIN:DAYLIGHT
TZOFFSETFROM:+0100
TZOFFSETTO:+0200
TZNAME:CEST
DTSTART:20260329T010000
END:DAYLIGHT
BEGIN:STANDARD
TZOFFSETFROM:+0200
TZOFFSETTO:+0100
TZNAME:CET
DTSTART:20261025T010000
END:STANDARD
END:VTIMEZONE
BEGIN:VEVENT
DTSTART;TZID=Europe/Berlin:20250228T150000
DTEND;TZID=Europe/Berlin:20250228T170000
DTSTAMP:20260422T101236
CREATED:20250107T204242Z
LAST-MODIFIED:20250112T150746Z
UID:10000843-1740754800-1740762000@www.gmender-fasnet.de
SUMMARY:Fasching - Haus Riedäcker
DESCRIPTION:Auftritt der Tanzteufel und der Gmünder Hüpfer \nÄnderungen vorbehalten!
URL:https://www.gmender-fasnet.de/event/fasching-haus-riedaecker/
LOCATION:Haus Riedäcker\, In den Riedäckern 29\, Schwäbisch Gmünd\, Baden-Württemberg\, 72529\, Deutschland
CATEGORIES:Gmünder Hüpfer,Hofstaat,Orga-Team,Tanzteufel,Vorstandschaft
ATTACH;FMTTYPE=image/png:https://www.gmender-fasnet.de/wp-content/uploads/2023/12/Riedaecker.png
ORGANIZER;CN="Haus Ried%C3%A4cker":MAILTO:info@haus-riedaecker.de
END:VEVENT
BEGIN:VEVENT
DTSTART;TZID=Europe/Berlin:20250210T183000
DTEND;TZID=Europe/Berlin:20250210T200000
DTSTAMP:20260422T101236
CREATED:20240423T201237Z
LAST-MODIFIED:20240423T201237Z
UID:10000720-1739212200-1739217600@www.gmender-fasnet.de
SUMMARY:Training Tanzteufel
DESCRIPTION:Änderungen werden von den Trainerinnen bekanntgegeben.
URL:https://www.gmender-fasnet.de/event/training-tanzteufel/2025-02-10/
LOCATION:Haus Riedäcker\, In den Riedäckern 29\, Schwäbisch Gmünd\, Baden-Württemberg\, 72529\, Deutschland
CATEGORIES:Tanzteufel
ATTACH;FMTTYPE=image/jpeg:https://www.gmender-fasnet.de/wp-content/uploads/2024/04/Tanzteufel.jpeg
END:VEVENT
BEGIN:VEVENT
DTSTART;TZID=Europe/Berlin:20250203T183000
DTEND;TZID=Europe/Berlin:20250203T200000
DTSTAMP:20260422T101236
CREATED:20240423T201237Z
LAST-MODIFIED:20240423T201237Z
UID:10000719-1738607400-1738612800@www.gmender-fasnet.de
SUMMARY:Training Tanzteufel
DESCRIPTION:Änderungen werden von den Trainerinnen bekanntgegeben.
URL:https://www.gmender-fasnet.de/event/training-tanzteufel/2025-02-03/
LOCATION:Haus Riedäcker\, In den Riedäckern 29\, Schwäbisch Gmünd\, Baden-Württemberg\, 72529\, Deutschland
CATEGORIES:Tanzteufel
ATTACH;FMTTYPE=image/jpeg:https://www.gmender-fasnet.de/wp-content/uploads/2024/04/Tanzteufel.jpeg
END:VEVENT
BEGIN:VEVENT
DTSTART;TZID=Europe/Berlin:20250127T183000
DTEND;TZID=Europe/Berlin:20250127T200000
DTSTAMP:20260422T101236
CREATED:20240423T201237Z
LAST-MODIFIED:20240423T201237Z
UID:10000718-1738002600-1738008000@www.gmender-fasnet.de
SUMMARY:Training Tanzteufel
DESCRIPTION:Änderungen werden von den Trainerinnen bekanntgegeben.
URL:https://www.gmender-fasnet.de/event/training-tanzteufel/2025-01-27/
LOCATION:Haus Riedäcker\, In den Riedäckern 29\, Schwäbisch Gmünd\, Baden-Württemberg\, 72529\, Deutschland
CATEGORIES:Tanzteufel
ATTACH;FMTTYPE=image/jpeg:https://www.gmender-fasnet.de/wp-content/uploads/2024/04/Tanzteufel.jpeg
END:VEVENT
BEGIN:VEVENT
DTSTART;TZID=Europe/Berlin:20250120T183000
DTEND;TZID=Europe/Berlin:20250120T200000
DTSTAMP:20260422T101236
CREATED:20240423T201237Z
LAST-MODIFIED:20240423T201237Z
UID:10000717-1737397800-1737403200@www.gmender-fasnet.de
SUMMARY:Training Tanzteufel
DESCRIPTION:Änderungen werden von den Trainerinnen bekanntgegeben.
URL:https://www.gmender-fasnet.de/event/training-tanzteufel/2025-01-20/
LOCATION:Haus Riedäcker\, In den Riedäckern 29\, Schwäbisch Gmünd\, Baden-Württemberg\, 72529\, Deutschland
CATEGORIES:Tanzteufel
ATTACH;FMTTYPE=image/jpeg:https://www.gmender-fasnet.de/wp-content/uploads/2024/04/Tanzteufel.jpeg
END:VEVENT
BEGIN:VEVENT
DTSTART;TZID=Europe/Berlin:20250113T183000
DTEND;TZID=Europe/Berlin:20250113T200000
DTSTAMP:20260422T101236
CREATED:20240423T201237Z
LAST-MODIFIED:20240423T201237Z
UID:10000716-1736793000-1736798400@www.gmender-fasnet.de
SUMMARY:Training Tanzteufel
DESCRIPTION:Änderungen werden von den Trainerinnen bekanntgegeben.
URL:https://www.gmender-fasnet.de/event/training-tanzteufel/2025-01-13/
LOCATION:Haus Riedäcker\, In den Riedäckern 29\, Schwäbisch Gmünd\, Baden-Württemberg\, 72529\, Deutschland
CATEGORIES:Tanzteufel
ATTACH;FMTTYPE=image/jpeg:https://www.gmender-fasnet.de/wp-content/uploads/2024/04/Tanzteufel.jpeg
END:VEVENT
BEGIN:VEVENT
DTSTART;TZID=Europe/Berlin:20250106T183000
DTEND;TZID=Europe/Berlin:20250106T200000
DTSTAMP:20260422T101236
CREATED:20240423T201237Z
LAST-MODIFIED:20240423T201237Z
UID:10000715-1736188200-1736193600@www.gmender-fasnet.de
SUMMARY:Training Tanzteufel
DESCRIPTION:Änderungen werden von den Trainerinnen bekanntgegeben.
URL:https://www.gmender-fasnet.de/event/training-tanzteufel/2025-01-06/
LOCATION:Haus Riedäcker\, In den Riedäckern 29\, Schwäbisch Gmünd\, Baden-Württemberg\, 72529\, Deutschland
CATEGORIES:Tanzteufel
ATTACH;FMTTYPE=image/jpeg:https://www.gmender-fasnet.de/wp-content/uploads/2024/04/Tanzteufel.jpeg
END:VEVENT
BEGIN:VEVENT
DTSTART;TZID=Europe/Berlin:20241230T183000
DTEND;TZID=Europe/Berlin:20241230T200000
DTSTAMP:20260422T101236
CREATED:20240423T201237Z
LAST-MODIFIED:20240423T201237Z
UID:10000714-1735583400-1735588800@www.gmender-fasnet.de
SUMMARY:Training Tanzteufel
DESCRIPTION:Änderungen werden von den Trainerinnen bekanntgegeben.
URL:https://www.gmender-fasnet.de/event/training-tanzteufel/2024-12-30/
LOCATION:Haus Riedäcker\, In den Riedäckern 29\, Schwäbisch Gmünd\, Baden-Württemberg\, 72529\, Deutschland
CATEGORIES:Tanzteufel
ATTACH;FMTTYPE=image/jpeg:https://www.gmender-fasnet.de/wp-content/uploads/2024/04/Tanzteufel.jpeg
END:VEVENT
BEGIN:VEVENT
DTSTART;TZID=Europe/Berlin:20241223T183000
DTEND;TZID=Europe/Berlin:20241223T200000
DTSTAMP:20260422T101236
CREATED:20240423T201237Z
LAST-MODIFIED:20240423T201237Z
UID:10000713-1734978600-1734984000@www.gmender-fasnet.de
SUMMARY:Training Tanzteufel
DESCRIPTION:Änderungen werden von den Trainerinnen bekanntgegeben.
URL:https://www.gmender-fasnet.de/event/training-tanzteufel/2024-12-23/
LOCATION:Haus Riedäcker\, In den Riedäckern 29\, Schwäbisch Gmünd\, Baden-Württemberg\, 72529\, Deutschland
CATEGORIES:Tanzteufel
ATTACH;FMTTYPE=image/jpeg:https://www.gmender-fasnet.de/wp-content/uploads/2024/04/Tanzteufel.jpeg
END:VEVENT
BEGIN:VEVENT
DTSTART;TZID=Europe/Berlin:20241216T183000
DTEND;TZID=Europe/Berlin:20241216T200000
DTSTAMP:20260422T101236
CREATED:20240423T201237Z
LAST-MODIFIED:20240423T201237Z
UID:10000712-1734373800-1734379200@www.gmender-fasnet.de
SUMMARY:Training Tanzteufel
DESCRIPTION:Änderungen werden von den Trainerinnen bekanntgegeben.
URL:https://www.gmender-fasnet.de/event/training-tanzteufel/2024-12-16/
LOCATION:Haus Riedäcker\, In den Riedäckern 29\, Schwäbisch Gmünd\, Baden-Württemberg\, 72529\, Deutschland
CATEGORIES:Tanzteufel
ATTACH;FMTTYPE=image/jpeg:https://www.gmender-fasnet.de/wp-content/uploads/2024/04/Tanzteufel.jpeg
END:VEVENT
BEGIN:VEVENT
DTSTART;TZID=Europe/Berlin:20241209T183000
DTEND;TZID=Europe/Berlin:20241209T200000
DTSTAMP:20260422T101236
CREATED:20240423T201237Z
LAST-MODIFIED:20240423T201237Z
UID:10000711-1733769000-1733774400@www.gmender-fasnet.de
SUMMARY:Training Tanzteufel
DESCRIPTION:Änderungen werden von den Trainerinnen bekanntgegeben.
URL:https://www.gmender-fasnet.de/event/training-tanzteufel/2024-12-09/
LOCATION:Haus Riedäcker\, In den Riedäckern 29\, Schwäbisch Gmünd\, Baden-Württemberg\, 72529\, Deutschland
CATEGORIES:Tanzteufel
ATTACH;FMTTYPE=image/jpeg:https://www.gmender-fasnet.de/wp-content/uploads/2024/04/Tanzteufel.jpeg
END:VEVENT
BEGIN:VEVENT
DTSTART;TZID=Europe/Berlin:20241202T183000
DTEND;TZID=Europe/Berlin:20241202T200000
DTSTAMP:20260422T101236
CREATED:20240423T201237Z
LAST-MODIFIED:20240423T201237Z
UID:10000710-1733164200-1733169600@www.gmender-fasnet.de
SUMMARY:Training Tanzteufel
DESCRIPTION:Änderungen werden von den Trainerinnen bekanntgegeben.
URL:https://www.gmender-fasnet.de/event/training-tanzteufel/2024-12-02/
LOCATION:Haus Riedäcker\, In den Riedäckern 29\, Schwäbisch Gmünd\, Baden-Württemberg\, 72529\, Deutschland
CATEGORIES:Tanzteufel
ATTACH;FMTTYPE=image/jpeg:https://www.gmender-fasnet.de/wp-content/uploads/2024/04/Tanzteufel.jpeg
END:VEVENT
BEGIN:VEVENT
DTSTART;TZID=Europe/Berlin:20241125T183000
DTEND;TZID=Europe/Berlin:20241125T200000
DTSTAMP:20260422T101236
CREATED:20240423T201237Z
LAST-MODIFIED:20240423T201237Z
UID:10000709-1732559400-1732564800@www.gmender-fasnet.de
SUMMARY:Training Tanzteufel
DESCRIPTION:Änderungen werden von den Trainerinnen bekanntgegeben.
URL:https://www.gmender-fasnet.de/event/training-tanzteufel/2024-11-25/
LOCATION:Haus Riedäcker\, In den Riedäckern 29\, Schwäbisch Gmünd\, Baden-Württemberg\, 72529\, Deutschland
CATEGORIES:Tanzteufel
ATTACH;FMTTYPE=image/jpeg:https://www.gmender-fasnet.de/wp-content/uploads/2024/04/Tanzteufel.jpeg
END:VEVENT
BEGIN:VEVENT
DTSTART;TZID=Europe/Berlin:20241118T183000
DTEND;TZID=Europe/Berlin:20241118T200000
DTSTAMP:20260422T101236
CREATED:20240423T201237Z
LAST-MODIFIED:20240423T201237Z
UID:10000708-1731954600-1731960000@www.gmender-fasnet.de
SUMMARY:Training Tanzteufel
DESCRIPTION:Änderungen werden von den Trainerinnen bekanntgegeben.
URL:https://www.gmender-fasnet.de/event/training-tanzteufel/2024-11-18/
LOCATION:Haus Riedäcker\, In den Riedäckern 29\, Schwäbisch Gmünd\, Baden-Württemberg\, 72529\, Deutschland
CATEGORIES:Tanzteufel
ATTACH;FMTTYPE=image/jpeg:https://www.gmender-fasnet.de/wp-content/uploads/2024/04/Tanzteufel.jpeg
END:VEVENT
BEGIN:VEVENT
DTSTART;TZID=Europe/Berlin:20241111T183000
DTEND;TZID=Europe/Berlin:20241111T200000
DTSTAMP:20260422T101236
CREATED:20240423T201237Z
LAST-MODIFIED:20240423T201237Z
UID:10000707-1731349800-1731355200@www.gmender-fasnet.de
SUMMARY:Training Tanzteufel
DESCRIPTION:Änderungen werden von den Trainerinnen bekanntgegeben.
URL:https://www.gmender-fasnet.de/event/training-tanzteufel/2024-11-11/
LOCATION:Haus Riedäcker\, In den Riedäckern 29\, Schwäbisch Gmünd\, Baden-Württemberg\, 72529\, Deutschland
CATEGORIES:Tanzteufel
ATTACH;FMTTYPE=image/jpeg:https://www.gmender-fasnet.de/wp-content/uploads/2024/04/Tanzteufel.jpeg
END:VEVENT
BEGIN:VEVENT
DTSTART;TZID=Europe/Berlin:20241104T183000
DTEND;TZID=Europe/Berlin:20241104T200000
DTSTAMP:20260422T101236
CREATED:20240423T201237Z
LAST-MODIFIED:20240423T201237Z
UID:10000706-1730745000-1730750400@www.gmender-fasnet.de
SUMMARY:Training Tanzteufel
DESCRIPTION:Änderungen werden von den Trainerinnen bekanntgegeben.
URL:https://www.gmender-fasnet.de/event/training-tanzteufel/2024-11-04/
LOCATION:Haus Riedäcker\, In den Riedäckern 29\, Schwäbisch Gmünd\, Baden-Württemberg\, 72529\, Deutschland
CATEGORIES:Tanzteufel
ATTACH;FMTTYPE=image/jpeg:https://www.gmender-fasnet.de/wp-content/uploads/2024/04/Tanzteufel.jpeg
END:VEVENT
BEGIN:VEVENT
DTSTART;TZID=Europe/Berlin:20241028T183000
DTEND;TZID=Europe/Berlin:20241028T200000
DTSTAMP:20260422T101236
CREATED:20240423T201237Z
LAST-MODIFIED:20240423T201237Z
UID:10000705-1730140200-1730145600@www.gmender-fasnet.de
SUMMARY:Training Tanzteufel
DESCRIPTION:Änderungen werden von den Trainerinnen bekanntgegeben.
URL:https://www.gmender-fasnet.de/event/training-tanzteufel/2024-10-28/
LOCATION:Haus Riedäcker\, In den Riedäckern 29\, Schwäbisch Gmünd\, Baden-Württemberg\, 72529\, Deutschland
CATEGORIES:Tanzteufel
ATTACH;FMTTYPE=image/jpeg:https://www.gmender-fasnet.de/wp-content/uploads/2024/04/Tanzteufel.jpeg
END:VEVENT
BEGIN:VEVENT
DTSTART;TZID=Europe/Berlin:20241021T183000
DTEND;TZID=Europe/Berlin:20241021T200000
DTSTAMP:20260422T101236
CREATED:20240423T201237Z
LAST-MODIFIED:20240423T201237Z
UID:10000704-1729535400-1729540800@www.gmender-fasnet.de
SUMMARY:Training Tanzteufel
DESCRIPTION:Änderungen werden von den Trainerinnen bekanntgegeben.
URL:https://www.gmender-fasnet.de/event/training-tanzteufel/2024-10-21/
LOCATION:Haus Riedäcker\, In den Riedäckern 29\, Schwäbisch Gmünd\, Baden-Württemberg\, 72529\, Deutschland
CATEGORIES:Tanzteufel
ATTACH;FMTTYPE=image/jpeg:https://www.gmender-fasnet.de/wp-content/uploads/2024/04/Tanzteufel.jpeg
END:VEVENT
BEGIN:VEVENT
DTSTART;TZID=Europe/Berlin:20241014T183000
DTEND;TZID=Europe/Berlin:20241014T200000
DTSTAMP:20260422T101236
CREATED:20240423T201237Z
LAST-MODIFIED:20240423T201237Z
UID:10000703-1728930600-1728936000@www.gmender-fasnet.de
SUMMARY:Training Tanzteufel
DESCRIPTION:Änderungen werden von den Trainerinnen bekanntgegeben.
URL:https://www.gmender-fasnet.de/event/training-tanzteufel/2024-10-14/
LOCATION:Haus Riedäcker\, In den Riedäckern 29\, Schwäbisch Gmünd\, Baden-Württemberg\, 72529\, Deutschland
CATEGORIES:Tanzteufel
ATTACH;FMTTYPE=image/jpeg:https://www.gmender-fasnet.de/wp-content/uploads/2024/04/Tanzteufel.jpeg
END:VEVENT
BEGIN:VEVENT
DTSTART;TZID=Europe/Berlin:20241007T183000
DTEND;TZID=Europe/Berlin:20241007T200000
DTSTAMP:20260422T101236
CREATED:20240423T201237Z
LAST-MODIFIED:20240423T201237Z
UID:10000702-1728325800-1728331200@www.gmender-fasnet.de
SUMMARY:Training Tanzteufel
DESCRIPTION:Änderungen werden von den Trainerinnen bekanntgegeben.
URL:https://www.gmender-fasnet.de/event/training-tanzteufel/2024-10-07/
LOCATION:Haus Riedäcker\, In den Riedäckern 29\, Schwäbisch Gmünd\, Baden-Württemberg\, 72529\, Deutschland
CATEGORIES:Tanzteufel
ATTACH;FMTTYPE=image/jpeg:https://www.gmender-fasnet.de/wp-content/uploads/2024/04/Tanzteufel.jpeg
END:VEVENT
BEGIN:VEVENT
DTSTART;TZID=Europe/Berlin:20240930T183000
DTEND;TZID=Europe/Berlin:20240930T200000
DTSTAMP:20260422T101236
CREATED:20240423T201237Z
LAST-MODIFIED:20240423T201237Z
UID:10000701-1727721000-1727726400@www.gmender-fasnet.de
SUMMARY:Training Tanzteufel
DESCRIPTION:Änderungen werden von den Trainerinnen bekanntgegeben.
URL:https://www.gmender-fasnet.de/event/training-tanzteufel/2024-09-30/
LOCATION:Haus Riedäcker\, In den Riedäckern 29\, Schwäbisch Gmünd\, Baden-Württemberg\, 72529\, Deutschland
CATEGORIES:Tanzteufel
ATTACH;FMTTYPE=image/jpeg:https://www.gmender-fasnet.de/wp-content/uploads/2024/04/Tanzteufel.jpeg
END:VEVENT
BEGIN:VEVENT
DTSTART;TZID=Europe/Berlin:20240923T183000
DTEND;TZID=Europe/Berlin:20240923T200000
DTSTAMP:20260422T101236
CREATED:20240423T201237Z
LAST-MODIFIED:20240423T201237Z
UID:10000700-1727116200-1727121600@www.gmender-fasnet.de
SUMMARY:Training Tanzteufel
DESCRIPTION:Änderungen werden von den Trainerinnen bekanntgegeben.
URL:https://www.gmender-fasnet.de/event/training-tanzteufel/2024-09-23/
LOCATION:Haus Riedäcker\, In den Riedäckern 29\, Schwäbisch Gmünd\, Baden-Württemberg\, 72529\, Deutschland
CATEGORIES:Tanzteufel
ATTACH;FMTTYPE=image/jpeg:https://www.gmender-fasnet.de/wp-content/uploads/2024/04/Tanzteufel.jpeg
END:VEVENT
BEGIN:VEVENT
DTSTART;TZID=Europe/Berlin:20240916T183000
DTEND;TZID=Europe/Berlin:20240916T200000
DTSTAMP:20260422T101236
CREATED:20240423T201237Z
LAST-MODIFIED:20240423T201237Z
UID:10000699-1726511400-1726516800@www.gmender-fasnet.de
SUMMARY:Training Tanzteufel
DESCRIPTION:Änderungen werden von den Trainerinnen bekanntgegeben.
URL:https://www.gmender-fasnet.de/event/training-tanzteufel/2024-09-16/
LOCATION:Haus Riedäcker\, In den Riedäckern 29\, Schwäbisch Gmünd\, Baden-Württemberg\, 72529\, Deutschland
CATEGORIES:Tanzteufel
ATTACH;FMTTYPE=image/jpeg:https://www.gmender-fasnet.de/wp-content/uploads/2024/04/Tanzteufel.jpeg
END:VEVENT
BEGIN:VEVENT
DTSTART;TZID=Europe/Berlin:20240909T183000
DTEND;TZID=Europe/Berlin:20240909T200000
DTSTAMP:20260422T101236
CREATED:20240423T201237Z
LAST-MODIFIED:20240423T201237Z
UID:10000698-1725906600-1725912000@www.gmender-fasnet.de
SUMMARY:Training Tanzteufel
DESCRIPTION:Änderungen werden von den Trainerinnen bekanntgegeben.
URL:https://www.gmender-fasnet.de/event/training-tanzteufel/2024-09-09/
LOCATION:Haus Riedäcker\, In den Riedäckern 29\, Schwäbisch Gmünd\, Baden-Württemberg\, 72529\, Deutschland
CATEGORIES:Tanzteufel
ATTACH;FMTTYPE=image/jpeg:https://www.gmender-fasnet.de/wp-content/uploads/2024/04/Tanzteufel.jpeg
END:VEVENT
BEGIN:VEVENT
DTSTART;TZID=Europe/Berlin:20240902T183000
DTEND;TZID=Europe/Berlin:20240902T200000
DTSTAMP:20260422T101236
CREATED:20240423T201237Z
LAST-MODIFIED:20240423T201237Z
UID:10000697-1725301800-1725307200@www.gmender-fasnet.de
SUMMARY:Training Tanzteufel
DESCRIPTION:Änderungen werden von den Trainerinnen bekanntgegeben.
URL:https://www.gmender-fasnet.de/event/training-tanzteufel/2024-09-02/
LOCATION:Haus Riedäcker\, In den Riedäckern 29\, Schwäbisch Gmünd\, Baden-Württemberg\, 72529\, Deutschland
CATEGORIES:Tanzteufel
ATTACH;FMTTYPE=image/jpeg:https://www.gmender-fasnet.de/wp-content/uploads/2024/04/Tanzteufel.jpeg
END:VEVENT
BEGIN:VEVENT
DTSTART;TZID=Europe/Berlin:20240826T183000
DTEND;TZID=Europe/Berlin:20240826T200000
DTSTAMP:20260422T101236
CREATED:20240423T201237Z
LAST-MODIFIED:20240423T201237Z
UID:10000696-1724697000-1724702400@www.gmender-fasnet.de
SUMMARY:Training Tanzteufel
DESCRIPTION:Änderungen werden von den Trainerinnen bekanntgegeben.
URL:https://www.gmender-fasnet.de/event/training-tanzteufel/2024-08-26/
LOCATION:Haus Riedäcker\, In den Riedäckern 29\, Schwäbisch Gmünd\, Baden-Württemberg\, 72529\, Deutschland
CATEGORIES:Tanzteufel
ATTACH;FMTTYPE=image/jpeg:https://www.gmender-fasnet.de/wp-content/uploads/2024/04/Tanzteufel.jpeg
END:VEVENT
BEGIN:VEVENT
DTSTART;TZID=Europe/Berlin:20240819T183000
DTEND;TZID=Europe/Berlin:20240819T200000
DTSTAMP:20260422T101236
CREATED:20240423T201237Z
LAST-MODIFIED:20240423T201237Z
UID:10000695-1724092200-1724097600@www.gmender-fasnet.de
SUMMARY:Training Tanzteufel
DESCRIPTION:Änderungen werden von den Trainerinnen bekanntgegeben.
URL:https://www.gmender-fasnet.de/event/training-tanzteufel/2024-08-19/
LOCATION:Haus Riedäcker\, In den Riedäckern 29\, Schwäbisch Gmünd\, Baden-Württemberg\, 72529\, Deutschland
CATEGORIES:Tanzteufel
ATTACH;FMTTYPE=image/jpeg:https://www.gmender-fasnet.de/wp-content/uploads/2024/04/Tanzteufel.jpeg
END:VEVENT
BEGIN:VEVENT
DTSTART;TZID=Europe/Berlin:20240812T183000
DTEND;TZID=Europe/Berlin:20240812T200000
DTSTAMP:20260422T101236
CREATED:20240423T201237Z
LAST-MODIFIED:20240423T201237Z
UID:10000694-1723487400-1723492800@www.gmender-fasnet.de
SUMMARY:Training Tanzteufel
DESCRIPTION:Änderungen werden von den Trainerinnen bekanntgegeben.
URL:https://www.gmender-fasnet.de/event/training-tanzteufel/2024-08-12/
LOCATION:Haus Riedäcker\, In den Riedäckern 29\, Schwäbisch Gmünd\, Baden-Württemberg\, 72529\, Deutschland
CATEGORIES:Tanzteufel
ATTACH;FMTTYPE=image/jpeg:https://www.gmender-fasnet.de/wp-content/uploads/2024/04/Tanzteufel.jpeg
END:VEVENT
BEGIN:VEVENT
DTSTART;TZID=Europe/Berlin:20240805T183000
DTEND;TZID=Europe/Berlin:20240805T200000
DTSTAMP:20260422T101236
CREATED:20240423T201237Z
LAST-MODIFIED:20240423T201237Z
UID:10000693-1722882600-1722888000@www.gmender-fasnet.de
SUMMARY:Training Tanzteufel
DESCRIPTION:Änderungen werden von den Trainerinnen bekanntgegeben.
URL:https://www.gmender-fasnet.de/event/training-tanzteufel/2024-08-05/
LOCATION:Haus Riedäcker\, In den Riedäckern 29\, Schwäbisch Gmünd\, Baden-Württemberg\, 72529\, Deutschland
CATEGORIES:Tanzteufel
ATTACH;FMTTYPE=image/jpeg:https://www.gmender-fasnet.de/wp-content/uploads/2024/04/Tanzteufel.jpeg
END:VEVENT
BEGIN:VEVENT
DTSTART;TZID=Europe/Berlin:20240729T183000
DTEND;TZID=Europe/Berlin:20240729T200000
DTSTAMP:20260422T101236
CREATED:20240423T201237Z
LAST-MODIFIED:20240423T201237Z
UID:10000692-1722277800-1722283200@www.gmender-fasnet.de
SUMMARY:Training Tanzteufel
DESCRIPTION:Änderungen werden von den Trainerinnen bekanntgegeben.
URL:https://www.gmender-fasnet.de/event/training-tanzteufel/2024-07-29/
LOCATION:Haus Riedäcker\, In den Riedäckern 29\, Schwäbisch Gmünd\, Baden-Württemberg\, 72529\, Deutschland
CATEGORIES:Tanzteufel
ATTACH;FMTTYPE=image/jpeg:https://www.gmender-fasnet.de/wp-content/uploads/2024/04/Tanzteufel.jpeg
END:VEVENT
END:VCALENDAR