BEGIN:VCALENDAR
VERSION:2.0
PRODID:-//Gmender Fasnet e.V. - ECPv6.15.20//NONSGML v1.0//EN
CALSCALE:GREGORIAN
METHOD:PUBLISH
X-ORIGINAL-URL:https://www.gmender-fasnet.de
X-WR-CALDESC:Veranstaltungen für Gmender Fasnet e.V.
REFRESH-INTERVAL;VALUE=DURATION:PT1H
X-Robots-Tag:noindex
X-PUBLISHED-TTL:PT1H
BEGIN:VTIMEZONE
TZID:Europe/Berlin
BEGIN:DAYLIGHT
TZOFFSETFROM:+0100
TZOFFSETTO:+0200
TZNAME:CEST
DTSTART:20230326T010000
END:DAYLIGHT
BEGIN:STANDARD
TZOFFSETFROM:+0200
TZOFFSETTO:+0100
TZNAME:CET
DTSTART:20231029T010000
END:STANDARD
BEGIN:DAYLIGHT
TZOFFSETFROM:+0100
TZOFFSETTO:+0200
TZNAME:CEST
DTSTART:20240331T010000
END:DAYLIGHT
BEGIN:STANDARD
TZOFFSETFROM:+0200
TZOFFSETTO:+0100
TZNAME:CET
DTSTART:20241027T010000
END:STANDARD
BEGIN:DAYLIGHT
TZOFFSETFROM:+0100
TZOFFSETTO:+0200
TZNAME:CEST
DTSTART:20250330T010000
END:DAYLIGHT
BEGIN:STANDARD
TZOFFSETFROM:+0200
TZOFFSETTO:+0100
TZNAME:CET
DTSTART:20251026T010000
END:STANDARD
BEGIN:DAYLIGHT
TZOFFSETFROM:+0100
TZOFFSETTO:+0200
TZNAME:CEST
DTSTART:20260329T010000
END:DAYLIGHT
BEGIN:STANDARD
TZOFFSETFROM:+0200
TZOFFSETTO:+0100
TZNAME:CET
DTSTART:20261025T010000
END:STANDARD
BEGIN:DAYLIGHT
TZOFFSETFROM:+0100
TZOFFSETTO:+0200
TZNAME:CEST
DTSTART:20270328T010000
END:DAYLIGHT
BEGIN:STANDARD
TZOFFSETFROM:+0200
TZOFFSETTO:+0100
TZNAME:CET
DTSTART:20271031T010000
END:STANDARD
END:VTIMEZONE
BEGIN:VEVENT
DTSTART;TZID=Europe/Berlin:20260105T190100
DTEND;TZID=Europe/Berlin:20260105T190100
DTSTAMP:20260424T132619
CREATED:20251123T194507Z
LAST-MODIFIED:20251211T170911Z
UID:10000875-1767639660-1767639660@www.gmender-fasnet.de
SUMMARY:Wefzg rauslassa - 1. Wexhainer Narrenzunft e.V.
DESCRIPTION:18:00 Uhr Narrentaufe und das Narrenwecken sowie die Befreiung der Symbolfigur \n19:01 Uhr Nachtumzug –> Startnummer 6 \n20:20 Uhr Guggenparty \nÄnderungen vorbehalten.
URL:https://www.gmender-fasnet.de/event/wefzg-rauslassa-1-wexhainer-narrenzunft-e-v-2/
LOCATION:Himmelsgarten\, Himmelsgarten 6\, Schwäbisch Gmünd\, Baden Württemberg\, 73527\, Deutschland
CATEGORIES:Hofstaat,Prinzengarde,Silberfunken und Silberschmiede,Vorstandschaft
ATTACH;FMTTYPE=image/png:https://www.gmender-fasnet.de/wp-content/uploads/2025/11/Bildschirmfoto-2025-11-23-um-20.42.45.png
END:VEVENT
BEGIN:VEVENT
DTSTART;TZID=Europe/Berlin:20240721T140000
DTEND;TZID=Europe/Berlin:20240721T190000
DTSTAMP:20260424T132619
CREATED:20240613T142031Z
LAST-MODIFIED:20240613T142031Z
UID:10000819-1721570400-1721588400@www.gmender-fasnet.de
SUMMARY:Sommerfest "Wexhainer & Friends"
DESCRIPTION:Liebe Fasnetsfreundinnen und Fasnetsfreunde\, \nliebe Überdruckler\, liebe Rudos\, liebe Gmender Fasnet\, liebe Wexhainer\, \nbereits einige Monate ist es her\, seitdem wir gemeinsam in der Lindacher Netto-Filiale die Stickeraktion „Wexhainer & Friends“ gestartet haben. \nMit dem Verkaufsstart am 11. November ist eine Erfolgswelle los getreten worden. Insgesam wurden rund 50.000 Sticker verkauft. Dazu habt ihr mit euren 277 individuellen Sticker maßgeblich beigetragen. Diesen Erfolg wollen wir gemeinsam mit allen vier Fasnetsvereinen feiern. Wir laden deshalb alle Teilnehmerinnen und Teilnehmer der Stickeraktion zu unserem Sommerfest „Wexhainer & Friends“ am Sonntag\, 21. Juli 2024 ab 14 Uhr ins Wefzganeschd (Himmelsgarten) ein. \nFür Essen und erfrischende Getränke ist gesorgt. Das WefzgaNeschd befindet sich im Himmelsgarten in der Nähe vom Kleintierzoo. Vor Ort gibt es natürlich auch die Möglichkeit noch einmal ins Sammel- und Tauschfieber einzutauchen. Bringt deshalb bitte eure doppelten Sticker mit und eure nicht vollständigen Alben. Wir sind uns sicher: beim Sommerfest bekommt jeder sein Sammelalbum voll! \nUm besser planen zu können bitten wir um eine Rückmeldung\, ob ihr zum Sommerfest kommt oder nicht bis Sonntag\, 30. Juni. Hierzu bitte einfach die Umfrage unter https://forms.office.com/e/FHLsK8eQSA ausfüllen und zack seid ihr dabei. Bei Rückfragen könnt ihr euch gerne an Robin Kucher unter zunftmeister@wexhainer.de wenden. \nBei unserem Sommerfest steht natürlich auch die Begegnung im Vordergrund. Auch außerhalb der Fasnet wollen wir mit euch in Kontakt bleiben und unsere Fasnetsgemeinschaft weiterbeleben. Wir freuen uns auf viele Gäste bei unserem diesjährigen Sommerfest. \nNärrische Grüße\, \nRobin Kucher (Zunftmeister) & Felix Beyerle (Stellv. Zunftmeister)
URL:https://www.gmender-fasnet.de/event/sommerfest-wexhainer-friends/
LOCATION:Himmelsgarten\, Himmelsgarten 6\, Schwäbisch Gmünd\, Baden Württemberg\, 73527\, Deutschland
CATEGORIES:Alle Mitglieder,Glitzerla,Gmünder Hüpfer,Hofstaat,Orga-Team,Prinzengarde,Ranzengarde,Silberglöckle,Stöpselgarde,Tanzteufel,Vorstandschaft
ATTACH;FMTTYPE=image/png:https://www.gmender-fasnet.de/wp-content/uploads/2024/06/Bildschirmfoto-2024-06-13-um-16.20.03.png
END:VEVENT
END:VCALENDAR