BEGIN:VCALENDAR
VERSION:2.0
PRODID:-//Gmender Fasnet e.V. - ECPv6.15.20//NONSGML v1.0//EN
CALSCALE:GREGORIAN
METHOD:PUBLISH
X-ORIGINAL-URL:https://www.gmender-fasnet.de
X-WR-CALDESC:Veranstaltungen für Gmender Fasnet e.V.
REFRESH-INTERVAL;VALUE=DURATION:PT1H
X-Robots-Tag:noindex
X-PUBLISHED-TTL:PT1H
BEGIN:VTIMEZONE
TZID:Europe/Berlin
BEGIN:DAYLIGHT
TZOFFSETFROM:+0100
TZOFFSETTO:+0200
TZNAME:CEST
DTSTART:20260329T010000
END:DAYLIGHT
BEGIN:STANDARD
TZOFFSETFROM:+0200
TZOFFSETTO:+0100
TZNAME:CET
DTSTART:20261025T010000
END:STANDARD
BEGIN:DAYLIGHT
TZOFFSETFROM:+0100
TZOFFSETTO:+0200
TZNAME:CEST
DTSTART:20270328T010000
END:DAYLIGHT
BEGIN:STANDARD
TZOFFSETFROM:+0200
TZOFFSETTO:+0100
TZNAME:CET
DTSTART:20271031T010000
END:STANDARD
BEGIN:DAYLIGHT
TZOFFSETFROM:+0100
TZOFFSETTO:+0200
TZNAME:CEST
DTSTART:20280326T010000
END:DAYLIGHT
BEGIN:STANDARD
TZOFFSETFROM:+0200
TZOFFSETTO:+0100
TZNAME:CET
DTSTART:20281029T010000
END:STANDARD
END:VTIMEZONE
BEGIN:VEVENT
DTSTART;TZID=Europe/Berlin:20270209T133000
DTEND;TZID=Europe/Berlin:20270209T200000
DTSTAMP:20260422T032824
CREATED:20260325T212454Z
LAST-MODIFIED:20260325T212455Z
UID:10000899-1802179800-1802203200@www.gmender-fasnet.de
SUMMARY:51. Gmender Fasnetumzug
DESCRIPTION:Der 51. Gmender Fasnetumzug schlängelt sich am 09. Februar 2027 durch die Gmünder Innenstadt. Jahr für Jahr zählt der Gmender Fasnetumzug zu den schönsten und größten in der Region. Bis zu 60.000 Besucher säumen jährlich die Umzugsstrecke. 🦄 \nDer Startschuss fällt um 13:30 Uhr am Bockstor. Dann schlängelt sich der Gaudiwurm durch die Parlerstraße bis zum Sebaldplatz. Von dort geht der Zug aus weiter über die Untere Zeiselbergstraße bis hin zum Königsturm. Dann ziehen die Narren weiter über die Rosenstraße\, den Kalten Markt über die Kappelgasse bis zum Marktplatz. Der Umzug endet traditionell am Johannisplatz. Entlang der Umzugsstrecke sind mehrere Bewirtungszelte für das leibliche Wohl aufgestellt. 🌭 \nNach Umzugsende findet der Kehraus im Prediger statt. 🥳 Dort werden Preise für die besten Beiträge in den verschiedenen Kategorien (Fußgruppe\, Hexengruppe\, Maskengruppen\, Guggen- /Musikgruppe\, Wagengruppen) vergeben. Ebenfalls werden unsere Garden ihre Tänze noch ein letztes Mal zeigen. 👯‍♀️\nZum Abschluss wird gegen 19 Uhr die Symbolfigur – unser „Silbermännle“ – mit einem kleinen Marsch zum Rathaus\, verabschiedet. \nDas Fasnetabzeichen\, welches als Eintritt gilt\, kann bei allen Mitgliedern der Gmender Fasnet oder am Veranstaltungstag vor Ort für 4€ kaufen. Der Kauf eines Abzeichens ist für alle Zuschauer ab einschl. 14 Jahren verpflichtend. \nWichtig: Damit der Umzug für alle Beteiligten ein positives Ereignis ist\, bitten wir darum nachfolgende Verhaltensregeln zu befolgen: Verhaltensregeln für den Gmender Fasnetumzug. \nDie Umzugsaufstellung wird ca. 10 Tage vor dem Umzug auf unseren Social Media Kanälen veröffentlicht. \nAnreise:\nDie Innenstadt ist von 11 bis 20 Uhr für den Fahrzeugverkehr gesperrt. Wir empfehlen eine Anreise mit dem ÖPNV. Beim Busverkehr kommt es zu Einschränkungen.\nDer Bahnhof Schwäbisch Gmünd wird von den Zügen wie gewohnt angefahren. \nWir freuen uns auf euer kommen! 🎉
URL:https://www.gmender-fasnet.de/event/51-gmender-fasnetumzug/
LOCATION:Innenstadt Schwäbisch Gmünd
CATEGORIES:Alle Mitglieder,Glitzerla,Gmünder Hüpfer,Hofstaat,Orga-Team,Prinzengarde,Ranzengarde,Silberfunken und Silberschmiede,Silberglöckle,Stöpselgarde,Tanzteufel,Vorstandschaft
END:VEVENT
END:VCALENDAR