BEGIN:VCALENDAR
VERSION:2.0
PRODID:-//Gmender Fasnet e.V. - ECPv6.15.20//NONSGML v1.0//EN
CALSCALE:GREGORIAN
METHOD:PUBLISH
X-ORIGINAL-URL:https://www.gmender-fasnet.de
X-WR-CALDESC:Veranstaltungen für Gmender Fasnet e.V.
REFRESH-INTERVAL;VALUE=DURATION:PT1H
X-Robots-Tag:noindex
X-PUBLISHED-TTL:PT1H
BEGIN:VTIMEZONE
TZID:Europe/Berlin
BEGIN:DAYLIGHT
TZOFFSETFROM:+0100
TZOFFSETTO:+0200
TZNAME:CEST
DTSTART:20240331T010000
END:DAYLIGHT
BEGIN:STANDARD
TZOFFSETFROM:+0200
TZOFFSETTO:+0100
TZNAME:CET
DTSTART:20241027T010000
END:STANDARD
BEGIN:DAYLIGHT
TZOFFSETFROM:+0100
TZOFFSETTO:+0200
TZNAME:CEST
DTSTART:20250330T010000
END:DAYLIGHT
BEGIN:STANDARD
TZOFFSETFROM:+0200
TZOFFSETTO:+0100
TZNAME:CET
DTSTART:20251026T010000
END:STANDARD
BEGIN:DAYLIGHT
TZOFFSETFROM:+0100
TZOFFSETTO:+0200
TZNAME:CEST
DTSTART:20260329T010000
END:DAYLIGHT
BEGIN:STANDARD
TZOFFSETFROM:+0200
TZOFFSETTO:+0100
TZNAME:CET
DTSTART:20261025T010000
END:STANDARD
END:VTIMEZONE
BEGIN:VEVENT
DTSTART;TZID=Europe/Berlin:20250216T150000
DTEND;TZID=Europe/Berlin:20250216T180000
DTSTAMP:20260422T113205
CREATED:20241231T173444Z
LAST-MODIFIED:20250112T145223Z
UID:10000833-1739718000-1739728800@www.gmender-fasnet.de
SUMMARY:Kinderfasching - Ruppertshofen
DESCRIPTION:Auftritt der Glitzerla. \nÄnderungen vorbehalten!
URL:https://www.gmender-fasnet.de/event/kinderfasching-ruppertshofen/
LOCATION:Kultur- und Sportzentrum Jägerfeld\, Erlenstraße 13\, Ruppertshofen\, Baden-Württemberg\, 74577\, Germany
CATEGORIES:Glitzerla
ATTACH;FMTTYPE=image/png:https://www.gmender-fasnet.de/wp-content/uploads/2024/04/Glitzerla_gezeichnet-1.png
ORGANIZER;CN="TSV Ruppertshofen":MAILTO:info@tsv-ruppertshofen.de
END:VEVENT
END:VCALENDAR