BEGIN:VCALENDAR
VERSION:2.0
PRODID:-//Gmender Fasnet e.V. - ECPv6.15.20//NONSGML v1.0//EN
CALSCALE:GREGORIAN
METHOD:PUBLISH
X-ORIGINAL-URL:https://www.gmender-fasnet.de
X-WR-CALDESC:Veranstaltungen für Gmender Fasnet e.V.
REFRESH-INTERVAL;VALUE=DURATION:PT1H
X-Robots-Tag:noindex
X-PUBLISHED-TTL:PT1H
BEGIN:VTIMEZONE
TZID:Europe/Berlin
BEGIN:DAYLIGHT
TZOFFSETFROM:+0100
TZOFFSETTO:+0200
TZNAME:CEST
DTSTART:20230326T010000
END:DAYLIGHT
BEGIN:STANDARD
TZOFFSETFROM:+0200
TZOFFSETTO:+0100
TZNAME:CET
DTSTART:20231029T010000
END:STANDARD
BEGIN:DAYLIGHT
TZOFFSETFROM:+0100
TZOFFSETTO:+0200
TZNAME:CEST
DTSTART:20240331T010000
END:DAYLIGHT
BEGIN:STANDARD
TZOFFSETFROM:+0200
TZOFFSETTO:+0100
TZNAME:CET
DTSTART:20241027T010000
END:STANDARD
BEGIN:DAYLIGHT
TZOFFSETFROM:+0100
TZOFFSETTO:+0200
TZNAME:CEST
DTSTART:20250330T010000
END:DAYLIGHT
BEGIN:STANDARD
TZOFFSETFROM:+0200
TZOFFSETTO:+0100
TZNAME:CET
DTSTART:20251026T010000
END:STANDARD
BEGIN:DAYLIGHT
TZOFFSETFROM:+0100
TZOFFSETTO:+0200
TZNAME:CEST
DTSTART:20260329T010000
END:DAYLIGHT
BEGIN:STANDARD
TZOFFSETFROM:+0200
TZOFFSETTO:+0100
TZNAME:CET
DTSTART:20261025T010000
END:STANDARD
BEGIN:DAYLIGHT
TZOFFSETFROM:+0100
TZOFFSETTO:+0200
TZNAME:CEST
DTSTART:20270328T010000
END:DAYLIGHT
BEGIN:STANDARD
TZOFFSETFROM:+0200
TZOFFSETTO:+0100
TZNAME:CET
DTSTART:20271031T010000
END:STANDARD
END:VTIMEZONE
BEGIN:VEVENT
DTSTART;TZID=Europe/Berlin:20260109T193100
DTEND;TZID=Europe/Berlin:20260110T020000
DTSTAMP:20260422T183443
CREATED:20251123T195814Z
LAST-MODIFIED:20251124T184441Z
UID:10000868-1767987060-1768010400@www.gmender-fasnet.de
SUMMARY:Fasnets-Opening - Kolba Hexa Baltmannsweiler e.V.
DESCRIPTION:Auftritt der Prinzengarde um ca. 20:00 Uhr \nÄnderungen vorbehalten.
URL:https://www.gmender-fasnet.de/event/fasnets-opening-kolba-hexa-baltmannsweiler-e-v/
LOCATION:Kulturzentrum Baltmannsweiler\, Baacher Straße 6\, Baltmannsweiler\, Baden-Württemberg\, 73666\, Deutschland
CATEGORIES:Hofstaat,Orga-Team,Prinzengarde,Vorstandschaft
ATTACH;FMTTYPE=image/png:https://www.gmender-fasnet.de/wp-content/uploads/2025/11/Bildschirmfoto-2025-11-23-um-20.55.24.png
ORGANIZER;CN="Narrenzunft Kolba Hexa Baltmannsweiler e.V.":MAILTO:vorstand@kolba-hexa.de
END:VEVENT
BEGIN:VEVENT
DTSTART;TZID=Europe/Berlin:20240112T193100
DTEND;TZID=Europe/Berlin:20240113T010000
DTSTAMP:20260422T183443
CREATED:20231223T175024Z
LAST-MODIFIED:20240110T093420Z
UID:10000021-1705087860-1705107600@www.gmender-fasnet.de
SUMMARY:Fasnets-Opening - Baltmannsweiler
DESCRIPTION:Auftritt der Prinzengarde um ca. 21:30 Uhr \nÄnderungen vorbehalten.
URL:https://www.gmender-fasnet.de/event/fasnets-opening-baltmannsweiler/
LOCATION:Kulturzentrum Baltmannsweiler\, Baacher Straße 6\, Baltmannsweiler\, Baden-Württemberg\, 73666\, Deutschland
CATEGORIES:Hofstaat,Orga-Team,Prinzengarde,Vorstandschaft
ATTACH;FMTTYPE=image/jpeg:https://www.gmender-fasnet.de/wp-content/uploads/2023/12/401080535_659800706138795_5509139864559057621_n.jpg
ORGANIZER;CN="Narrenzunft Kolba Hexa Baltmannsweiler e.V.":MAILTO:vorstand@kolba-hexa.de
END:VEVENT
END:VCALENDAR