BEGIN:VCALENDAR
VERSION:2.0
PRODID:-//Gmender Fasnet e.V. - ECPv6.15.20//NONSGML v1.0//EN
CALSCALE:GREGORIAN
METHOD:PUBLISH
X-WR-CALNAME:Gmender Fasnet e.V.
X-ORIGINAL-URL:https://www.gmender-fasnet.de
X-WR-CALDESC:Veranstaltungen für Gmender Fasnet e.V.
REFRESH-INTERVAL;VALUE=DURATION:PT1H
X-Robots-Tag:noindex
X-PUBLISHED-TTL:PT1H
BEGIN:VTIMEZONE
TZID:Europe/Berlin
BEGIN:DAYLIGHT
TZOFFSETFROM:+0100
TZOFFSETTO:+0200
TZNAME:CEST
DTSTART:20260329T010000
END:DAYLIGHT
BEGIN:STANDARD
TZOFFSETFROM:+0200
TZOFFSETTO:+0100
TZNAME:CET
DTSTART:20261025T010000
END:STANDARD
BEGIN:DAYLIGHT
TZOFFSETFROM:+0100
TZOFFSETTO:+0200
TZNAME:CEST
DTSTART:20270328T010000
END:DAYLIGHT
BEGIN:STANDARD
TZOFFSETFROM:+0200
TZOFFSETTO:+0100
TZNAME:CET
DTSTART:20271031T010000
END:STANDARD
BEGIN:DAYLIGHT
TZOFFSETFROM:+0100
TZOFFSETTO:+0200
TZNAME:CEST
DTSTART:20280326T010000
END:DAYLIGHT
BEGIN:STANDARD
TZOFFSETFROM:+0200
TZOFFSETTO:+0100
TZNAME:CET
DTSTART:20281029T010000
END:STANDARD
END:VTIMEZONE
BEGIN:VEVENT
DTSTART;TZID=Europe/Berlin:20270116T111100
DTEND;TZID=Europe/Berlin:20270116T173000
DTSTAMP:20260422T133404
CREATED:20260325T210922Z
LAST-MODIFIED:20260325T211023Z
UID:10000896-1800097860-1800120600@www.gmender-fasnet.de
SUMMARY:3. Gardetreffen der Gmender Fasnet
DESCRIPTION:👯‍♀️ 3. Gardetreffen der Gmender Fasnet 👯‍♀️🗓 Samstag\, 16. Januar 2027\n🕚 Beginn 11:11 Uhr | Saaleinlass: 10:30 Uhr\n📍 Mozarthalle Hussenhofen🎟 Eintritt frei! \nNach dem tollen Zuspruch\, den wir letztes Jahr nach unserem Gardetreffen erhalten haben\, laden wir euch herzlich zum 3. Gardetreffen der Gmender Fasnet e.V. ein. 💃🕺Ob Garde\, Tanzpaar\, Mariechen oder Mariechen-Medley – bei uns sind alle Disziplinen willkommen. Außerdem können auch Showtänze angemeldet werden. Freut euch auf ein abwechslungsreiches Programm! ✨ \nBei unserem Gardetreffen handelt sich nicht um einen Wettbewerb – im Mittelpunkt stehen Spaß\, Freude und die gemeinsame Begeisterung für den karnevalistischen Tanzsport! 🥳 \n🍽 Für das leibliche Wohl ist gesorgt. \nDen Zeitplan wird Ende November veröffentlicht. \n📢 Weitere Infos folgen – Änderungen vorbehalten.
URL:https://www.gmender-fasnet.de/event/3-gardetreffen-der-gmender-fasnet/
LOCATION:Mozarthalle Hussenhofen\, Steinweg 9\, Schwäbisch Gmünd - Hussenhofen\, Baden-Württemberg\, 73527\, Germany
CATEGORIES:Glitzerla,Gmünder Hüpfer,Hofstaat,Orga-Team,Prinzengarde,Ranzengarde,Stöpselgarde,Tanzteufel,Vorstandschaft
ATTACH;FMTTYPE=image/png:https://www.gmender-fasnet.de/wp-content/uploads/2026/03/2027.png
END:VEVENT
END:VCALENDAR