BEGIN:VCALENDAR
VERSION:2.0
PRODID:-//Gmender Fasnet e.V. - ECPv6.15.20//NONSGML v1.0//EN
CALSCALE:GREGORIAN
METHOD:PUBLISH
X-WR-CALNAME:Gmender Fasnet e.V.
X-ORIGINAL-URL:https://www.gmender-fasnet.de
X-WR-CALDESC:Veranstaltungen für Gmender Fasnet e.V.
REFRESH-INTERVAL;VALUE=DURATION:PT1H
X-Robots-Tag:noindex
X-PUBLISHED-TTL:PT1H
BEGIN:VTIMEZONE
TZID:Europe/Berlin
BEGIN:DAYLIGHT
TZOFFSETFROM:+0100
TZOFFSETTO:+0200
TZNAME:CEST
DTSTART:20260329T010000
END:DAYLIGHT
BEGIN:STANDARD
TZOFFSETFROM:+0200
TZOFFSETTO:+0100
TZNAME:CET
DTSTART:20261025T010000
END:STANDARD
BEGIN:DAYLIGHT
TZOFFSETFROM:+0100
TZOFFSETTO:+0200
TZNAME:CEST
DTSTART:20270328T010000
END:DAYLIGHT
BEGIN:STANDARD
TZOFFSETFROM:+0200
TZOFFSETTO:+0100
TZNAME:CET
DTSTART:20271031T010000
END:STANDARD
BEGIN:DAYLIGHT
TZOFFSETFROM:+0100
TZOFFSETTO:+0200
TZNAME:CEST
DTSTART:20280326T010000
END:DAYLIGHT
BEGIN:STANDARD
TZOFFSETFROM:+0200
TZOFFSETTO:+0100
TZNAME:CET
DTSTART:20281029T010000
END:STANDARD
END:VTIMEZONE
BEGIN:VEVENT
DTSTART;TZID=Europe/Berlin:20270204T161600
DTEND;TZID=Europe/Berlin:20270204T173000
DTSTAMP:20260422T084020
CREATED:20260325T212109Z
LAST-MODIFIED:20260325T212109Z
UID:10000898-1801757760-1801762200@www.gmender-fasnet.de
SUMMARY:29. Rathaussturm Schwäbisch Gmünd
DESCRIPTION:RATHAUSSTURM – ab Donnerstag geht’s richtig rund! 🎉 \nMit lautstarker Unterstützung der Gmender Gassafetza machen machen sich die Stürmer ab 16:00 Uhr bereit und marschieren über die Bocksgasse (Höhe Prediger) zum Oberen Marktplatz bzw. zum Rathaus.  Ein klein wenig Konfetti darf dabei natürlich nicht fehlen.  Wir werden mit einem bunt gemischten Großaufgebot der Gmender Fasnet versuchen das Gmünder Rathaus zu stürmen. Ganz ohne Gegenwehr wird die Stadtverwaltung die Türen aber nicht öffnen. Deshalb wird der Kampf um den Einlass in das Rathaus unter anderem durch besondere Tanzeinlagen und lauter Guggenmusik auf dem Eis ausgefochten. 🩰🎺🥁\n\nUnsere Stürmer werden wieder alles geben\, um dem Ersten Bürgermeister Christian Baron den Rathausschlüssel zu entlocken. 🔐 Wenn alles klappt\, wird auf dem Rathausbalkon die Schlüsselübergabe an Prinzessin Julia I. und Prinz Max I. stattfinden. Dann ist Schwäbisch Gmünd wieder bis zum Aschermittwoch fest in Narrenhand! 🙌🏼🎊\nFür das leibliche Wohl ist gesorgt: An unserem Bewirtungsstand gibt es ab 15 Uhr Pommes\, Rote Wurst und Rostbratwurst im Brötchen sowie Bier\, Radler\, Winzerschorle\, Secco und alkoholfreie Getränke. \nNatürlich haben wir auch unsere Fasnetabzeichen\, die als Eintritt für den 51. Gmender Fasnetumzug am Faschingsdienstag gelten\, dabei. \nKommt vorbei\, wir freuen uns auf euch! 🎉
URL:https://www.gmender-fasnet.de/event/29-rathaussturm-schwaebisch-gmuend/
LOCATION:Oberer Marktplatz Schwäbisch Gmünd\, Marktplatz 1\, Schwäbsich Gmünd\, Baden-Württemberg\, 73525
CATEGORIES:Gmünder Hüpfer,Hofstaat,Orga-Team,Prinzengarde,Ranzengarde,Silberfunken und Silberschmiede,Silberglöckle,Tanzteufel,Vorstandschaft
END:VEVENT
END:VCALENDAR