BEGIN:VCALENDAR
VERSION:2.0
PRODID:-//Gmender Fasnet e.V. - ECPv6.15.20//NONSGML v1.0//EN
CALSCALE:GREGORIAN
METHOD:PUBLISH
X-ORIGINAL-URL:https://www.gmender-fasnet.de
X-WR-CALDESC:Veranstaltungen für Gmender Fasnet e.V.
REFRESH-INTERVAL;VALUE=DURATION:PT1H
X-Robots-Tag:noindex
X-PUBLISHED-TTL:PT1H
BEGIN:VTIMEZONE
TZID:Europe/Berlin
BEGIN:DAYLIGHT
TZOFFSETFROM:+0100
TZOFFSETTO:+0200
TZNAME:CEST
DTSTART:20220327T010000
END:DAYLIGHT
BEGIN:STANDARD
TZOFFSETFROM:+0200
TZOFFSETTO:+0100
TZNAME:CET
DTSTART:20221030T010000
END:STANDARD
BEGIN:DAYLIGHT
TZOFFSETFROM:+0100
TZOFFSETTO:+0200
TZNAME:CEST
DTSTART:20230326T010000
END:DAYLIGHT
BEGIN:STANDARD
TZOFFSETFROM:+0200
TZOFFSETTO:+0100
TZNAME:CET
DTSTART:20231029T010000
END:STANDARD
BEGIN:DAYLIGHT
TZOFFSETFROM:+0100
TZOFFSETTO:+0200
TZNAME:CEST
DTSTART:20240331T010000
END:DAYLIGHT
BEGIN:STANDARD
TZOFFSETFROM:+0200
TZOFFSETTO:+0100
TZNAME:CET
DTSTART:20241027T010000
END:STANDARD
BEGIN:DAYLIGHT
TZOFFSETFROM:+0100
TZOFFSETTO:+0200
TZNAME:CEST
DTSTART:20250330T010000
END:DAYLIGHT
BEGIN:STANDARD
TZOFFSETFROM:+0200
TZOFFSETTO:+0100
TZNAME:CET
DTSTART:20251026T010000
END:STANDARD
BEGIN:DAYLIGHT
TZOFFSETFROM:+0100
TZOFFSETTO:+0200
TZNAME:CEST
DTSTART:20260329T010000
END:DAYLIGHT
BEGIN:STANDARD
TZOFFSETFROM:+0200
TZOFFSETTO:+0100
TZNAME:CET
DTSTART:20261025T010000
END:STANDARD
END:VTIMEZONE
BEGIN:VEVENT
DTSTART;TZID=Europe/Berlin:20251115T181000
DTEND;TZID=Europe/Berlin:20251116T013000
DTSTAMP:20260422T101539
CREATED:20250605T143741Z
LAST-MODIFIED:20251011T095912Z
UID:10000857-1763230200-1763256600@www.gmender-fasnet.de
SUMMARY:SAISON OPENING - 29. Regionales Guggenmusiktreffen
DESCRIPTION:Es geht wieder los! Die Gmender Fasnet steht in den Startlöchern.  \nAm 15.11.2025 läuten wir mit dem 29. Regionalen Guggenmusiktreffen die fünfte Jahreszeit ein. \n⏰ Programmdetails18:10 Uhr Aufstellung der Kapellen zum stillen Marsch in der Augustinerstraße18:20 Uhr Stiller Marsch von der Augustinerstraße über die Bocksgasse zum Marienbrunnen18:30 Uhr Vorstellung der Guggengruppen inkl. Instrumentenwäsche und Musik am Marienbrunnen19:40 Uhr Begrüßung Silbermännle + Prinzenpaar am Rathausbalkon und Rückmarsch zum Prediger20:00 Uhr Beginn Regionales Guggenmusiktreffen im Prediger mit neun regionalen Guggenmusikgruppen\, DJ und Gardetanz \nDie diesjährigen Guggenmusikgruppen werden auf unseren Social Media Kanälen bekanntgegeben. Außerdem werden die Prinzengarde und die Gmünder Hüpfer erstmalig ihre Tänze der Saison 2025/2026 präsentieren.  DJ Bausch wird für Stimmung auf dem Dancefloor sorgen. 🪩 \nWir freuen uns auf euch! 🎉 \n🎟️ Einlass für die Party im Prediger an der Abendkasse für 10€ inkl. Fasnetabzeichen für die Saison 2025/2026.\nAb 18 Jahren! Ausweiskontrolle! \n  \nÄnderungen vorbehalten. Weitere Informationen folgen.
URL:https://www.gmender-fasnet.de/event/29-regionales-guggenmusiktreffen/
LOCATION:Prediger Schwäbisch Gmünd\, Johannisplatz 3\, Schwäbsich Gmünd\, Baden-Württemberg\, 73525\, Deutschland
CATEGORIES:Alle Mitglieder,Glitzerla,Gmünder Hüpfer,Hofstaat,Orga-Team,Prinzengarde,Ranzengarde,Silberfunken und Silberschmiede,Silberglöckle,Stöpselgarde,Tanzteufel,Vorstandschaft
ATTACH;FMTTYPE=image/png:https://www.gmender-fasnet.de/wp-content/uploads/2025/06/GMENDER-FASNET-E.V-e1760176711721.png
END:VEVENT
BEGIN:VEVENT
DTSTART;TZID=Europe/Berlin:20241116T181000
DTEND;TZID=Europe/Berlin:20241117T020000
DTSTAMP:20260422T101539
CREATED:20240221T085931Z
LAST-MODIFIED:20241106T161023Z
UID:10000052-1731780600-1731808800@www.gmender-fasnet.de
SUMMARY:28. Regionales Guggenmusiktreffen
DESCRIPTION:Es geht wieder los! Die Gmender Fasnet steht in den Startlöchern.  \n  \nAm 16.11.2024 läuten wir mit dem 28. Regionalen Guggenmusiktreffen die fünfte Jahreszeit ein. \n  \n Programm \n18:10 Uhr Aufstellung der Kapellen zum stillen Marsch in der Augustinerstraße \n18:20 Uhr Stiller Marsch von der Augustinerstraße über die Bocksgasse zum Marienbrunnen \n18:30 Uhr Vorstellung der Guggengruppen inkl. Instrumentenwäsche und Musik am Marienbrunnen \n19:40 Uhr Begrüßung Silbermännle + Hofstaat am Rathaus und Rückmarsch zum Prediger \n20:00 Uhr Beginn 28. Regionales Guggenmusiktreffen im Prediger \nDie diesjährigen Guggenmusikgruppen werden auf unseren Social Media Kanälen bekanntgegeben. Außerdem werden die Prinzengarde und die Gmünder Hüpfer erstmalig ihre Tänze der Saison 2024/2025 präsentieren.  DJ Bausch wird für Stimmung auf dem Dancefloor sorgen. 🪩 \n  \nWir freuen uns auf euch! 🎉 \n Karten gibt es im VVK bei jedem Mitglied der Gmender Fasnet\, im i-Punkt Schwäbisch Gmünd und an der Abendkasse für 10€ inkl. Fasnetabzeichen für die Saison 2024/2025. \nEinlass ab 18 Jahren. Ausweiskontrolle! \n  \nMit dem Fasnetabzeichen erhält man\n– Eintritt zum Guggenmusikfrühschoppen am Internationalen Guggenmusiktreffen\n– Eintritt zum Fasnetumzug\n– Eintritt zum Kehraus am Faschingsdienstag im Prediger. \n  \nÄnderungen vorbehalten. Weitere Informationen folgen.
URL:https://www.gmender-fasnet.de/event/28-regionales-guggenmusiktreffen/
LOCATION:Prediger Schwäbisch Gmünd\, Johannisplatz 3\, Schwäbsich Gmünd\, Baden-Württemberg\, 73525\, Deutschland
CATEGORIES:Alle Mitglieder,Glitzerla,Gmünder Hüpfer,Hofstaat,Orga-Team,Prinzengarde,Ranzengarde,Silberglöckle,Stöpselgarde,Tanzteufel,Vorstandschaft
ATTACH;FMTTYPE=image/png:https://www.gmender-fasnet.de/wp-content/uploads/2023/06/27.-Regionales-Guggenmusiktreffen.png
END:VEVENT
BEGIN:VEVENT
DTSTART;TZID=Europe/Berlin:20231111T182000
DTEND;TZID=Europe/Berlin:20231112T020000
DTSTAMP:20260422T101539
CREATED:20230702T132935Z
LAST-MODIFIED:20231031T160435Z
UID:10000008-1699726800-1699754400@www.gmender-fasnet.de
SUMMARY:27. Regionales Guggenmusiktreffen
DESCRIPTION:Es geht wieder los! Die Gmender Fasnet steht in den Startlöchern.  \n  \nAm 11.11.2023 läuten wir mit dem 27. Regionalen Guggenmusiktreffen die fünfte Jahreszeit ein. \n  \n Programm \n18:10 Uhr Aufstellung der Kapellen zum Sternenmarsch \n18:20 Uhr Sternenmarsch der Guggenmusiken zum Marienbrunnen \n18:30 Uhr Vorstellung der Guggengruppen inkl. Musik \n19:40 Uhr Begrüßung Silbermännle + Hofstaat am Rathaus und Rückmarsch zum Prediger \n20:00 Uhr Beginn 27. Regionales Guggenmusiktreffen im Prediger \nMit dabei sind dieses Jahr die Omsnomgugga aus Weiler\, die Oschtalb Ruassgugga aus Aalen\, die Kalkstoi Gugga aus Neresheim\, die Gmendr Altstadtfäger aus Schwäbisch Gmünd\, die Gmendr Gassafetza aus Schwäbisch Gmünd\, Schwab Gwiddr aus Oberkochen und die Freiwillige Guggenmusik Überdruck aus Schwäbisch Gmünd-Wetzgau. Außerdem werden die Prinzengarde und die Gmünder Hüpfer erstmalig ihre Tänze der Saison 2023/2024 präsentieren.  DJ Bausch wird für Stimmung auf dem Dancefloor sorgen. 🪩 \n  \nWir freuen uns auf euch! 🎉 \n Karten gibt es im VVK bei jedem Mitglied der Gmender Fasnet\, im i-Punkt Schwäbisch Gmünd und an der Abendkasse für 10€ inkl. Fasnetabzeichen für die Saison 2023/2024. \nEinlass ab 18 Jahren. Ausweiskontrolle! \n  \nMit dem Fasnetabzeichen erhält man\n– Eintritt zum Guggenmusikfrühschoppen am Internationalen Guggenmusiktreffen\n– Eintritt zum Fasnetumzug\n– Eintritt zum Kehraus im Prediger. \n  \nÄnderungen vorbehalten. Weitere Informationen folgen.
URL:https://www.gmender-fasnet.de/event/27-regionales-guggenmusiktreffen/
LOCATION:Prediger Schwäbisch Gmünd\, Johannisplatz 3\, Schwäbsich Gmünd\, Baden-Württemberg\, 73525\, Deutschland
CATEGORIES:Glitzerla,Gmünder Hüpfer,Hofstaat,Orga-Team,Prinzengarde,Stöpselgarde,Tanzteufel,Vorstandschaft
ATTACH;FMTTYPE=image/png:https://www.gmender-fasnet.de/wp-content/uploads/2023/06/27.-Regionales-Guggenmusiktreffen.png
END:VEVENT
END:VCALENDAR