BEGIN:VCALENDAR
VERSION:2.0
PRODID:-//Gmender Fasnet e.V. - ECPv6.15.20//NONSGML v1.0//EN
CALSCALE:GREGORIAN
METHOD:PUBLISH
X-WR-CALNAME:Gmender Fasnet e.V.
X-ORIGINAL-URL:https://www.gmender-fasnet.de
X-WR-CALDESC:Veranstaltungen für Gmender Fasnet e.V.
REFRESH-INTERVAL;VALUE=DURATION:PT1H
X-Robots-Tag:noindex
X-PUBLISHED-TTL:PT1H
BEGIN:VTIMEZONE
TZID:Europe/Berlin
BEGIN:DAYLIGHT
TZOFFSETFROM:+0100
TZOFFSETTO:+0200
TZNAME:CEST
DTSTART:20250330T010000
END:DAYLIGHT
BEGIN:STANDARD
TZOFFSETFROM:+0200
TZOFFSETTO:+0100
TZNAME:CET
DTSTART:20251026T010000
END:STANDARD
BEGIN:DAYLIGHT
TZOFFSETFROM:+0100
TZOFFSETTO:+0200
TZNAME:CEST
DTSTART:20260329T010000
END:DAYLIGHT
BEGIN:STANDARD
TZOFFSETFROM:+0200
TZOFFSETTO:+0100
TZNAME:CET
DTSTART:20261025T010000
END:STANDARD
BEGIN:DAYLIGHT
TZOFFSETFROM:+0100
TZOFFSETTO:+0200
TZNAME:CEST
DTSTART:20270328T010000
END:DAYLIGHT
BEGIN:STANDARD
TZOFFSETFROM:+0200
TZOFFSETTO:+0100
TZNAME:CET
DTSTART:20271031T010000
END:STANDARD
END:VTIMEZONE
BEGIN:VEVENT
DTSTART;TZID=Europe/Berlin:20261114T181000
DTEND;TZID=Europe/Berlin:20261115T020000
DTSTAMP:20260422T083829
CREATED:20260325T211316Z
LAST-MODIFIED:20260325T211317Z
UID:10000897-1794679800-1794708000@www.gmender-fasnet.de
SUMMARY:SAISON OPENING - 30.  Regionales Guggenmusiktreffen
DESCRIPTION:Am 14.11.2026 läuten wir mit dem 30. Regionalen Guggenmusiktreffen die fünfte Jahreszeit ein. \n⏰ Programmdetails18:10 Uhr Aufstellung der Kapellen zum stillen Marsch in der Augustinerstraße18:20 Uhr Stiller Marsch von der Augustinerstraße über die Bocksgasse zum Marienbrunnen18:30 Uhr Vorstellung der Guggengruppen inkl. Instrumentenwäsche und Musik am Marienbrunnen19:40 Uhr Begrüßung Silbermännle + Prinzenpaar am Rathausbalkon und Rückmarsch zum Prediger20:00 Uhr Beginn Regionales Guggenmusiktreffen im Prediger mit neun regionalen Guggenmusikgruppen\, DJ und Gardetanz \nDie diesjährigen Guggenmusikgruppen werden auf unseren Social Media Kanälen bekanntgegeben. Außerdem werden die Prinzengarde und die Gmünder Hüpfer erstmalig ihre Tänze der Saison 2026/2027 präsentieren.  DJ Bausch wird für Stimmung auf dem Dancefloor sorgen. 🪩 \nWir freuen uns auf euch! 🎉 \n🎟️ Einlass für die Party im Prediger an der Abendkasse für 10€ inkl. Fasnetabzeichen für die Saison 2026/2027.\nAb 18 Jahren! Ausweiskontrolle! \n  \nÄnderungen vorbehalten. Weitere Informationen folgen.
URL:https://www.gmender-fasnet.de/event/saison-opening-30-regionales-guggenmusiktreffen/
LOCATION:Prediger Schwäbisch Gmünd\, Johannisplatz 3\, Schwäbsich Gmünd\, Baden-Württemberg\, 73525\, Deutschland
CATEGORIES:Alle Mitglieder,Glitzerla,Gmünder Hüpfer,Hofstaat,Orga-Team,Prinzengarde,Ranzengarde,Silberfunken und Silberschmiede,Silberglöckle,Stöpselgarde,Tanzteufel,Vorstandschaft
END:VEVENT
END:VCALENDAR