BEGIN:VCALENDAR
VERSION:2.0
PRODID:-//Gmender Fasnet e.V. - ECPv6.15.20//NONSGML v1.0//EN
CALSCALE:GREGORIAN
METHOD:PUBLISH
X-WR-CALNAME:Gmender Fasnet e.V.
X-ORIGINAL-URL:https://www.gmender-fasnet.de
X-WR-CALDESC:Veranstaltungen für Gmender Fasnet e.V.
REFRESH-INTERVAL;VALUE=DURATION:PT1H
X-Robots-Tag:noindex
X-PUBLISHED-TTL:PT1H
BEGIN:VTIMEZONE
TZID:Europe/Berlin
BEGIN:DAYLIGHT
TZOFFSETFROM:+0100
TZOFFSETTO:+0200
TZNAME:CEST
DTSTART:20250330T010000
END:DAYLIGHT
BEGIN:STANDARD
TZOFFSETFROM:+0200
TZOFFSETTO:+0100
TZNAME:CET
DTSTART:20251026T010000
END:STANDARD
BEGIN:DAYLIGHT
TZOFFSETFROM:+0100
TZOFFSETTO:+0200
TZNAME:CEST
DTSTART:20260329T010000
END:DAYLIGHT
BEGIN:STANDARD
TZOFFSETFROM:+0200
TZOFFSETTO:+0100
TZNAME:CET
DTSTART:20261025T010000
END:STANDARD
BEGIN:DAYLIGHT
TZOFFSETFROM:+0100
TZOFFSETTO:+0200
TZNAME:CEST
DTSTART:20270328T010000
END:DAYLIGHT
BEGIN:STANDARD
TZOFFSETFROM:+0200
TZOFFSETTO:+0100
TZNAME:CET
DTSTART:20271031T010000
END:STANDARD
END:VTIMEZONE
BEGIN:VEVENT
DTSTART;TZID=Europe/Berlin:20260123T170000
DTEND;TZID=Europe/Berlin:20260123T200000
DTSTAMP:20260424T143213
CREATED:20251123T202831Z
LAST-MODIFIED:20251124T185318Z
UID:10000871-1769187600-1769198400@www.gmender-fasnet.de
SUMMARY:Narrenbaumstellen - Narrenzunft Bäbenger Wildsaue e.V.
DESCRIPTION:Änderungen vorbehalten.
URL:https://www.gmender-fasnet.de/event/narrenbaumstellen-narrenzunft-baebenger-wildsaue-e-v/
LOCATION:Rathausplatz Böbingen\, Römerstraße 2\, Böbingen an der Rems\, Baden-Württemberg\, 73560\, Germany
CATEGORIES:Alle Mitglieder,Glitzerla,Gmünder Hüpfer,Hofstaat,Orga-Team,Prinzengarde,Ranzengarde,Silberfunken und Silberschmiede,Silberglöckle,Stöpselgarde,Tanzteufel,Vorstandschaft
ATTACH;FMTTYPE=image/jpeg:https://www.gmender-fasnet.de/wp-content/uploads/2025/11/NZBW014-1030x705-1.jpg
ORGANIZER;CN="Narrenzunft B%C3%A4benger Wildsaue e.V.":MAILTO:impressum@baebenger-wildsaue.de
END:VEVENT
END:VCALENDAR