BEGIN:VCALENDAR
VERSION:2.0
PRODID:-//Gmender Fasnet e.V. - ECPv6.15.20//NONSGML v1.0//EN
CALSCALE:GREGORIAN
METHOD:PUBLISH
X-WR-CALNAME:Gmender Fasnet e.V.
X-ORIGINAL-URL:https://www.gmender-fasnet.de
X-WR-CALDESC:Veranstaltungen für Gmender Fasnet e.V.
REFRESH-INTERVAL;VALUE=DURATION:PT1H
X-Robots-Tag:noindex
X-PUBLISHED-TTL:PT1H
BEGIN:VTIMEZONE
TZID:Europe/Berlin
BEGIN:DAYLIGHT
TZOFFSETFROM:+0100
TZOFFSETTO:+0200
TZNAME:CEST
DTSTART:20220327T010000
END:DAYLIGHT
BEGIN:STANDARD
TZOFFSETFROM:+0200
TZOFFSETTO:+0100
TZNAME:CET
DTSTART:20221030T010000
END:STANDARD
BEGIN:DAYLIGHT
TZOFFSETFROM:+0100
TZOFFSETTO:+0200
TZNAME:CEST
DTSTART:20230326T010000
END:DAYLIGHT
BEGIN:STANDARD
TZOFFSETFROM:+0200
TZOFFSETTO:+0100
TZNAME:CET
DTSTART:20231029T010000
END:STANDARD
BEGIN:DAYLIGHT
TZOFFSETFROM:+0100
TZOFFSETTO:+0200
TZNAME:CEST
DTSTART:20240331T010000
END:DAYLIGHT
BEGIN:STANDARD
TZOFFSETFROM:+0200
TZOFFSETTO:+0100
TZNAME:CET
DTSTART:20241027T010000
END:STANDARD
BEGIN:DAYLIGHT
TZOFFSETFROM:+0100
TZOFFSETTO:+0200
TZNAME:CEST
DTSTART:20250330T010000
END:DAYLIGHT
BEGIN:STANDARD
TZOFFSETFROM:+0200
TZOFFSETTO:+0100
TZNAME:CET
DTSTART:20251026T010000
END:STANDARD
BEGIN:DAYLIGHT
TZOFFSETFROM:+0100
TZOFFSETTO:+0200
TZNAME:CEST
DTSTART:20260329T010000
END:DAYLIGHT
BEGIN:STANDARD
TZOFFSETFROM:+0200
TZOFFSETTO:+0100
TZNAME:CET
DTSTART:20261025T010000
END:STANDARD
END:VTIMEZONE
BEGIN:VEVENT
DTSTART;TZID=Europe/Berlin:20250914T140000
DTEND;TZID=Europe/Berlin:20250914T153000
DTSTAMP:20260424T143559
CREATED:20250706T155621Z
LAST-MODIFIED:20250902T164748Z
UID:10000866-1757858400-1757863800@www.gmender-fasnet.de
SUMMARY:Tag der Gmender Fasnet @ Gmünder Sommer
DESCRIPTION:Fasching ist nur einmal im Jahr? Stimmt nicht ganz! Denn die Gmender Fasnet e.V. lädt auch im Sommer zu närrischem Treiben ein.  \nAm Sonntag\, den 14. September 2025 findet im Rahmen des Gmünder Sommers der Tag der Gmender Fasnet auf der Remspark-Bühne im Stadtgarten Schwäbisch Gmünd statt. Die Besucher können sich auf mitreißende Vorführungen\, bunte Kostüme und gute Laune freuen. \nAb 14:00 Uhr präsentieren die Garden der Gmender Fasnet erstmalig neue Tänze. \nDer Eintritt ist frei.
URL:https://www.gmender-fasnet.de/event/tag-der-gmender-fasnet-gmuender-sommer-2/
LOCATION:Remspark Bühne\, Am Stadtgarten 11\, Schwäbisch Gmünd\, Baden Württemberg\, 73525\, Deutschland
CATEGORIES:Alle Mitglieder,Glitzerla,Gmünder Hüpfer,Hofstaat,Orga-Team,Prinzengarde,Ranzengarde,Silberglöckle,Stöpselgarde,Tanzteufel,Vorstandschaft
ATTACH;FMTTYPE=image/png:https://www.gmender-fasnet.de/wp-content/uploads/2024/04/Gmuender-Sommer.png
END:VEVENT
BEGIN:VEVENT
DTSTART;TZID=Europe/Berlin:20240929T140000
DTEND;TZID=Europe/Berlin:20240929T153000
DTSTAMP:20260424T143559
CREATED:20240423T184838Z
LAST-MODIFIED:20240423T212303Z
UID:10000057-1727618400-1727623800@www.gmender-fasnet.de
SUMMARY:Tag der Gmender Fasnet @ Gmünder Sommer
DESCRIPTION:Fasching ist nur einmal im Jahr? Stimmt nicht ganz! Denn die Gmender Fasnet e.V. lädt auch im Sommer zu närrischem Treiben ein.  \nAm Sonntag\, den 29. September 2024 findet im Rahmen des Gmünder Sommers der Tag der Gmender Fasnet auf der Remspark-Bühne im Stadtgarten Schwäbisch Gmünd statt. Die Besucher können sich auf mitreißende Vorführungen\, bunte Kostüme und gute Laune freuen. \nAb 14:00 Uhr präsentieren die Garden der Gmender Fasnet erstmalig ihre neuen Tänze. Arrangiert wird das eineinhalbstündige Programm durch die Moderation von Robin Kucher. Außerdem wird es Gastauftritte der 1. Wexhainer Narrenzunft e.V. aus Wetzgau-Rehnenhof und der 1. Gmünder Narrenzunft Hölltalschütz e.V. (Rudo’s) geben. \nNeben diversen Auftritten wird es auch Informatives sowie die Möglichkeit mit den einzelnen Vereinen in Kontakt zu treten geben. \nDer Eintritt ist frei.
URL:https://www.gmender-fasnet.de/event/tag-der-gmender-fasnet-gmuender-sommer/
LOCATION:Remspark Bühne\, Am Stadtgarten 11\, Schwäbisch Gmünd\, Baden Württemberg\, 73525\, Deutschland
CATEGORIES:Alle Mitglieder,Glitzerla,Gmünder Hüpfer,Hofstaat,Orga-Team,Prinzengarde,Ranzengarde,Silberglöckle,Stöpselgarde,Tanzteufel,Vorstandschaft
ATTACH;FMTTYPE=image/png:https://www.gmender-fasnet.de/wp-content/uploads/2024/04/Gmuender-Sommer.png
END:VEVENT
BEGIN:VEVENT
DTSTART;TZID=Europe/Berlin:20230924T140000
DTEND;TZID=Europe/Berlin:20230924T153000
DTSTAMP:20260424T143559
CREATED:20230613T160836Z
LAST-MODIFIED:20230916T125137Z
UID:10000006-1695564000-1695569400@www.gmender-fasnet.de
SUMMARY:Tag der Gmender Fasnet @ Gmünder Sommer
DESCRIPTION:Fasching ist nur einmal im Jahr? Stimmt nicht ganz! Denn die Gmender Fasnet e.V. lädt auch im Sommer zu närrischem Treiben ein.  \nAm Sonntag\, den 24. September 2023 findet im Rahmen des Gmünder Sommers der Tag der Gmender Fasnet auf der Remspark-Bühne im Stadtgarten Schwäbisch Gmünd statt. Die Besucher können sich auf mitreißende Vorführungen\, bunte Kostüme und gute Laune freuen. \nAb 14:00 Uhr präsentieren alle Garden der Gmender Fasnet erstmalig ihre neuen Tänze. Arrangiert wird das eineinhalbstündige Programm durch die Moderation von Robin Kucher. Außerdem wird es Gastauftritte der 1. Wexhainer Narrenzunft e.V. aus Wetzgau-Rehnenhof und der 1. Gmünder Narrenzunft Hölltalschütz e.V. (Rudo’s) geben. \nNeben diversen Auftritten wird es auch Informatives sowie die Möglichkeit mit den einzelnen Vereinen in Kontakt zu treten geben. \nDer Eintritt ist frei.
URL:https://www.gmender-fasnet.de/event/gmender-fasnet-gmuender-sommer/
LOCATION:Remspark Bühne\, Am Stadtgarten 11\, Schwäbisch Gmünd\, Baden Württemberg\, 73525\, Deutschland
CATEGORIES:Alle Mitglieder,Glitzerla,Gmünder Hüpfer,Hofstaat,Orga-Team,Prinzengarde,Silberglöckle,Stöpselgarde,Tanzteufel,Vorstandschaft
ATTACH;FMTTYPE=image/png:https://www.gmender-fasnet.de/wp-content/uploads/2023/06/Gmender-Fasnet-@-Gmuender-Sommer.png
END:VEVENT
END:VCALENDAR