BEGIN:VCALENDAR
VERSION:2.0
PRODID:-//Gmender Fasnet e.V. - ECPv6.15.20//NONSGML v1.0//EN
CALSCALE:GREGORIAN
METHOD:PUBLISH
X-WR-CALNAME:Gmender Fasnet e.V.
X-ORIGINAL-URL:https://www.gmender-fasnet.de
X-WR-CALDESC:Veranstaltungen für Gmender Fasnet e.V.
REFRESH-INTERVAL;VALUE=DURATION:PT1H
X-Robots-Tag:noindex
X-PUBLISHED-TTL:PT1H
BEGIN:VTIMEZONE
TZID:Europe/Berlin
BEGIN:DAYLIGHT
TZOFFSETFROM:+0100
TZOFFSETTO:+0200
TZNAME:CEST
DTSTART:20230326T010000
END:DAYLIGHT
BEGIN:STANDARD
TZOFFSETFROM:+0200
TZOFFSETTO:+0100
TZNAME:CET
DTSTART:20231029T010000
END:STANDARD
BEGIN:DAYLIGHT
TZOFFSETFROM:+0100
TZOFFSETTO:+0200
TZNAME:CEST
DTSTART:20240331T010000
END:DAYLIGHT
BEGIN:STANDARD
TZOFFSETFROM:+0200
TZOFFSETTO:+0100
TZNAME:CET
DTSTART:20241027T010000
END:STANDARD
BEGIN:DAYLIGHT
TZOFFSETFROM:+0100
TZOFFSETTO:+0200
TZNAME:CEST
DTSTART:20250330T010000
END:DAYLIGHT
BEGIN:STANDARD
TZOFFSETFROM:+0200
TZOFFSETTO:+0100
TZNAME:CET
DTSTART:20251026T010000
END:STANDARD
BEGIN:DAYLIGHT
TZOFFSETFROM:+0100
TZOFFSETTO:+0200
TZNAME:CEST
DTSTART:20260329T010000
END:DAYLIGHT
BEGIN:STANDARD
TZOFFSETFROM:+0200
TZOFFSETTO:+0100
TZNAME:CET
DTSTART:20261025T010000
END:STANDARD
BEGIN:DAYLIGHT
TZOFFSETFROM:+0100
TZOFFSETTO:+0200
TZNAME:CEST
DTSTART:20270328T010000
END:DAYLIGHT
BEGIN:STANDARD
TZOFFSETFROM:+0200
TZOFFSETTO:+0100
TZNAME:CET
DTSTART:20271031T010000
END:STANDARD
END:VTIMEZONE
BEGIN:VEVENT
DTSTART;TZID=Europe/Berlin:20260106T160000
DTEND;TZID=Europe/Berlin:20260106T180000
DTSTAMP:20260422T133550
CREATED:20251123T195448Z
LAST-MODIFIED:20251230T170522Z
UID:10000867-1767715200-1767722400@www.gmender-fasnet.de
SUMMARY:Rudo rauslassa - 1. Gmünder Narrenzunft Hölltalschütz e.V.
DESCRIPTION:Änderungen vorbehalten.
URL:https://www.gmender-fasnet.de/event/rudo-rauslassa-1-gmuender-narrenzunft-hoelltalschuetz-e-v-2/
LOCATION:Schützenhaus Hölltal\, Neidling 8\, Schwäbisch Gmünd\, Baden-Württemberg\, 73529\, Deutschland
CATEGORIES:Alle Mitglieder,Glitzerla,Gmünder Hüpfer,Hofstaat,Orga-Team,Prinzengarde,Ranzengarde,Silberfunken und Silberschmiede,Silberglöckle,Stöpselgarde,Tanzteufel,Vorstandschaft
ATTACH;FMTTYPE=image/jpeg:https://www.gmender-fasnet.de/wp-content/uploads/2025/11/WhatsApp-Image-2025-12-30-at-09.39.17.jpeg
ORGANIZER;CN="1. Gm%C3%BCnder Narrenzunft H%C3%B6lltalsch%C3%BCtz e.V.":MAILTO:info@hoelltalschuetz.de
END:VEVENT
BEGIN:VEVENT
DTSTART;TZID=Europe/Berlin:20250106T160000
DTEND;TZID=Europe/Berlin:20250106T190000
DTSTAMP:20260422T133550
CREATED:20241123T131438Z
LAST-MODIFIED:20241123T142855Z
UID:10000823-1736179200-1736190000@www.gmender-fasnet.de
SUMMARY:Rudo rauslassa - 1. Gmünder Narrenzunft Hölltalschütz e.V.
DESCRIPTION:Änderungen vorbehalten!
URL:https://www.gmender-fasnet.de/event/rudo-rauslassa-1-gmuender-narrenzunft-hoelltalschuetz-e-v/
LOCATION:Schützenhaus Hölltal\, Neidling 8\, Schwäbisch Gmünd\, Baden-Württemberg\, 73529\, Deutschland
ORGANIZER;CN="1. Gm%C3%BCnder Narrenzunft H%C3%B6lltalsch%C3%BCtz e.V.":MAILTO:info@hoelltalschuetz.de
END:VEVENT
BEGIN:VEVENT
DTSTART;TZID=Europe/Berlin:20240106T180000
DTEND;TZID=Europe/Berlin:20240106T193000
DTSTAMP:20260422T133550
CREATED:20240103T153024Z
LAST-MODIFIED:20240103T153024Z
UID:10000044-1704564000-1704569400@www.gmender-fasnet.de
SUMMARY:Rudo ruaslassa - Schwäbisch Gmünd
DESCRIPTION:Es ist soweit\, der Rudo wird nach langem warten wieder aus dem Hölltal geholt um in die wilde Jahreszeit zu starten. \nÄnderungen vorbehalten.
URL:https://www.gmender-fasnet.de/event/rudo-ruaslassa-schwaebisch-gmuend/
LOCATION:Schützenhaus Hölltal\, Neidling 8\, Schwäbisch Gmünd\, Baden-Württemberg\, 73529\, Deutschland
CATEGORIES:Hofstaat,Orga-Team,Prinzengarde,Vorstandschaft
ATTACH;FMTTYPE=image/png:https://www.gmender-fasnet.de/wp-content/uploads/2024/01/Bildschirmfoto-2024-01-03-um-16.27.28.png
ORGANIZER;CN="1. Gm%C3%BCnder Narrenzunft H%C3%B6lltalsch%C3%BCtz e.V.":MAILTO:info@hoelltalschuetz.de
END:VEVENT
END:VCALENDAR