BEGIN:VCALENDAR
VERSION:2.0
PRODID:-//Gmender Fasnet e.V. - ECPv6.15.20//NONSGML v1.0//EN
CALSCALE:GREGORIAN
METHOD:PUBLISH
X-WR-CALNAME:Gmender Fasnet e.V.
X-ORIGINAL-URL:https://www.gmender-fasnet.de
X-WR-CALDESC:Veranstaltungen für Gmender Fasnet e.V.
REFRESH-INTERVAL;VALUE=DURATION:PT1H
X-Robots-Tag:noindex
X-PUBLISHED-TTL:PT1H
BEGIN:VTIMEZONE
TZID:Europe/Berlin
BEGIN:DAYLIGHT
TZOFFSETFROM:+0100
TZOFFSETTO:+0200
TZNAME:CEST
DTSTART:20230326T010000
END:DAYLIGHT
BEGIN:STANDARD
TZOFFSETFROM:+0200
TZOFFSETTO:+0100
TZNAME:CET
DTSTART:20231029T010000
END:STANDARD
BEGIN:DAYLIGHT
TZOFFSETFROM:+0100
TZOFFSETTO:+0200
TZNAME:CEST
DTSTART:20240331T010000
END:DAYLIGHT
BEGIN:STANDARD
TZOFFSETFROM:+0200
TZOFFSETTO:+0100
TZNAME:CET
DTSTART:20241027T010000
END:STANDARD
BEGIN:DAYLIGHT
TZOFFSETFROM:+0100
TZOFFSETTO:+0200
TZNAME:CEST
DTSTART:20250330T010000
END:DAYLIGHT
BEGIN:STANDARD
TZOFFSETFROM:+0200
TZOFFSETTO:+0100
TZNAME:CET
DTSTART:20251026T010000
END:STANDARD
BEGIN:DAYLIGHT
TZOFFSETFROM:+0100
TZOFFSETTO:+0200
TZNAME:CEST
DTSTART:20260329T010000
END:DAYLIGHT
BEGIN:STANDARD
TZOFFSETFROM:+0200
TZOFFSETTO:+0100
TZNAME:CET
DTSTART:20261025T010000
END:STANDARD
BEGIN:DAYLIGHT
TZOFFSETFROM:+0100
TZOFFSETTO:+0200
TZNAME:CEST
DTSTART:20270328T010000
END:DAYLIGHT
BEGIN:STANDARD
TZOFFSETFROM:+0200
TZOFFSETTO:+0100
TZNAME:CET
DTSTART:20271031T010000
END:STANDARD
END:VTIMEZONE
BEGIN:VEVENT
DTSTART;TZID=Europe/Berlin:20260104T130000
DTEND;TZID=Europe/Berlin:20260104T130000
DTSTAMP:20260422T145800
CREATED:20251123T194027Z
LAST-MODIFIED:20251124T184249Z
UID:10000874-1767531600-1767531600@www.gmender-fasnet.de
SUMMARY:3-KÖNIGS-GUGG - Remstalgugga Bäbenga e.V.
DESCRIPTION:Auftritt der Prinzengarde \nÄnderungen vorbehalten.
URL:https://www.gmender-fasnet.de/event/3-koenigs-gugg-remstalgugga-baebenga-e-v-2/
LOCATION:Schulgelände Böbingen\, Schulstraße 22\, Böbingen an der Rems\, Baden- Württemberg\, 73560\, Deutschland
CATEGORIES:Hofstaat,Orga-Team,Prinzengarde,Vorstandschaft
ATTACH;FMTTYPE=image/png:https://www.gmender-fasnet.de/wp-content/uploads/2023/08/Trainingswochenende-Prinzengarde.png
ORGANIZER;CN="Remstalgugga B%C3%A4benga e.V.":MAILTO:hallo@remstalgugga-baebenga.de
END:VEVENT
BEGIN:VEVENT
DTSTART;TZID=Europe/Berlin:20250105T130000
DTEND;TZID=Europe/Berlin:20250106T020000
DTSTAMP:20260422T145800
CREATED:20241123T130846Z
LAST-MODIFIED:20241123T130846Z
UID:10000821-1736082000-1736128800@www.gmender-fasnet.de
SUMMARY:3-Königs-Gugg - Remstalgugga Bäbenga e.V.
DESCRIPTION:Änderungen vorbehalten!
URL:https://www.gmender-fasnet.de/event/3-koenigs-gugg-remstalgugga-baebenga-e-v/
LOCATION:Schulgelände Böbingen\, Schulstraße 22\, Böbingen an der Rems\, Baden- Württemberg\, 73560\, Deutschland
CATEGORIES:Hofstaat,Orga-Team,Prinzengarde,Vorstandschaft
ATTACH;FMTTYPE=image/png:https://www.gmender-fasnet.de/wp-content/uploads/2024/11/Bildschirmfoto-2024-11-23-um-14.06.08.png
ORGANIZER;CN="Remstalgugga B%C3%A4benga e.V.":MAILTO:hallo@remstalgugga-baebenga.de
END:VEVENT
BEGIN:VEVENT
DTSTART;TZID=Europe/Berlin:20240106T130000
DTEND;TZID=Europe/Berlin:20240107T010000
DTSTAMP:20260422T145800
CREATED:20231223T171839Z
LAST-MODIFIED:20240103T083849Z
UID:10000019-1704546000-1704589200@www.gmender-fasnet.de
SUMMARY:3-Königs-Gugg - Böbingen
DESCRIPTION:Auftritt der Prinzengarde.\nAuftrittszeit: ca. 22:00 Uhr \nÄnderungen vorbehalten.
URL:https://www.gmender-fasnet.de/event/3-koenigs-gugg/
LOCATION:Schulgelände Böbingen\, Schulstraße 22\, Böbingen an der Rems\, Baden- Württemberg\, 73560\, Deutschland
CATEGORIES:Hofstaat,Orga-Team,Prinzengarde,Vorstandschaft
ATTACH;FMTTYPE=image/png:https://www.gmender-fasnet.de/wp-content/uploads/2023/12/Bildschirmfoto-2023-12-23-um-18.11.38-e1703351900536.png
ORGANIZER;CN="Remstalgugga B%C3%A4benga e.V.":MAILTO:hallo@remstalgugga-baebenga.de
END:VEVENT
END:VCALENDAR