BEGIN:VCALENDAR
VERSION:2.0
PRODID:-//Gmender Fasnet e.V. - ECPv6.15.20//NONSGML v1.0//EN
CALSCALE:GREGORIAN
METHOD:PUBLISH
X-WR-CALNAME:Gmender Fasnet e.V.
X-ORIGINAL-URL:https://www.gmender-fasnet.de
X-WR-CALDESC:Veranstaltungen für Gmender Fasnet e.V.
REFRESH-INTERVAL;VALUE=DURATION:PT1H
X-Robots-Tag:noindex
X-PUBLISHED-TTL:PT1H
BEGIN:VTIMEZONE
TZID:Europe/Berlin
BEGIN:DAYLIGHT
TZOFFSETFROM:+0100
TZOFFSETTO:+0200
TZNAME:CEST
DTSTART:20230326T010000
END:DAYLIGHT
BEGIN:STANDARD
TZOFFSETFROM:+0200
TZOFFSETTO:+0100
TZNAME:CET
DTSTART:20231029T010000
END:STANDARD
BEGIN:DAYLIGHT
TZOFFSETFROM:+0100
TZOFFSETTO:+0200
TZNAME:CEST
DTSTART:20240331T010000
END:DAYLIGHT
BEGIN:STANDARD
TZOFFSETFROM:+0200
TZOFFSETTO:+0100
TZNAME:CET
DTSTART:20241027T010000
END:STANDARD
BEGIN:DAYLIGHT
TZOFFSETFROM:+0100
TZOFFSETTO:+0200
TZNAME:CEST
DTSTART:20250330T010000
END:DAYLIGHT
BEGIN:STANDARD
TZOFFSETFROM:+0200
TZOFFSETTO:+0100
TZNAME:CET
DTSTART:20251026T010000
END:STANDARD
END:VTIMEZONE
BEGIN:VEVENT
DTSTART;TZID=Europe/Berlin:20240718T190000
DTEND;TZID=Europe/Berlin:20240718T203000
DTSTAMP:20260424T222800
CREATED:20240423T195926Z
LAST-MODIFIED:20240423T201107Z
UID:10000090-1721329200-1721334600@www.gmender-fasnet.de
SUMMARY:Training Prinzengarde
DESCRIPTION:Abweichungen werden von den Trainerinnen bekanntgegeben.
URL:https://www.gmender-fasnet.de/event/training-prinzengarde/2024-07-18/
LOCATION:Schulzentrum Strümpfelbach – Emil-Molt-Saal\, Scheffoldstraße 136\, Schwäbisch Gmünd\, Baden-Württemberg\, 73529\, Deutschland
CATEGORIES:Prinzengarde
ATTACH;FMTTYPE=image/png:https://www.gmender-fasnet.de/wp-content/uploads/2023/08/Trainingswochenende-Prinzengarde.png
END:VEVENT
BEGIN:VEVENT
DTSTART;TZID=Europe/Berlin:20240717T190000
DTEND;TZID=Europe/Berlin:20240717T210000
DTSTAMP:20260424T222800
CREATED:20240423T200407Z
LAST-MODIFIED:20240423T200407Z
UID:10000601-1721242800-1721250000@www.gmender-fasnet.de
SUMMARY:Training Ranzengarde
DESCRIPTION:Änderungen werden von den Trainerinnen bekanntgegeben.
URL:https://www.gmender-fasnet.de/event/training-ranzengarde/2024-07-17/
LOCATION:Schulzentrum Strümpfelbach – Emil-Molt-Saal\, Scheffoldstraße 136\, Schwäbisch Gmünd\, Baden-Württemberg\, 73529\, Deutschland
CATEGORIES:Ranzengarde
ATTACH;FMTTYPE=image/jpeg:https://www.gmender-fasnet.de/wp-content/uploads/2024/04/427939676_704514288526840_8034190604257309771_n.jpg
END:VEVENT
BEGIN:VEVENT
DTSTART;TZID=Europe/Berlin:20240716T190000
DTEND;TZID=Europe/Berlin:20240716T203000
DTSTAMP:20260424T222800
CREATED:20240423T195926Z
LAST-MODIFIED:20240423T201107Z
UID:10000089-1721156400-1721161800@www.gmender-fasnet.de
SUMMARY:Training Prinzengarde
DESCRIPTION:Abweichungen werden von den Trainerinnen bekanntgegeben.
URL:https://www.gmender-fasnet.de/event/training-prinzengarde/2024-07-16/
LOCATION:Schulzentrum Strümpfelbach – Emil-Molt-Saal\, Scheffoldstraße 136\, Schwäbisch Gmünd\, Baden-Württemberg\, 73529\, Deutschland
CATEGORIES:Prinzengarde
ATTACH;FMTTYPE=image/png:https://www.gmender-fasnet.de/wp-content/uploads/2023/08/Trainingswochenende-Prinzengarde.png
END:VEVENT
BEGIN:VEVENT
DTSTART;TZID=Europe/Berlin:20240716T173000
DTEND;TZID=Europe/Berlin:20240716T190000
DTSTAMP:20260424T222800
CREATED:20240423T200949Z
LAST-MODIFIED:20240423T200949Z
UID:10000645-1721151000-1721156400@www.gmender-fasnet.de
SUMMARY:Training Gmünder Hüpfer
DESCRIPTION:Änderungen werden von den Trainerinnen bekanntgegeben.
URL:https://www.gmender-fasnet.de/event/training-gmuender-huepfer/2024-07-16/
LOCATION:Schulzentrum Strümpfelbach – Emil-Molt-Saal\, Scheffoldstraße 136\, Schwäbisch Gmünd\, Baden-Württemberg\, 73529\, Deutschland
CATEGORIES:Gmünder Hüpfer
ATTACH;FMTTYPE=image/png:https://www.gmender-fasnet.de/wp-content/uploads/2024/04/Huepfer20232024_gezeichnet_grau.png
END:VEVENT
BEGIN:VEVENT
DTSTART;TZID=Europe/Berlin:20240711T190000
DTEND;TZID=Europe/Berlin:20240711T203000
DTSTAMP:20260424T222800
CREATED:20240423T195926Z
LAST-MODIFIED:20240423T201107Z
UID:10000088-1720724400-1720729800@www.gmender-fasnet.de
SUMMARY:Training Prinzengarde
DESCRIPTION:Abweichungen werden von den Trainerinnen bekanntgegeben.
URL:https://www.gmender-fasnet.de/event/training-prinzengarde/2024-07-11/
LOCATION:Schulzentrum Strümpfelbach – Emil-Molt-Saal\, Scheffoldstraße 136\, Schwäbisch Gmünd\, Baden-Württemberg\, 73529\, Deutschland
CATEGORIES:Prinzengarde
ATTACH;FMTTYPE=image/png:https://www.gmender-fasnet.de/wp-content/uploads/2023/08/Trainingswochenende-Prinzengarde.png
END:VEVENT
BEGIN:VEVENT
DTSTART;TZID=Europe/Berlin:20240710T190000
DTEND;TZID=Europe/Berlin:20240710T210000
DTSTAMP:20260424T222800
CREATED:20240423T200407Z
LAST-MODIFIED:20240423T200407Z
UID:10000600-1720638000-1720645200@www.gmender-fasnet.de
SUMMARY:Training Ranzengarde
DESCRIPTION:Änderungen werden von den Trainerinnen bekanntgegeben.
URL:https://www.gmender-fasnet.de/event/training-ranzengarde/2024-07-10/
LOCATION:Schulzentrum Strümpfelbach – Emil-Molt-Saal\, Scheffoldstraße 136\, Schwäbisch Gmünd\, Baden-Württemberg\, 73529\, Deutschland
CATEGORIES:Ranzengarde
ATTACH;FMTTYPE=image/jpeg:https://www.gmender-fasnet.de/wp-content/uploads/2024/04/427939676_704514288526840_8034190604257309771_n.jpg
END:VEVENT
BEGIN:VEVENT
DTSTART;TZID=Europe/Berlin:20240709T190000
DTEND;TZID=Europe/Berlin:20240709T203000
DTSTAMP:20260424T222800
CREATED:20240423T195926Z
LAST-MODIFIED:20240423T201107Z
UID:10000087-1720551600-1720557000@www.gmender-fasnet.de
SUMMARY:Training Prinzengarde
DESCRIPTION:Abweichungen werden von den Trainerinnen bekanntgegeben.
URL:https://www.gmender-fasnet.de/event/training-prinzengarde/2024-07-09/
LOCATION:Schulzentrum Strümpfelbach – Emil-Molt-Saal\, Scheffoldstraße 136\, Schwäbisch Gmünd\, Baden-Württemberg\, 73529\, Deutschland
CATEGORIES:Prinzengarde
ATTACH;FMTTYPE=image/png:https://www.gmender-fasnet.de/wp-content/uploads/2023/08/Trainingswochenende-Prinzengarde.png
END:VEVENT
BEGIN:VEVENT
DTSTART;TZID=Europe/Berlin:20240709T173000
DTEND;TZID=Europe/Berlin:20240709T190000
DTSTAMP:20260424T222800
CREATED:20240423T200949Z
LAST-MODIFIED:20240423T200949Z
UID:10000644-1720546200-1720551600@www.gmender-fasnet.de
SUMMARY:Training Gmünder Hüpfer
DESCRIPTION:Änderungen werden von den Trainerinnen bekanntgegeben.
URL:https://www.gmender-fasnet.de/event/training-gmuender-huepfer/2024-07-09/
LOCATION:Schulzentrum Strümpfelbach – Emil-Molt-Saal\, Scheffoldstraße 136\, Schwäbisch Gmünd\, Baden-Württemberg\, 73529\, Deutschland
CATEGORIES:Gmünder Hüpfer
ATTACH;FMTTYPE=image/png:https://www.gmender-fasnet.de/wp-content/uploads/2024/04/Huepfer20232024_gezeichnet_grau.png
END:VEVENT
BEGIN:VEVENT
DTSTART;TZID=Europe/Berlin:20240704T190000
DTEND;TZID=Europe/Berlin:20240704T203000
DTSTAMP:20260424T222800
CREATED:20240423T195926Z
LAST-MODIFIED:20240423T201107Z
UID:10000086-1720119600-1720125000@www.gmender-fasnet.de
SUMMARY:Training Prinzengarde
DESCRIPTION:Abweichungen werden von den Trainerinnen bekanntgegeben.
URL:https://www.gmender-fasnet.de/event/training-prinzengarde/2024-07-04/
LOCATION:Schulzentrum Strümpfelbach – Emil-Molt-Saal\, Scheffoldstraße 136\, Schwäbisch Gmünd\, Baden-Württemberg\, 73529\, Deutschland
CATEGORIES:Prinzengarde
ATTACH;FMTTYPE=image/png:https://www.gmender-fasnet.de/wp-content/uploads/2023/08/Trainingswochenende-Prinzengarde.png
END:VEVENT
BEGIN:VEVENT
DTSTART;TZID=Europe/Berlin:20240703T190000
DTEND;TZID=Europe/Berlin:20240703T210000
DTSTAMP:20260424T222800
CREATED:20240423T200407Z
LAST-MODIFIED:20240423T200407Z
UID:10000599-1720033200-1720040400@www.gmender-fasnet.de
SUMMARY:Training Ranzengarde
DESCRIPTION:Änderungen werden von den Trainerinnen bekanntgegeben.
URL:https://www.gmender-fasnet.de/event/training-ranzengarde/2024-07-03/
LOCATION:Schulzentrum Strümpfelbach – Emil-Molt-Saal\, Scheffoldstraße 136\, Schwäbisch Gmünd\, Baden-Württemberg\, 73529\, Deutschland
CATEGORIES:Ranzengarde
ATTACH;FMTTYPE=image/jpeg:https://www.gmender-fasnet.de/wp-content/uploads/2024/04/427939676_704514288526840_8034190604257309771_n.jpg
END:VEVENT
BEGIN:VEVENT
DTSTART;TZID=Europe/Berlin:20240702T190000
DTEND;TZID=Europe/Berlin:20240702T203000
DTSTAMP:20260424T222800
CREATED:20240423T195926Z
LAST-MODIFIED:20240423T201107Z
UID:10000085-1719946800-1719952200@www.gmender-fasnet.de
SUMMARY:Training Prinzengarde
DESCRIPTION:Abweichungen werden von den Trainerinnen bekanntgegeben.
URL:https://www.gmender-fasnet.de/event/training-prinzengarde/2024-07-02/
LOCATION:Schulzentrum Strümpfelbach – Emil-Molt-Saal\, Scheffoldstraße 136\, Schwäbisch Gmünd\, Baden-Württemberg\, 73529\, Deutschland
CATEGORIES:Prinzengarde
ATTACH;FMTTYPE=image/png:https://www.gmender-fasnet.de/wp-content/uploads/2023/08/Trainingswochenende-Prinzengarde.png
END:VEVENT
BEGIN:VEVENT
DTSTART;TZID=Europe/Berlin:20240702T173000
DTEND;TZID=Europe/Berlin:20240702T190000
DTSTAMP:20260424T222800
CREATED:20240423T200949Z
LAST-MODIFIED:20240423T200949Z
UID:10000643-1719941400-1719946800@www.gmender-fasnet.de
SUMMARY:Training Gmünder Hüpfer
DESCRIPTION:Änderungen werden von den Trainerinnen bekanntgegeben.
URL:https://www.gmender-fasnet.de/event/training-gmuender-huepfer/2024-07-02/
LOCATION:Schulzentrum Strümpfelbach – Emil-Molt-Saal\, Scheffoldstraße 136\, Schwäbisch Gmünd\, Baden-Württemberg\, 73529\, Deutschland
CATEGORIES:Gmünder Hüpfer
ATTACH;FMTTYPE=image/png:https://www.gmender-fasnet.de/wp-content/uploads/2024/04/Huepfer20232024_gezeichnet_grau.png
END:VEVENT
BEGIN:VEVENT
DTSTART;TZID=Europe/Berlin:20240627T190000
DTEND;TZID=Europe/Berlin:20240627T203000
DTSTAMP:20260424T222800
CREATED:20240423T195926Z
LAST-MODIFIED:20240423T201107Z
UID:10000084-1719514800-1719520200@www.gmender-fasnet.de
SUMMARY:Training Prinzengarde
DESCRIPTION:Abweichungen werden von den Trainerinnen bekanntgegeben.
URL:https://www.gmender-fasnet.de/event/training-prinzengarde/2024-06-27/
LOCATION:Schulzentrum Strümpfelbach – Emil-Molt-Saal\, Scheffoldstraße 136\, Schwäbisch Gmünd\, Baden-Württemberg\, 73529\, Deutschland
CATEGORIES:Prinzengarde
ATTACH;FMTTYPE=image/png:https://www.gmender-fasnet.de/wp-content/uploads/2023/08/Trainingswochenende-Prinzengarde.png
END:VEVENT
BEGIN:VEVENT
DTSTART;TZID=Europe/Berlin:20240626T190000
DTEND;TZID=Europe/Berlin:20240626T210000
DTSTAMP:20260424T222800
CREATED:20240423T200407Z
LAST-MODIFIED:20240423T200407Z
UID:10000598-1719428400-1719435600@www.gmender-fasnet.de
SUMMARY:Training Ranzengarde
DESCRIPTION:Änderungen werden von den Trainerinnen bekanntgegeben.
URL:https://www.gmender-fasnet.de/event/training-ranzengarde/2024-06-26/
LOCATION:Schulzentrum Strümpfelbach – Emil-Molt-Saal\, Scheffoldstraße 136\, Schwäbisch Gmünd\, Baden-Württemberg\, 73529\, Deutschland
CATEGORIES:Ranzengarde
ATTACH;FMTTYPE=image/jpeg:https://www.gmender-fasnet.de/wp-content/uploads/2024/04/427939676_704514288526840_8034190604257309771_n.jpg
END:VEVENT
BEGIN:VEVENT
DTSTART;TZID=Europe/Berlin:20240625T190000
DTEND;TZID=Europe/Berlin:20240625T203000
DTSTAMP:20260424T222800
CREATED:20240423T195926Z
LAST-MODIFIED:20240423T201107Z
UID:10000083-1719342000-1719347400@www.gmender-fasnet.de
SUMMARY:Training Prinzengarde
DESCRIPTION:Abweichungen werden von den Trainerinnen bekanntgegeben.
URL:https://www.gmender-fasnet.de/event/training-prinzengarde/2024-06-25/
LOCATION:Schulzentrum Strümpfelbach – Emil-Molt-Saal\, Scheffoldstraße 136\, Schwäbisch Gmünd\, Baden-Württemberg\, 73529\, Deutschland
CATEGORIES:Prinzengarde
ATTACH;FMTTYPE=image/png:https://www.gmender-fasnet.de/wp-content/uploads/2023/08/Trainingswochenende-Prinzengarde.png
END:VEVENT
BEGIN:VEVENT
DTSTART;TZID=Europe/Berlin:20240625T173000
DTEND;TZID=Europe/Berlin:20240625T190000
DTSTAMP:20260424T222800
CREATED:20240423T200949Z
LAST-MODIFIED:20240423T200949Z
UID:10000642-1719336600-1719342000@www.gmender-fasnet.de
SUMMARY:Training Gmünder Hüpfer
DESCRIPTION:Änderungen werden von den Trainerinnen bekanntgegeben.
URL:https://www.gmender-fasnet.de/event/training-gmuender-huepfer/2024-06-25/
LOCATION:Schulzentrum Strümpfelbach – Emil-Molt-Saal\, Scheffoldstraße 136\, Schwäbisch Gmünd\, Baden-Württemberg\, 73529\, Deutschland
CATEGORIES:Gmünder Hüpfer
ATTACH;FMTTYPE=image/png:https://www.gmender-fasnet.de/wp-content/uploads/2024/04/Huepfer20232024_gezeichnet_grau.png
END:VEVENT
BEGIN:VEVENT
DTSTART;TZID=Europe/Berlin:20240620T190000
DTEND;TZID=Europe/Berlin:20240620T203000
DTSTAMP:20260424T222800
CREATED:20240423T195926Z
LAST-MODIFIED:20240423T201107Z
UID:10000082-1718910000-1718915400@www.gmender-fasnet.de
SUMMARY:Training Prinzengarde
DESCRIPTION:Abweichungen werden von den Trainerinnen bekanntgegeben.
URL:https://www.gmender-fasnet.de/event/training-prinzengarde/2024-06-20/
LOCATION:Schulzentrum Strümpfelbach – Emil-Molt-Saal\, Scheffoldstraße 136\, Schwäbisch Gmünd\, Baden-Württemberg\, 73529\, Deutschland
CATEGORIES:Prinzengarde
ATTACH;FMTTYPE=image/png:https://www.gmender-fasnet.de/wp-content/uploads/2023/08/Trainingswochenende-Prinzengarde.png
END:VEVENT
BEGIN:VEVENT
DTSTART;TZID=Europe/Berlin:20240619T190000
DTEND;TZID=Europe/Berlin:20240619T210000
DTSTAMP:20260424T222800
CREATED:20240423T200407Z
LAST-MODIFIED:20240423T200407Z
UID:10000597-1718823600-1718830800@www.gmender-fasnet.de
SUMMARY:Training Ranzengarde
DESCRIPTION:Änderungen werden von den Trainerinnen bekanntgegeben.
URL:https://www.gmender-fasnet.de/event/training-ranzengarde/2024-06-19/
LOCATION:Schulzentrum Strümpfelbach – Emil-Molt-Saal\, Scheffoldstraße 136\, Schwäbisch Gmünd\, Baden-Württemberg\, 73529\, Deutschland
CATEGORIES:Ranzengarde
ATTACH;FMTTYPE=image/jpeg:https://www.gmender-fasnet.de/wp-content/uploads/2024/04/427939676_704514288526840_8034190604257309771_n.jpg
END:VEVENT
BEGIN:VEVENT
DTSTART;TZID=Europe/Berlin:20240618T190000
DTEND;TZID=Europe/Berlin:20240618T203000
DTSTAMP:20260424T222800
CREATED:20240423T195926Z
LAST-MODIFIED:20240423T201107Z
UID:10000081-1718737200-1718742600@www.gmender-fasnet.de
SUMMARY:Training Prinzengarde
DESCRIPTION:Abweichungen werden von den Trainerinnen bekanntgegeben.
URL:https://www.gmender-fasnet.de/event/training-prinzengarde/2024-06-18/
LOCATION:Schulzentrum Strümpfelbach – Emil-Molt-Saal\, Scheffoldstraße 136\, Schwäbisch Gmünd\, Baden-Württemberg\, 73529\, Deutschland
CATEGORIES:Prinzengarde
ATTACH;FMTTYPE=image/png:https://www.gmender-fasnet.de/wp-content/uploads/2023/08/Trainingswochenende-Prinzengarde.png
END:VEVENT
BEGIN:VEVENT
DTSTART;TZID=Europe/Berlin:20240618T173000
DTEND;TZID=Europe/Berlin:20240618T190000
DTSTAMP:20260424T222800
CREATED:20240423T200949Z
LAST-MODIFIED:20240423T200949Z
UID:10000641-1718731800-1718737200@www.gmender-fasnet.de
SUMMARY:Training Gmünder Hüpfer
DESCRIPTION:Änderungen werden von den Trainerinnen bekanntgegeben.
URL:https://www.gmender-fasnet.de/event/training-gmuender-huepfer/2024-06-18/
LOCATION:Schulzentrum Strümpfelbach – Emil-Molt-Saal\, Scheffoldstraße 136\, Schwäbisch Gmünd\, Baden-Württemberg\, 73529\, Deutschland
CATEGORIES:Gmünder Hüpfer
ATTACH;FMTTYPE=image/png:https://www.gmender-fasnet.de/wp-content/uploads/2024/04/Huepfer20232024_gezeichnet_grau.png
END:VEVENT
BEGIN:VEVENT
DTSTART;TZID=Europe/Berlin:20240613T190000
DTEND;TZID=Europe/Berlin:20240613T203000
DTSTAMP:20260424T222800
CREATED:20240423T195926Z
LAST-MODIFIED:20240423T201107Z
UID:10000080-1718305200-1718310600@www.gmender-fasnet.de
SUMMARY:Training Prinzengarde
DESCRIPTION:Abweichungen werden von den Trainerinnen bekanntgegeben.
URL:https://www.gmender-fasnet.de/event/training-prinzengarde/2024-06-13/
LOCATION:Schulzentrum Strümpfelbach – Emil-Molt-Saal\, Scheffoldstraße 136\, Schwäbisch Gmünd\, Baden-Württemberg\, 73529\, Deutschland
CATEGORIES:Prinzengarde
ATTACH;FMTTYPE=image/png:https://www.gmender-fasnet.de/wp-content/uploads/2023/08/Trainingswochenende-Prinzengarde.png
END:VEVENT
BEGIN:VEVENT
DTSTART;TZID=Europe/Berlin:20240612T190000
DTEND;TZID=Europe/Berlin:20240612T210000
DTSTAMP:20260424T222800
CREATED:20240423T200407Z
LAST-MODIFIED:20240423T200407Z
UID:10000596-1718218800-1718226000@www.gmender-fasnet.de
SUMMARY:Training Ranzengarde
DESCRIPTION:Änderungen werden von den Trainerinnen bekanntgegeben.
URL:https://www.gmender-fasnet.de/event/training-ranzengarde/2024-06-12/
LOCATION:Schulzentrum Strümpfelbach – Emil-Molt-Saal\, Scheffoldstraße 136\, Schwäbisch Gmünd\, Baden-Württemberg\, 73529\, Deutschland
CATEGORIES:Ranzengarde
ATTACH;FMTTYPE=image/jpeg:https://www.gmender-fasnet.de/wp-content/uploads/2024/04/427939676_704514288526840_8034190604257309771_n.jpg
END:VEVENT
BEGIN:VEVENT
DTSTART;TZID=Europe/Berlin:20240611T190000
DTEND;TZID=Europe/Berlin:20240611T203000
DTSTAMP:20260424T222800
CREATED:20240423T195926Z
LAST-MODIFIED:20240423T201107Z
UID:10000079-1718132400-1718137800@www.gmender-fasnet.de
SUMMARY:Training Prinzengarde
DESCRIPTION:Abweichungen werden von den Trainerinnen bekanntgegeben.
URL:https://www.gmender-fasnet.de/event/training-prinzengarde/2024-06-11/
LOCATION:Schulzentrum Strümpfelbach – Emil-Molt-Saal\, Scheffoldstraße 136\, Schwäbisch Gmünd\, Baden-Württemberg\, 73529\, Deutschland
CATEGORIES:Prinzengarde
ATTACH;FMTTYPE=image/png:https://www.gmender-fasnet.de/wp-content/uploads/2023/08/Trainingswochenende-Prinzengarde.png
END:VEVENT
BEGIN:VEVENT
DTSTART;TZID=Europe/Berlin:20240611T173000
DTEND;TZID=Europe/Berlin:20240611T190000
DTSTAMP:20260424T222800
CREATED:20240423T200949Z
LAST-MODIFIED:20240423T200949Z
UID:10000640-1718127000-1718132400@www.gmender-fasnet.de
SUMMARY:Training Gmünder Hüpfer
DESCRIPTION:Änderungen werden von den Trainerinnen bekanntgegeben.
URL:https://www.gmender-fasnet.de/event/training-gmuender-huepfer/2024-06-11/
LOCATION:Schulzentrum Strümpfelbach – Emil-Molt-Saal\, Scheffoldstraße 136\, Schwäbisch Gmünd\, Baden-Württemberg\, 73529\, Deutschland
CATEGORIES:Gmünder Hüpfer
ATTACH;FMTTYPE=image/png:https://www.gmender-fasnet.de/wp-content/uploads/2024/04/Huepfer20232024_gezeichnet_grau.png
END:VEVENT
BEGIN:VEVENT
DTSTART;TZID=Europe/Berlin:20240606T190000
DTEND;TZID=Europe/Berlin:20240606T203000
DTSTAMP:20260424T222800
CREATED:20240423T195926Z
LAST-MODIFIED:20240423T201107Z
UID:10000078-1717700400-1717705800@www.gmender-fasnet.de
SUMMARY:Training Prinzengarde
DESCRIPTION:Abweichungen werden von den Trainerinnen bekanntgegeben.
URL:https://www.gmender-fasnet.de/event/training-prinzengarde/2024-06-06/
LOCATION:Schulzentrum Strümpfelbach – Emil-Molt-Saal\, Scheffoldstraße 136\, Schwäbisch Gmünd\, Baden-Württemberg\, 73529\, Deutschland
CATEGORIES:Prinzengarde
ATTACH;FMTTYPE=image/png:https://www.gmender-fasnet.de/wp-content/uploads/2023/08/Trainingswochenende-Prinzengarde.png
END:VEVENT
BEGIN:VEVENT
DTSTART;TZID=Europe/Berlin:20240605T190000
DTEND;TZID=Europe/Berlin:20240605T210000
DTSTAMP:20260424T222800
CREATED:20240423T200407Z
LAST-MODIFIED:20240423T200407Z
UID:10000595-1717614000-1717621200@www.gmender-fasnet.de
SUMMARY:Training Ranzengarde
DESCRIPTION:Änderungen werden von den Trainerinnen bekanntgegeben.
URL:https://www.gmender-fasnet.de/event/training-ranzengarde/2024-06-05/
LOCATION:Schulzentrum Strümpfelbach – Emil-Molt-Saal\, Scheffoldstraße 136\, Schwäbisch Gmünd\, Baden-Württemberg\, 73529\, Deutschland
CATEGORIES:Ranzengarde
ATTACH;FMTTYPE=image/jpeg:https://www.gmender-fasnet.de/wp-content/uploads/2024/04/427939676_704514288526840_8034190604257309771_n.jpg
END:VEVENT
BEGIN:VEVENT
DTSTART;TZID=Europe/Berlin:20240604T190000
DTEND;TZID=Europe/Berlin:20240604T203000
DTSTAMP:20260424T222800
CREATED:20240423T195926Z
LAST-MODIFIED:20240423T201107Z
UID:10000077-1717527600-1717533000@www.gmender-fasnet.de
SUMMARY:Training Prinzengarde
DESCRIPTION:Abweichungen werden von den Trainerinnen bekanntgegeben.
URL:https://www.gmender-fasnet.de/event/training-prinzengarde/2024-06-04/
LOCATION:Schulzentrum Strümpfelbach – Emil-Molt-Saal\, Scheffoldstraße 136\, Schwäbisch Gmünd\, Baden-Württemberg\, 73529\, Deutschland
CATEGORIES:Prinzengarde
ATTACH;FMTTYPE=image/png:https://www.gmender-fasnet.de/wp-content/uploads/2023/08/Trainingswochenende-Prinzengarde.png
END:VEVENT
BEGIN:VEVENT
DTSTART;TZID=Europe/Berlin:20240604T173000
DTEND;TZID=Europe/Berlin:20240604T190000
DTSTAMP:20260424T222800
CREATED:20240423T200949Z
LAST-MODIFIED:20240423T200949Z
UID:10000639-1717522200-1717527600@www.gmender-fasnet.de
SUMMARY:Training Gmünder Hüpfer
DESCRIPTION:Änderungen werden von den Trainerinnen bekanntgegeben.
URL:https://www.gmender-fasnet.de/event/training-gmuender-huepfer/2024-06-04/
LOCATION:Schulzentrum Strümpfelbach – Emil-Molt-Saal\, Scheffoldstraße 136\, Schwäbisch Gmünd\, Baden-Württemberg\, 73529\, Deutschland
CATEGORIES:Gmünder Hüpfer
ATTACH;FMTTYPE=image/png:https://www.gmender-fasnet.de/wp-content/uploads/2024/04/Huepfer20232024_gezeichnet_grau.png
END:VEVENT
BEGIN:VEVENT
DTSTART;TZID=Europe/Berlin:20240530T190000
DTEND;TZID=Europe/Berlin:20240530T203000
DTSTAMP:20260424T222800
CREATED:20240423T195926Z
LAST-MODIFIED:20240423T201107Z
UID:10000076-1717095600-1717101000@www.gmender-fasnet.de
SUMMARY:Training Prinzengarde
DESCRIPTION:Abweichungen werden von den Trainerinnen bekanntgegeben.
URL:https://www.gmender-fasnet.de/event/training-prinzengarde/2024-05-30/
LOCATION:Schulzentrum Strümpfelbach – Emil-Molt-Saal\, Scheffoldstraße 136\, Schwäbisch Gmünd\, Baden-Württemberg\, 73529\, Deutschland
CATEGORIES:Prinzengarde
ATTACH;FMTTYPE=image/png:https://www.gmender-fasnet.de/wp-content/uploads/2023/08/Trainingswochenende-Prinzengarde.png
END:VEVENT
BEGIN:VEVENT
DTSTART;TZID=Europe/Berlin:20240529T190000
DTEND;TZID=Europe/Berlin:20240529T210000
DTSTAMP:20260424T222800
CREATED:20240423T200407Z
LAST-MODIFIED:20240423T200407Z
UID:10000594-1717009200-1717016400@www.gmender-fasnet.de
SUMMARY:Training Ranzengarde
DESCRIPTION:Änderungen werden von den Trainerinnen bekanntgegeben.
URL:https://www.gmender-fasnet.de/event/training-ranzengarde/2024-05-29/
LOCATION:Schulzentrum Strümpfelbach – Emil-Molt-Saal\, Scheffoldstraße 136\, Schwäbisch Gmünd\, Baden-Württemberg\, 73529\, Deutschland
CATEGORIES:Ranzengarde
ATTACH;FMTTYPE=image/jpeg:https://www.gmender-fasnet.de/wp-content/uploads/2024/04/427939676_704514288526840_8034190604257309771_n.jpg
END:VEVENT
END:VCALENDAR