BEGIN:VCALENDAR
VERSION:2.0
PRODID:-//Gmender Fasnet e.V. - ECPv6.15.20//NONSGML v1.0//EN
CALSCALE:GREGORIAN
METHOD:PUBLISH
X-ORIGINAL-URL:https://www.gmender-fasnet.de
X-WR-CALDESC:Veranstaltungen für Gmender Fasnet e.V.
REFRESH-INTERVAL;VALUE=DURATION:PT1H
X-Robots-Tag:noindex
X-PUBLISHED-TTL:PT1H
BEGIN:VTIMEZONE
TZID:Europe/Berlin
BEGIN:DAYLIGHT
TZOFFSETFROM:+0100
TZOFFSETTO:+0200
TZNAME:CEST
DTSTART:20230326T010000
END:DAYLIGHT
BEGIN:STANDARD
TZOFFSETFROM:+0200
TZOFFSETTO:+0100
TZNAME:CET
DTSTART:20231029T010000
END:STANDARD
BEGIN:DAYLIGHT
TZOFFSETFROM:+0100
TZOFFSETTO:+0200
TZNAME:CEST
DTSTART:20240331T010000
END:DAYLIGHT
BEGIN:STANDARD
TZOFFSETFROM:+0200
TZOFFSETTO:+0100
TZNAME:CET
DTSTART:20241027T010000
END:STANDARD
BEGIN:DAYLIGHT
TZOFFSETFROM:+0100
TZOFFSETTO:+0200
TZNAME:CEST
DTSTART:20250330T010000
END:DAYLIGHT
BEGIN:STANDARD
TZOFFSETFROM:+0200
TZOFFSETTO:+0100
TZNAME:CET
DTSTART:20251026T010000
END:STANDARD
END:VTIMEZONE
BEGIN:VEVENT
DTSTART;TZID=Europe/Berlin:20241031T190000
DTEND;TZID=Europe/Berlin:20241031T203000
DTSTAMP:20260424T150150
CREATED:20240423T195926Z
LAST-MODIFIED:20240423T201107Z
UID:10000120-1730401200-1730406600@www.gmender-fasnet.de
SUMMARY:Training Prinzengarde
DESCRIPTION:Abweichungen werden von den Trainerinnen bekanntgegeben.
URL:https://www.gmender-fasnet.de/event/training-prinzengarde/2024-10-31/
LOCATION:Schulzentrum Strümpfelbach – Emil-Molt-Saal\, Scheffoldstraße 136\, Schwäbisch Gmünd\, Baden-Württemberg\, 73529\, Deutschland
CATEGORIES:Prinzengarde
ATTACH;FMTTYPE=image/png:https://www.gmender-fasnet.de/wp-content/uploads/2023/08/Trainingswochenende-Prinzengarde.png
END:VEVENT
BEGIN:VEVENT
DTSTART;TZID=Europe/Berlin:20241030T190000
DTEND;TZID=Europe/Berlin:20241030T210000
DTSTAMP:20260424T150150
CREATED:20240423T200407Z
LAST-MODIFIED:20240423T200407Z
UID:10000616-1730314800-1730322000@www.gmender-fasnet.de
SUMMARY:Training Ranzengarde
DESCRIPTION:Änderungen werden von den Trainerinnen bekanntgegeben.
URL:https://www.gmender-fasnet.de/event/training-ranzengarde/2024-10-30/
LOCATION:Schulzentrum Strümpfelbach – Emil-Molt-Saal\, Scheffoldstraße 136\, Schwäbisch Gmünd\, Baden-Württemberg\, 73529\, Deutschland
CATEGORIES:Ranzengarde
ATTACH;FMTTYPE=image/jpeg:https://www.gmender-fasnet.de/wp-content/uploads/2024/04/427939676_704514288526840_8034190604257309771_n.jpg
END:VEVENT
BEGIN:VEVENT
DTSTART;TZID=Europe/Berlin:20241029T190000
DTEND;TZID=Europe/Berlin:20241029T203000
DTSTAMP:20260424T150150
CREATED:20240423T195926Z
LAST-MODIFIED:20240423T201107Z
UID:10000119-1730228400-1730233800@www.gmender-fasnet.de
SUMMARY:Training Prinzengarde
DESCRIPTION:Abweichungen werden von den Trainerinnen bekanntgegeben.
URL:https://www.gmender-fasnet.de/event/training-prinzengarde/2024-10-29/
LOCATION:Schulzentrum Strümpfelbach – Emil-Molt-Saal\, Scheffoldstraße 136\, Schwäbisch Gmünd\, Baden-Württemberg\, 73529\, Deutschland
CATEGORIES:Prinzengarde
ATTACH;FMTTYPE=image/png:https://www.gmender-fasnet.de/wp-content/uploads/2023/08/Trainingswochenende-Prinzengarde.png
END:VEVENT
BEGIN:VEVENT
DTSTART;TZID=Europe/Berlin:20241029T173000
DTEND;TZID=Europe/Berlin:20241029T190000
DTSTAMP:20260424T150150
CREATED:20240423T200949Z
LAST-MODIFIED:20240423T200949Z
UID:10000660-1730223000-1730228400@www.gmender-fasnet.de
SUMMARY:Training Gmünder Hüpfer
DESCRIPTION:Änderungen werden von den Trainerinnen bekanntgegeben.
URL:https://www.gmender-fasnet.de/event/training-gmuender-huepfer/2024-10-29/
LOCATION:Schulzentrum Strümpfelbach – Emil-Molt-Saal\, Scheffoldstraße 136\, Schwäbisch Gmünd\, Baden-Württemberg\, 73529\, Deutschland
CATEGORIES:Gmünder Hüpfer
ATTACH;FMTTYPE=image/png:https://www.gmender-fasnet.de/wp-content/uploads/2024/04/Huepfer20232024_gezeichnet_grau.png
END:VEVENT
BEGIN:VEVENT
DTSTART;TZID=Europe/Berlin:20241024T190000
DTEND;TZID=Europe/Berlin:20241024T203000
DTSTAMP:20260424T150150
CREATED:20240423T195926Z
LAST-MODIFIED:20240423T201107Z
UID:10000118-1729796400-1729801800@www.gmender-fasnet.de
SUMMARY:Training Prinzengarde
DESCRIPTION:Abweichungen werden von den Trainerinnen bekanntgegeben.
URL:https://www.gmender-fasnet.de/event/training-prinzengarde/2024-10-24/
LOCATION:Schulzentrum Strümpfelbach – Emil-Molt-Saal\, Scheffoldstraße 136\, Schwäbisch Gmünd\, Baden-Württemberg\, 73529\, Deutschland
CATEGORIES:Prinzengarde
ATTACH;FMTTYPE=image/png:https://www.gmender-fasnet.de/wp-content/uploads/2023/08/Trainingswochenende-Prinzengarde.png
END:VEVENT
BEGIN:VEVENT
DTSTART;TZID=Europe/Berlin:20241023T190000
DTEND;TZID=Europe/Berlin:20241023T210000
DTSTAMP:20260424T150150
CREATED:20240423T200407Z
LAST-MODIFIED:20240423T200407Z
UID:10000615-1729710000-1729717200@www.gmender-fasnet.de
SUMMARY:Training Ranzengarde
DESCRIPTION:Änderungen werden von den Trainerinnen bekanntgegeben.
URL:https://www.gmender-fasnet.de/event/training-ranzengarde/2024-10-23/
LOCATION:Schulzentrum Strümpfelbach – Emil-Molt-Saal\, Scheffoldstraße 136\, Schwäbisch Gmünd\, Baden-Württemberg\, 73529\, Deutschland
CATEGORIES:Ranzengarde
ATTACH;FMTTYPE=image/jpeg:https://www.gmender-fasnet.de/wp-content/uploads/2024/04/427939676_704514288526840_8034190604257309771_n.jpg
END:VEVENT
BEGIN:VEVENT
DTSTART;TZID=Europe/Berlin:20241022T190000
DTEND;TZID=Europe/Berlin:20241022T203000
DTSTAMP:20260424T150150
CREATED:20240423T195926Z
LAST-MODIFIED:20240423T201107Z
UID:10000117-1729623600-1729629000@www.gmender-fasnet.de
SUMMARY:Training Prinzengarde
DESCRIPTION:Abweichungen werden von den Trainerinnen bekanntgegeben.
URL:https://www.gmender-fasnet.de/event/training-prinzengarde/2024-10-22/
LOCATION:Schulzentrum Strümpfelbach – Emil-Molt-Saal\, Scheffoldstraße 136\, Schwäbisch Gmünd\, Baden-Württemberg\, 73529\, Deutschland
CATEGORIES:Prinzengarde
ATTACH;FMTTYPE=image/png:https://www.gmender-fasnet.de/wp-content/uploads/2023/08/Trainingswochenende-Prinzengarde.png
END:VEVENT
BEGIN:VEVENT
DTSTART;TZID=Europe/Berlin:20241022T173000
DTEND;TZID=Europe/Berlin:20241022T190000
DTSTAMP:20260424T150150
CREATED:20240423T200949Z
LAST-MODIFIED:20240423T200949Z
UID:10000659-1729618200-1729623600@www.gmender-fasnet.de
SUMMARY:Training Gmünder Hüpfer
DESCRIPTION:Änderungen werden von den Trainerinnen bekanntgegeben.
URL:https://www.gmender-fasnet.de/event/training-gmuender-huepfer/2024-10-22/
LOCATION:Schulzentrum Strümpfelbach – Emil-Molt-Saal\, Scheffoldstraße 136\, Schwäbisch Gmünd\, Baden-Württemberg\, 73529\, Deutschland
CATEGORIES:Gmünder Hüpfer
ATTACH;FMTTYPE=image/png:https://www.gmender-fasnet.de/wp-content/uploads/2024/04/Huepfer20232024_gezeichnet_grau.png
END:VEVENT
BEGIN:VEVENT
DTSTART;TZID=Europe/Berlin:20241017T190000
DTEND;TZID=Europe/Berlin:20241017T203000
DTSTAMP:20260424T150150
CREATED:20240423T195926Z
LAST-MODIFIED:20240423T201107Z
UID:10000116-1729191600-1729197000@www.gmender-fasnet.de
SUMMARY:Training Prinzengarde
DESCRIPTION:Abweichungen werden von den Trainerinnen bekanntgegeben.
URL:https://www.gmender-fasnet.de/event/training-prinzengarde/2024-10-17/
LOCATION:Schulzentrum Strümpfelbach – Emil-Molt-Saal\, Scheffoldstraße 136\, Schwäbisch Gmünd\, Baden-Württemberg\, 73529\, Deutschland
CATEGORIES:Prinzengarde
ATTACH;FMTTYPE=image/png:https://www.gmender-fasnet.de/wp-content/uploads/2023/08/Trainingswochenende-Prinzengarde.png
END:VEVENT
BEGIN:VEVENT
DTSTART;TZID=Europe/Berlin:20241016T190000
DTEND;TZID=Europe/Berlin:20241016T210000
DTSTAMP:20260424T150150
CREATED:20240423T200407Z
LAST-MODIFIED:20240423T200407Z
UID:10000614-1729105200-1729112400@www.gmender-fasnet.de
SUMMARY:Training Ranzengarde
DESCRIPTION:Änderungen werden von den Trainerinnen bekanntgegeben.
URL:https://www.gmender-fasnet.de/event/training-ranzengarde/2024-10-16/
LOCATION:Schulzentrum Strümpfelbach – Emil-Molt-Saal\, Scheffoldstraße 136\, Schwäbisch Gmünd\, Baden-Württemberg\, 73529\, Deutschland
CATEGORIES:Ranzengarde
ATTACH;FMTTYPE=image/jpeg:https://www.gmender-fasnet.de/wp-content/uploads/2024/04/427939676_704514288526840_8034190604257309771_n.jpg
END:VEVENT
BEGIN:VEVENT
DTSTART;TZID=Europe/Berlin:20241015T190000
DTEND;TZID=Europe/Berlin:20241015T203000
DTSTAMP:20260424T150150
CREATED:20240423T195926Z
LAST-MODIFIED:20240423T201107Z
UID:10000115-1729018800-1729024200@www.gmender-fasnet.de
SUMMARY:Training Prinzengarde
DESCRIPTION:Abweichungen werden von den Trainerinnen bekanntgegeben.
URL:https://www.gmender-fasnet.de/event/training-prinzengarde/2024-10-15/
LOCATION:Schulzentrum Strümpfelbach – Emil-Molt-Saal\, Scheffoldstraße 136\, Schwäbisch Gmünd\, Baden-Württemberg\, 73529\, Deutschland
CATEGORIES:Prinzengarde
ATTACH;FMTTYPE=image/png:https://www.gmender-fasnet.de/wp-content/uploads/2023/08/Trainingswochenende-Prinzengarde.png
END:VEVENT
BEGIN:VEVENT
DTSTART;TZID=Europe/Berlin:20241015T173000
DTEND;TZID=Europe/Berlin:20241015T190000
DTSTAMP:20260424T150150
CREATED:20240423T200949Z
LAST-MODIFIED:20240423T200949Z
UID:10000658-1729013400-1729018800@www.gmender-fasnet.de
SUMMARY:Training Gmünder Hüpfer
DESCRIPTION:Änderungen werden von den Trainerinnen bekanntgegeben.
URL:https://www.gmender-fasnet.de/event/training-gmuender-huepfer/2024-10-15/
LOCATION:Schulzentrum Strümpfelbach – Emil-Molt-Saal\, Scheffoldstraße 136\, Schwäbisch Gmünd\, Baden-Württemberg\, 73529\, Deutschland
CATEGORIES:Gmünder Hüpfer
ATTACH;FMTTYPE=image/png:https://www.gmender-fasnet.de/wp-content/uploads/2024/04/Huepfer20232024_gezeichnet_grau.png
END:VEVENT
BEGIN:VEVENT
DTSTART;TZID=Europe/Berlin:20241010T190000
DTEND;TZID=Europe/Berlin:20241010T203000
DTSTAMP:20260424T150150
CREATED:20240423T195926Z
LAST-MODIFIED:20240423T201107Z
UID:10000114-1728586800-1728592200@www.gmender-fasnet.de
SUMMARY:Training Prinzengarde
DESCRIPTION:Abweichungen werden von den Trainerinnen bekanntgegeben.
URL:https://www.gmender-fasnet.de/event/training-prinzengarde/2024-10-10/
LOCATION:Schulzentrum Strümpfelbach – Emil-Molt-Saal\, Scheffoldstraße 136\, Schwäbisch Gmünd\, Baden-Württemberg\, 73529\, Deutschland
CATEGORIES:Prinzengarde
ATTACH;FMTTYPE=image/png:https://www.gmender-fasnet.de/wp-content/uploads/2023/08/Trainingswochenende-Prinzengarde.png
END:VEVENT
BEGIN:VEVENT
DTSTART;TZID=Europe/Berlin:20241009T190000
DTEND;TZID=Europe/Berlin:20241009T210000
DTSTAMP:20260424T150150
CREATED:20240423T200407Z
LAST-MODIFIED:20240423T200407Z
UID:10000613-1728500400-1728507600@www.gmender-fasnet.de
SUMMARY:Training Ranzengarde
DESCRIPTION:Änderungen werden von den Trainerinnen bekanntgegeben.
URL:https://www.gmender-fasnet.de/event/training-ranzengarde/2024-10-09/
LOCATION:Schulzentrum Strümpfelbach – Emil-Molt-Saal\, Scheffoldstraße 136\, Schwäbisch Gmünd\, Baden-Württemberg\, 73529\, Deutschland
CATEGORIES:Ranzengarde
ATTACH;FMTTYPE=image/jpeg:https://www.gmender-fasnet.de/wp-content/uploads/2024/04/427939676_704514288526840_8034190604257309771_n.jpg
END:VEVENT
BEGIN:VEVENT
DTSTART;TZID=Europe/Berlin:20241008T190000
DTEND;TZID=Europe/Berlin:20241008T203000
DTSTAMP:20260424T150150
CREATED:20240423T195926Z
LAST-MODIFIED:20240423T201107Z
UID:10000113-1728414000-1728419400@www.gmender-fasnet.de
SUMMARY:Training Prinzengarde
DESCRIPTION:Abweichungen werden von den Trainerinnen bekanntgegeben.
URL:https://www.gmender-fasnet.de/event/training-prinzengarde/2024-10-08/
LOCATION:Schulzentrum Strümpfelbach – Emil-Molt-Saal\, Scheffoldstraße 136\, Schwäbisch Gmünd\, Baden-Württemberg\, 73529\, Deutschland
CATEGORIES:Prinzengarde
ATTACH;FMTTYPE=image/png:https://www.gmender-fasnet.de/wp-content/uploads/2023/08/Trainingswochenende-Prinzengarde.png
END:VEVENT
BEGIN:VEVENT
DTSTART;TZID=Europe/Berlin:20241008T173000
DTEND;TZID=Europe/Berlin:20241008T190000
DTSTAMP:20260424T150150
CREATED:20240423T200949Z
LAST-MODIFIED:20240423T200949Z
UID:10000657-1728408600-1728414000@www.gmender-fasnet.de
SUMMARY:Training Gmünder Hüpfer
DESCRIPTION:Änderungen werden von den Trainerinnen bekanntgegeben.
URL:https://www.gmender-fasnet.de/event/training-gmuender-huepfer/2024-10-08/
LOCATION:Schulzentrum Strümpfelbach – Emil-Molt-Saal\, Scheffoldstraße 136\, Schwäbisch Gmünd\, Baden-Württemberg\, 73529\, Deutschland
CATEGORIES:Gmünder Hüpfer
ATTACH;FMTTYPE=image/png:https://www.gmender-fasnet.de/wp-content/uploads/2024/04/Huepfer20232024_gezeichnet_grau.png
END:VEVENT
BEGIN:VEVENT
DTSTART;TZID=Europe/Berlin:20241003T190000
DTEND;TZID=Europe/Berlin:20241003T203000
DTSTAMP:20260424T150150
CREATED:20240423T195926Z
LAST-MODIFIED:20240423T201107Z
UID:10000112-1727982000-1727987400@www.gmender-fasnet.de
SUMMARY:Training Prinzengarde
DESCRIPTION:Abweichungen werden von den Trainerinnen bekanntgegeben.
URL:https://www.gmender-fasnet.de/event/training-prinzengarde/2024-10-03/
LOCATION:Schulzentrum Strümpfelbach – Emil-Molt-Saal\, Scheffoldstraße 136\, Schwäbisch Gmünd\, Baden-Württemberg\, 73529\, Deutschland
CATEGORIES:Prinzengarde
ATTACH;FMTTYPE=image/png:https://www.gmender-fasnet.de/wp-content/uploads/2023/08/Trainingswochenende-Prinzengarde.png
END:VEVENT
BEGIN:VEVENT
DTSTART;TZID=Europe/Berlin:20241002T190000
DTEND;TZID=Europe/Berlin:20241002T210000
DTSTAMP:20260424T150150
CREATED:20240423T200407Z
LAST-MODIFIED:20240423T200407Z
UID:10000612-1727895600-1727902800@www.gmender-fasnet.de
SUMMARY:Training Ranzengarde
DESCRIPTION:Änderungen werden von den Trainerinnen bekanntgegeben.
URL:https://www.gmender-fasnet.de/event/training-ranzengarde/2024-10-02/
LOCATION:Schulzentrum Strümpfelbach – Emil-Molt-Saal\, Scheffoldstraße 136\, Schwäbisch Gmünd\, Baden-Württemberg\, 73529\, Deutschland
CATEGORIES:Ranzengarde
ATTACH;FMTTYPE=image/jpeg:https://www.gmender-fasnet.de/wp-content/uploads/2024/04/427939676_704514288526840_8034190604257309771_n.jpg
END:VEVENT
BEGIN:VEVENT
DTSTART;TZID=Europe/Berlin:20241001T190000
DTEND;TZID=Europe/Berlin:20241001T203000
DTSTAMP:20260424T150150
CREATED:20240423T195926Z
LAST-MODIFIED:20240423T201107Z
UID:10000111-1727809200-1727814600@www.gmender-fasnet.de
SUMMARY:Training Prinzengarde
DESCRIPTION:Abweichungen werden von den Trainerinnen bekanntgegeben.
URL:https://www.gmender-fasnet.de/event/training-prinzengarde/2024-10-01/
LOCATION:Schulzentrum Strümpfelbach – Emil-Molt-Saal\, Scheffoldstraße 136\, Schwäbisch Gmünd\, Baden-Württemberg\, 73529\, Deutschland
CATEGORIES:Prinzengarde
ATTACH;FMTTYPE=image/png:https://www.gmender-fasnet.de/wp-content/uploads/2023/08/Trainingswochenende-Prinzengarde.png
END:VEVENT
BEGIN:VEVENT
DTSTART;TZID=Europe/Berlin:20241001T173000
DTEND;TZID=Europe/Berlin:20241001T190000
DTSTAMP:20260424T150150
CREATED:20240423T200949Z
LAST-MODIFIED:20240423T200949Z
UID:10000656-1727803800-1727809200@www.gmender-fasnet.de
SUMMARY:Training Gmünder Hüpfer
DESCRIPTION:Änderungen werden von den Trainerinnen bekanntgegeben.
URL:https://www.gmender-fasnet.de/event/training-gmuender-huepfer/2024-10-01/
LOCATION:Schulzentrum Strümpfelbach – Emil-Molt-Saal\, Scheffoldstraße 136\, Schwäbisch Gmünd\, Baden-Württemberg\, 73529\, Deutschland
CATEGORIES:Gmünder Hüpfer
ATTACH;FMTTYPE=image/png:https://www.gmender-fasnet.de/wp-content/uploads/2024/04/Huepfer20232024_gezeichnet_grau.png
END:VEVENT
BEGIN:VEVENT
DTSTART;TZID=Europe/Berlin:20240926T190000
DTEND;TZID=Europe/Berlin:20240926T203000
DTSTAMP:20260424T150150
CREATED:20240423T195926Z
LAST-MODIFIED:20240423T201107Z
UID:10000110-1727377200-1727382600@www.gmender-fasnet.de
SUMMARY:Training Prinzengarde
DESCRIPTION:Abweichungen werden von den Trainerinnen bekanntgegeben.
URL:https://www.gmender-fasnet.de/event/training-prinzengarde/2024-09-26/
LOCATION:Schulzentrum Strümpfelbach – Emil-Molt-Saal\, Scheffoldstraße 136\, Schwäbisch Gmünd\, Baden-Württemberg\, 73529\, Deutschland
CATEGORIES:Prinzengarde
ATTACH;FMTTYPE=image/png:https://www.gmender-fasnet.de/wp-content/uploads/2023/08/Trainingswochenende-Prinzengarde.png
END:VEVENT
BEGIN:VEVENT
DTSTART;TZID=Europe/Berlin:20240925T190000
DTEND;TZID=Europe/Berlin:20240925T210000
DTSTAMP:20260424T150150
CREATED:20240423T200407Z
LAST-MODIFIED:20240423T200407Z
UID:10000611-1727290800-1727298000@www.gmender-fasnet.de
SUMMARY:Training Ranzengarde
DESCRIPTION:Änderungen werden von den Trainerinnen bekanntgegeben.
URL:https://www.gmender-fasnet.de/event/training-ranzengarde/2024-09-25/
LOCATION:Schulzentrum Strümpfelbach – Emil-Molt-Saal\, Scheffoldstraße 136\, Schwäbisch Gmünd\, Baden-Württemberg\, 73529\, Deutschland
CATEGORIES:Ranzengarde
ATTACH;FMTTYPE=image/jpeg:https://www.gmender-fasnet.de/wp-content/uploads/2024/04/427939676_704514288526840_8034190604257309771_n.jpg
END:VEVENT
BEGIN:VEVENT
DTSTART;TZID=Europe/Berlin:20240924T190000
DTEND;TZID=Europe/Berlin:20240924T203000
DTSTAMP:20260424T150150
CREATED:20240423T195926Z
LAST-MODIFIED:20240423T201107Z
UID:10000109-1727204400-1727209800@www.gmender-fasnet.de
SUMMARY:Training Prinzengarde
DESCRIPTION:Abweichungen werden von den Trainerinnen bekanntgegeben.
URL:https://www.gmender-fasnet.de/event/training-prinzengarde/2024-09-24/
LOCATION:Schulzentrum Strümpfelbach – Emil-Molt-Saal\, Scheffoldstraße 136\, Schwäbisch Gmünd\, Baden-Württemberg\, 73529\, Deutschland
CATEGORIES:Prinzengarde
ATTACH;FMTTYPE=image/png:https://www.gmender-fasnet.de/wp-content/uploads/2023/08/Trainingswochenende-Prinzengarde.png
END:VEVENT
BEGIN:VEVENT
DTSTART;TZID=Europe/Berlin:20240924T173000
DTEND;TZID=Europe/Berlin:20240924T190000
DTSTAMP:20260424T150150
CREATED:20240423T200949Z
LAST-MODIFIED:20240423T200949Z
UID:10000655-1727199000-1727204400@www.gmender-fasnet.de
SUMMARY:Training Gmünder Hüpfer
DESCRIPTION:Änderungen werden von den Trainerinnen bekanntgegeben.
URL:https://www.gmender-fasnet.de/event/training-gmuender-huepfer/2024-09-24/
LOCATION:Schulzentrum Strümpfelbach – Emil-Molt-Saal\, Scheffoldstraße 136\, Schwäbisch Gmünd\, Baden-Württemberg\, 73529\, Deutschland
CATEGORIES:Gmünder Hüpfer
ATTACH;FMTTYPE=image/png:https://www.gmender-fasnet.de/wp-content/uploads/2024/04/Huepfer20232024_gezeichnet_grau.png
END:VEVENT
BEGIN:VEVENT
DTSTART;TZID=Europe/Berlin:20240919T190000
DTEND;TZID=Europe/Berlin:20240919T203000
DTSTAMP:20260424T150150
CREATED:20240423T195926Z
LAST-MODIFIED:20240423T201107Z
UID:10000108-1726772400-1726777800@www.gmender-fasnet.de
SUMMARY:Training Prinzengarde
DESCRIPTION:Abweichungen werden von den Trainerinnen bekanntgegeben.
URL:https://www.gmender-fasnet.de/event/training-prinzengarde/2024-09-19/
LOCATION:Schulzentrum Strümpfelbach – Emil-Molt-Saal\, Scheffoldstraße 136\, Schwäbisch Gmünd\, Baden-Württemberg\, 73529\, Deutschland
CATEGORIES:Prinzengarde
ATTACH;FMTTYPE=image/png:https://www.gmender-fasnet.de/wp-content/uploads/2023/08/Trainingswochenende-Prinzengarde.png
END:VEVENT
BEGIN:VEVENT
DTSTART;TZID=Europe/Berlin:20240918T190000
DTEND;TZID=Europe/Berlin:20240918T210000
DTSTAMP:20260424T150150
CREATED:20240423T200407Z
LAST-MODIFIED:20240423T200407Z
UID:10000610-1726686000-1726693200@www.gmender-fasnet.de
SUMMARY:Training Ranzengarde
DESCRIPTION:Änderungen werden von den Trainerinnen bekanntgegeben.
URL:https://www.gmender-fasnet.de/event/training-ranzengarde/2024-09-18/
LOCATION:Schulzentrum Strümpfelbach – Emil-Molt-Saal\, Scheffoldstraße 136\, Schwäbisch Gmünd\, Baden-Württemberg\, 73529\, Deutschland
CATEGORIES:Ranzengarde
ATTACH;FMTTYPE=image/jpeg:https://www.gmender-fasnet.de/wp-content/uploads/2024/04/427939676_704514288526840_8034190604257309771_n.jpg
END:VEVENT
BEGIN:VEVENT
DTSTART;TZID=Europe/Berlin:20240917T190000
DTEND;TZID=Europe/Berlin:20240917T203000
DTSTAMP:20260424T150150
CREATED:20240423T195926Z
LAST-MODIFIED:20240423T201107Z
UID:10000107-1726599600-1726605000@www.gmender-fasnet.de
SUMMARY:Training Prinzengarde
DESCRIPTION:Abweichungen werden von den Trainerinnen bekanntgegeben.
URL:https://www.gmender-fasnet.de/event/training-prinzengarde/2024-09-17/
LOCATION:Schulzentrum Strümpfelbach – Emil-Molt-Saal\, Scheffoldstraße 136\, Schwäbisch Gmünd\, Baden-Württemberg\, 73529\, Deutschland
CATEGORIES:Prinzengarde
ATTACH;FMTTYPE=image/png:https://www.gmender-fasnet.de/wp-content/uploads/2023/08/Trainingswochenende-Prinzengarde.png
END:VEVENT
BEGIN:VEVENT
DTSTART;TZID=Europe/Berlin:20240917T173000
DTEND;TZID=Europe/Berlin:20240917T190000
DTSTAMP:20260424T150150
CREATED:20240423T200949Z
LAST-MODIFIED:20240423T200949Z
UID:10000654-1726594200-1726599600@www.gmender-fasnet.de
SUMMARY:Training Gmünder Hüpfer
DESCRIPTION:Änderungen werden von den Trainerinnen bekanntgegeben.
URL:https://www.gmender-fasnet.de/event/training-gmuender-huepfer/2024-09-17/
LOCATION:Schulzentrum Strümpfelbach – Emil-Molt-Saal\, Scheffoldstraße 136\, Schwäbisch Gmünd\, Baden-Württemberg\, 73529\, Deutschland
CATEGORIES:Gmünder Hüpfer
ATTACH;FMTTYPE=image/png:https://www.gmender-fasnet.de/wp-content/uploads/2024/04/Huepfer20232024_gezeichnet_grau.png
END:VEVENT
BEGIN:VEVENT
DTSTART;TZID=Europe/Berlin:20240912T190000
DTEND;TZID=Europe/Berlin:20240912T203000
DTSTAMP:20260424T150150
CREATED:20240423T195926Z
LAST-MODIFIED:20240423T201107Z
UID:10000106-1726167600-1726173000@www.gmender-fasnet.de
SUMMARY:Training Prinzengarde
DESCRIPTION:Abweichungen werden von den Trainerinnen bekanntgegeben.
URL:https://www.gmender-fasnet.de/event/training-prinzengarde/2024-09-12/
LOCATION:Schulzentrum Strümpfelbach – Emil-Molt-Saal\, Scheffoldstraße 136\, Schwäbisch Gmünd\, Baden-Württemberg\, 73529\, Deutschland
CATEGORIES:Prinzengarde
ATTACH;FMTTYPE=image/png:https://www.gmender-fasnet.de/wp-content/uploads/2023/08/Trainingswochenende-Prinzengarde.png
END:VEVENT
BEGIN:VEVENT
DTSTART;TZID=Europe/Berlin:20240911T190000
DTEND;TZID=Europe/Berlin:20240911T210000
DTSTAMP:20260424T150150
CREATED:20240423T200407Z
LAST-MODIFIED:20240423T200407Z
UID:10000609-1726081200-1726088400@www.gmender-fasnet.de
SUMMARY:Training Ranzengarde
DESCRIPTION:Änderungen werden von den Trainerinnen bekanntgegeben.
URL:https://www.gmender-fasnet.de/event/training-ranzengarde/2024-09-11/
LOCATION:Schulzentrum Strümpfelbach – Emil-Molt-Saal\, Scheffoldstraße 136\, Schwäbisch Gmünd\, Baden-Württemberg\, 73529\, Deutschland
CATEGORIES:Ranzengarde
ATTACH;FMTTYPE=image/jpeg:https://www.gmender-fasnet.de/wp-content/uploads/2024/04/427939676_704514288526840_8034190604257309771_n.jpg
END:VEVENT
END:VCALENDAR