BEGIN:VCALENDAR
VERSION:2.0
PRODID:-//Gmender Fasnet e.V. - ECPv6.15.20//NONSGML v1.0//EN
CALSCALE:GREGORIAN
METHOD:PUBLISH
X-ORIGINAL-URL:https://www.gmender-fasnet.de
X-WR-CALDESC:Veranstaltungen für Gmender Fasnet e.V.
REFRESH-INTERVAL;VALUE=DURATION:PT1H
X-Robots-Tag:noindex
X-PUBLISHED-TTL:PT1H
BEGIN:VTIMEZONE
TZID:Europe/Berlin
BEGIN:DAYLIGHT
TZOFFSETFROM:+0100
TZOFFSETTO:+0200
TZNAME:CEST
DTSTART:20230326T010000
END:DAYLIGHT
BEGIN:STANDARD
TZOFFSETFROM:+0200
TZOFFSETTO:+0100
TZNAME:CET
DTSTART:20231029T010000
END:STANDARD
BEGIN:DAYLIGHT
TZOFFSETFROM:+0100
TZOFFSETTO:+0200
TZNAME:CEST
DTSTART:20240331T010000
END:DAYLIGHT
BEGIN:STANDARD
TZOFFSETFROM:+0200
TZOFFSETTO:+0100
TZNAME:CET
DTSTART:20241027T010000
END:STANDARD
BEGIN:DAYLIGHT
TZOFFSETFROM:+0100
TZOFFSETTO:+0200
TZNAME:CEST
DTSTART:20250330T010000
END:DAYLIGHT
BEGIN:STANDARD
TZOFFSETFROM:+0200
TZOFFSETTO:+0100
TZNAME:CET
DTSTART:20251026T010000
END:STANDARD
END:VTIMEZONE
BEGIN:VEVENT
DTSTART;TZID=Europe/Berlin:20240121T133000
DTEND;TZID=Europe/Berlin:20240121T180000
DTSTAMP:20260422T210920
CREATED:20231223T181659Z
LAST-MODIFIED:20240110T093331Z
UID:10000025-1705843800-1705860000@www.gmender-fasnet.de
SUMMARY:Fasnachtsumzug - Oberkochen
DESCRIPTION:Laufnummer 10. \nÄnderungen vorbehalten.
URL:https://www.gmender-fasnet.de/event/fasnachtsumzug-oberkochen/
LOCATION:Schwörzhalle Oberkochen\, Aalener Straße 88\, Oberkochen\, Baden-Württemberg\, 73447\, Deutschland
CATEGORIES:Gmünder Hüpfer,Hofstaat,Orga-Team,Prinzengarde,Stöpselgarde,Tanzteufel,Vorstandschaft
ATTACH;FMTTYPE=image/jpeg:https://www.gmender-fasnet.de/wp-content/uploads/2023/12/406639998_757900553046162_3063417892538155902_n.jpg
ORGANIZER;CN="Narrenzunft Oberkochener Schlagga-W%C3%A4scher e.V.":MAILTO:zunftmeister@schlaggawaescher.de
END:VEVENT
END:VCALENDAR