BEGIN:VCALENDAR
VERSION:2.0
PRODID:-//Gmender Fasnet e.V. - ECPv6.15.20//NONSGML v1.0//EN
CALSCALE:GREGORIAN
METHOD:PUBLISH
X-ORIGINAL-URL:https://www.gmender-fasnet.de
X-WR-CALDESC:Veranstaltungen für Gmender Fasnet e.V.
REFRESH-INTERVAL;VALUE=DURATION:PT1H
X-Robots-Tag:noindex
X-PUBLISHED-TTL:PT1H
BEGIN:VTIMEZONE
TZID:Europe/Berlin
BEGIN:DAYLIGHT
TZOFFSETFROM:+0100
TZOFFSETTO:+0200
TZNAME:CEST
DTSTART:20240331T010000
END:DAYLIGHT
BEGIN:STANDARD
TZOFFSETFROM:+0200
TZOFFSETTO:+0100
TZNAME:CET
DTSTART:20241027T010000
END:STANDARD
BEGIN:DAYLIGHT
TZOFFSETFROM:+0100
TZOFFSETTO:+0200
TZNAME:CEST
DTSTART:20250330T010000
END:DAYLIGHT
BEGIN:STANDARD
TZOFFSETFROM:+0200
TZOFFSETTO:+0100
TZNAME:CET
DTSTART:20251026T010000
END:STANDARD
BEGIN:DAYLIGHT
TZOFFSETFROM:+0100
TZOFFSETTO:+0200
TZNAME:CEST
DTSTART:20260329T010000
END:DAYLIGHT
BEGIN:STANDARD
TZOFFSETFROM:+0200
TZOFFSETTO:+0100
TZNAME:CET
DTSTART:20261025T010000
END:STANDARD
END:VTIMEZONE
BEGIN:VEVENT
DTSTART;TZID=Europe/Berlin:20250209T133000
DTEND;TZID=Europe/Berlin:20250209T170000
DTSTAMP:20260422T162740
CREATED:20241123T145515Z
LAST-MODIFIED:20250112T144344Z
UID:10000826-1739107800-1739120400@www.gmender-fasnet.de
SUMMARY:Faschingsumzug Röhlingen 2025 - Röhlinger Sechtanarren e.V.
DESCRIPTION:Änderungen vorbehalten!
URL:https://www.gmender-fasnet.de/event/faschingsumzug-roehlingen-2025-roehlinger-sechtanarren-e-v/
LOCATION:Sechtahalle Röhlingen\, Kliingerstr. 17\, Ellwangen (Jagst)\, Baden-Württemberg\, 73479\, Germany
CATEGORIES:Gmünder Hüpfer,Hofstaat,Orga-Team,Prinzengarde,Stöpselgarde,Tanzteufel,Vorstandschaft
ATTACH;FMTTYPE=image/jpeg:https://www.gmender-fasnet.de/wp-content/uploads/2024/11/462087802_1093009632827014_1272159265855841654_n.jpg
ORGANIZER;CN="R%C3%B6hlinger Sechtanarren e.V.":MAILTO:info@roesena.de
END:VEVENT
END:VCALENDAR