BEGIN:VCALENDAR
VERSION:2.0
PRODID:-//Gmender Fasnet e.V. - ECPv6.15.20//NONSGML v1.0//EN
CALSCALE:GREGORIAN
METHOD:PUBLISH
X-WR-CALNAME:Gmender Fasnet e.V.
X-ORIGINAL-URL:https://www.gmender-fasnet.de
X-WR-CALDESC:Veranstaltungen für Gmender Fasnet e.V.
REFRESH-INTERVAL;VALUE=DURATION:PT1H
X-Robots-Tag:noindex
X-PUBLISHED-TTL:PT1H
BEGIN:VTIMEZONE
TZID:Europe/Berlin
BEGIN:DAYLIGHT
TZOFFSETFROM:+0100
TZOFFSETTO:+0200
TZNAME:CEST
DTSTART:20230326T010000
END:DAYLIGHT
BEGIN:STANDARD
TZOFFSETFROM:+0200
TZOFFSETTO:+0100
TZNAME:CET
DTSTART:20231029T010000
END:STANDARD
BEGIN:DAYLIGHT
TZOFFSETFROM:+0100
TZOFFSETTO:+0200
TZNAME:CEST
DTSTART:20240331T010000
END:DAYLIGHT
BEGIN:STANDARD
TZOFFSETFROM:+0200
TZOFFSETTO:+0100
TZNAME:CET
DTSTART:20241027T010000
END:STANDARD
BEGIN:DAYLIGHT
TZOFFSETFROM:+0100
TZOFFSETTO:+0200
TZNAME:CEST
DTSTART:20250330T010000
END:DAYLIGHT
BEGIN:STANDARD
TZOFFSETFROM:+0200
TZOFFSETTO:+0100
TZNAME:CET
DTSTART:20251026T010000
END:STANDARD
BEGIN:DAYLIGHT
TZOFFSETFROM:+0100
TZOFFSETTO:+0200
TZNAME:CEST
DTSTART:20260329T010000
END:DAYLIGHT
BEGIN:STANDARD
TZOFFSETFROM:+0200
TZOFFSETTO:+0100
TZNAME:CET
DTSTART:20261025T010000
END:STANDARD
BEGIN:DAYLIGHT
TZOFFSETFROM:+0100
TZOFFSETTO:+0200
TZNAME:CEST
DTSTART:20270328T010000
END:DAYLIGHT
BEGIN:STANDARD
TZOFFSETFROM:+0200
TZOFFSETTO:+0100
TZNAME:CET
DTSTART:20271031T010000
END:STANDARD
END:VTIMEZONE
BEGIN:VEVENT
DTSTART;TZID=Europe/Berlin:20260215T090000
DTEND;TZID=Europe/Berlin:20260215T110000
DTSTAMP:20260422T212315
CREATED:20260121T200847Z
LAST-MODIFIED:20260121T200847Z
UID:10000895-1771146000-1771153200@www.gmender-fasnet.de
SUMMARY:Narrenmesse - 1. Gmünder Narrenzunft Hölltalschütz e.V.
DESCRIPTION:Auftritt der Stöpselgarde \nÄnderungen vorbehalten.
URL:https://www.gmender-fasnet.de/event/narrenmesse-1-gmuender-narrenzunft-hoelltalschuetz-e-v/
LOCATION:St. Michael\, Pfarrer-Haug-Straße 21\, Schwäbisch Gmünd\, Baden-Württemberg\, 73529\, Deutschland
CATEGORIES:Hofstaat,Orga-Team,Stöpselgarde,Vorstandschaft
ATTACH;FMTTYPE=image/png:https://www.gmender-fasnet.de/wp-content/uploads/2023/12/Narrenmesse.png
ORGANIZER;CN="1. Gm%C3%BCnder Narrenzunft H%C3%B6lltalsch%C3%BCtz e.V.":MAILTO:info@hoelltalschuetz.de
END:VEVENT
BEGIN:VEVENT
DTSTART;TZID=Europe/Berlin:20250302T100000
DTEND;TZID=Europe/Berlin:20250302T120000
DTSTAMP:20260422T212315
CREATED:20250118T220918Z
LAST-MODIFIED:20260121T194945Z
UID:10000849-1740909600-1740916800@www.gmender-fasnet.de
SUMMARY:Narrenmesse
DESCRIPTION:Auftritt der Stöpselgarde \nÄnderungen vorbehalten!
URL:https://www.gmender-fasnet.de/event/narrenmesse-2/
LOCATION:St. Michael\, Pfarrer-Haug-Straße 21\, Schwäbisch Gmünd\, Baden-Württemberg\, 73529\, Deutschland
CATEGORIES:Alle Mitglieder,Glitzerla,Gmünder Hüpfer,Hofstaat,Orga-Team,Prinzengarde,Ranzengarde,Silberfunken und Silberschmiede,Silberglöckle,Stöpselgarde,Tanzteufel,Vorstandschaft
ATTACH;FMTTYPE=image/png:https://www.gmender-fasnet.de/wp-content/uploads/2023/12/Narrenmesse.png
ORGANIZER;CN="1. Gm%C3%BCnder Narrenzunft H%C3%B6lltalsch%C3%BCtz e.V.":MAILTO:info@hoelltalschuetz.de
END:VEVENT
BEGIN:VEVENT
DTSTART;TZID=Europe/Berlin:20240211T103000
DTEND;TZID=Europe/Berlin:20240211T120000
DTSTAMP:20260422T212315
CREATED:20231224T151406Z
LAST-MODIFIED:20240120T134134Z
UID:10000036-1707647400-1707652800@www.gmender-fasnet.de
SUMMARY:Narrenmesse
DESCRIPTION:Änderungen vorbehalten.
URL:https://www.gmender-fasnet.de/event/narrenmesse/
LOCATION:St. Michael\, Pfarrer-Haug-Straße 21\, Schwäbisch Gmünd\, Baden-Württemberg\, 73529\, Deutschland
CATEGORIES:Glitzerla,Gmünder Hüpfer,Hofstaat,Orga-Team,Stöpselgarde,Tanzteufel,Vorstandschaft
ATTACH;FMTTYPE=image/png:https://www.gmender-fasnet.de/wp-content/uploads/2023/12/Narrenmesse.png
ORGANIZER;CN="1. Gm%C3%BCnder Narrenzunft H%C3%B6lltalsch%C3%BCtz e.V.":MAILTO:info@hoelltalschuetz.de
END:VEVENT
END:VCALENDAR