BEGIN:VCALENDAR
VERSION:2.0
PRODID:-//Gmender Fasnet e.V. - ECPv6.15.20//NONSGML v1.0//EN
CALSCALE:GREGORIAN
METHOD:PUBLISH
X-ORIGINAL-URL:https://www.gmender-fasnet.de
X-WR-CALDESC:Veranstaltungen für Gmender Fasnet e.V.
REFRESH-INTERVAL;VALUE=DURATION:PT1H
X-Robots-Tag:noindex
X-PUBLISHED-TTL:PT1H
BEGIN:VTIMEZONE
TZID:Europe/Berlin
BEGIN:DAYLIGHT
TZOFFSETFROM:+0100
TZOFFSETTO:+0200
TZNAME:CEST
DTSTART:20230326T010000
END:DAYLIGHT
BEGIN:STANDARD
TZOFFSETFROM:+0200
TZOFFSETTO:+0100
TZNAME:CET
DTSTART:20231029T010000
END:STANDARD
BEGIN:DAYLIGHT
TZOFFSETFROM:+0100
TZOFFSETTO:+0200
TZNAME:CEST
DTSTART:20240331T010000
END:DAYLIGHT
BEGIN:STANDARD
TZOFFSETFROM:+0200
TZOFFSETTO:+0100
TZNAME:CET
DTSTART:20241027T010000
END:STANDARD
BEGIN:DAYLIGHT
TZOFFSETFROM:+0100
TZOFFSETTO:+0200
TZNAME:CEST
DTSTART:20250330T010000
END:DAYLIGHT
BEGIN:STANDARD
TZOFFSETFROM:+0200
TZOFFSETTO:+0100
TZNAME:CET
DTSTART:20251026T010000
END:STANDARD
END:VTIMEZONE
BEGIN:VEVENT
DTSTART;TZID=Europe/Berlin:20240107T093000
DTEND;TZID=Europe/Berlin:20240107T180000
DTSTAMP:20260422T181918
CREATED:20231223T174229Z
LAST-MODIFIED:20240101T135357Z
UID:10000020-1704619800-1704650400@www.gmender-fasnet.de
SUMMARY:Ostalb-Gardetreffen - Aalen
DESCRIPTION:Auftritte der Glitzerla\, Stöpselgarde\, Tanzteufel\, Gmünder Hüpfer und Prinzengarde. \n12:25 Uhr Gmünder Hüpfer\nStartnummer 34 \n13:00 Uhr Tanzteufel\nStartnummer 41 \n13:35 Uhr Glitzerla\nStartnummer 48 \n14:20 Uhr Stöpselgarde\nStartnummer 57 \n14:45 Uhr Prinzengarde\nStartnummer 62 \nÄnderungen vorbehalten.
URL:https://www.gmender-fasnet.de/event/ostalb-gardetreffen-aalen/
LOCATION:Ulrich-Pfeifle-Halle\, Parkstraße 15\, Aalen\, Baden-Württemberg\, 73430\, Deutschland
CATEGORIES:Glitzerla,Gmünder Hüpfer,Hofstaat,Orga-Team,Prinzengarde,Stöpselgarde,Tanzteufel,Vorstandschaft
ATTACH;FMTTYPE=image/png:https://www.gmender-fasnet.de/wp-content/uploads/2023/12/Bildschirmfoto-2023-12-23-um-18.41.30.png
ORGANIZER;CN="Sauerbachnarren - TSG Hofhernnweiler-Unterrombach 1899 e.V.":MAILTO:geschaeftstelle@tsg-hofhernnweiler.de
END:VEVENT
END:VCALENDAR